{"text_format":"2","workbook":"xlsx","n_sheets":6,"sheets":["Resumo","Almoxarife - Montes Claros","Supervisor - Montes Claros","Almoxarife - Nova Porteirinha","Almoxarife - Três Marias","Uniformes"],"not_rendered":{"charts":0,"images":1,"macros":0,"external_links":0,"defined_names":6,"comments":0,"pivot_tables":0},"unopened":[],"bounds":{"document_bytes":16777216,"sheet_cells":100000,"run_cost":"one","rows_first":2000,"rows_last":500,"rows_between":2000,"halvings":0,"cell_chars":16384,"cell_head_chars":4096},"cells_cut":0,"cells_raw":0,"read":"whole","date_system":"1900"}

{"sheet":"Resumo","index":0,"n_rows":10,"n_cols":6,"rows_kept":10,"cut":false,"hidden":false,"merged":[[0,1,0,5],[1,1,1,5],[11,1,11,5],[13,3,13,4],[7,1,7,3],[9,1,9,5],[8,1,8,4]]}
[" 1ª Superintendência Regional – Montes Claros / MG"," PROCESSO ADM. N° 59510.002092/2021-98"]
[null,"Planilha resumo de valores"]
[null,"CATEGORIA","Qtde de Postos","Valor Unitário","Valor Mensal","Valor Anual"]
[null,"Montes Claros - almoxarife",4,{"$f":"'Almoxarife - Montes Claros'!J118","v":4898.79},{"$f":"(C4*D4)","v":19595.16},{"$f":"(E4*12)","v":235141.91999999998}]
[null,"Montes Claros - Supervisor",1,{"$f":"'Supervisor - Montes Claros'!J119","v":6498.5},{"$f":"(C5*D5)","v":6498.5},{"$f":"(E5*12)","v":77982}]
[null,"Nova Porteirinha -  almoxarife",3,{"$f":"'Almoxarife - Nova Porteirinha'!J119","v":4616.4399999999996},13849.32,166191.84]
[null,"Três Marias - almoxarife",2,{"$f":"'Almoxarife - Três Marias'!J118","v":4947.13},9894.26,118731.12]
[null,"Subtotal: ",null,null,{"$f":"SUM(E4:E7)","v":49837.24},{"$f":"SUM(F4:F7)","v":598046.88}]
[null,"Total",null,null,null,{"$f":"F8","v":598046.88}]
[null,"Declarações:"]

{"sheet":"Almoxarife - Montes Claros","index":1,"n_rows":118,"n_cols":10,"rows_kept":118,"cut":false,"hidden":false,"merged":[[0,1,0,9],[1,2,1,8],[2,2,2,8],[9,1,9,9],[10,2,10,8],[11,2,11,8],[12,2,12,8],[13,2,13,8],[14,2,14,8],[3,2,3,8],[5,1,5,9],[6,1,6,2],[6,3,6,4],[6,5,6,9],[7,1,7,2],[7,3,7,4],[7,5,7,9],[21,2,21,7],[22,2,22,7],[23,2,23,7],[24,1,24,8],[26,1,26,9],[15,1,15,9],[16,1,16,9],[17,2,17,7],[18,2,18,7],[19,2,19,7],[20,2,20,7],[33,2,33,7],[34,2,34,7],[35,2,35,7],[36,2,36,7],[37,2,37,7],[38,2,38,7],[27,1,27,7],[28,2,28,7],[29,2,29,7],[30,1,30,7],[31,1,31,9],[32,1,32,7],[45,2,45,7],[46,2,46,7],[47,2,47,7],[48,2,48,7],[39,2,39,7],[40,2,40,7],[41,1,41,7],[42,1,42,9],[43,1,43,7],[44,2,44,7],[54,2,54,8],[55,2,55,8],[56,2,56,8],[57,1,57,8],[58,1,58,9],[59,1,59,9],[49,2,49,7],[50,1,50,8],[51,1,51,9],[52,1,52,9],[53,1,53,8],[66,2,66,7],[67,1,67,7],[68,1,68,9],[69,1,69,9],[70,1,70,7],[71,2,71,7],[60,2,60,7],[61,2,61,7],[62,2,62,7],[63,2,63,7],[64,2,64,7],[65,2,65,7],[78,1,78,9],[79,1,79,7],[80,2,80,7],[81,1,81,7],[82,1,82,9],[83,1,83,9],[72,2,72,7],[73,2,73,7],[74,2,74,7],[75,2,75,7],[76,2,76,7],[77,1,77,7],[90,2,90,7],[91,2,91,7],[92,2,92,7],[93,2,93,7],[94,2,94,7],[95,1,95,7],[84,1,84,8],[85,2,85,8],[86,2,86,8],[87,1,87,8],[88,1,88,9],[89,1,89,9],[102,2,102,7],[103,2,103,7],[104,2,104,7],[105,1,105,7],[106,2,106,9],[108,1,108,9],[96,1,96,9],[97,1,97,9],[98,2,98,7],[99,2,99,7],[100,2,100,7],[101,2,101,4],[101,5,101,6],[115,2,115,8],[116,2,116,8],[117,1,117,8],[109,1,109,8],[110,2,110,8],[111,2,111,8],[112,2,112,8],[113,2,113,8],[114,2,114,8]]}
[" 1ª Superintendência Regional – Montes Claros / MG","Discriminação dos Serviços"]
[null,"B","Município",{"$nulls":6},"Montes Claros/MG"]
[null,"C","Ano do Acordo, Convenção ou Dissídio Coletivo",{"$nulls":6},2021]
[null,"D","Nº de meses de execução contratual",{"$nulls":6},12]
[]
[null,"Identificação do Serviço"]
[null,"Tipo de Serviço",null,"Unidade de Medida",null,"Quantidade total a contratar "]
[null,"ALMOXARIFE",null,"SERVIÇO ",null,4]
[]
[null,"Dados para composição dos custos referentes à mão-de-obra"]
[null,1,"Tipo de serviço (mesmo serviço com características distintas)",{"$nulls":6},{"$f":"B8","v":"ALMOXARIFE"}]
[null,2,"Classificação Brasileira de Ocupações (CBO)",{"$nulls":6},"4141-05"]
[null,3,"Salário Nominativo da Categoria Profissional",{"$nulls":6},1709.47]
[null,4,"Categoria profissional (vinculada à execução contratual)",{"$nulls":6},"ALMOXARIFE"]
[null,5,"Data base da categoria (dia/mês/ano)",{"$nulls":6},"2021-01-01"]
[]
[null,"MÓDULO 1 - COMPOSIÇÃO DA REMUNERAÇÃO"]
[null,1,"COMPOSIÇÃO DA REMUNERAÇÃO",{"$nulls":5},"%","VALOR (R$)"]
[null,"A","Salário Base",{"$nulls":6},{"$f":"J13","v":1709.47}]
[null,"B","Adicional Periculosidade ",{"$nulls":6},0]
[null,"C","Adicional Insalubridade",{"$nulls":6},{"$f":"I21*J19","v":0}]
[null,"D","Adicional Noturno",{"$nulls":6},0]
[null,"E","Adicional de Hora Noturna Reduzida",{"$nulls":6},0]
[null,"F","Outros (especificar)",{"$nulls":6},0]
[null,"TOTAL DO MÓDULO 1",{"$nulls":7},{"$f":"TRUNC(SUM(J19:J24),2)","v":1709.47}]
[]
[null,"MÓDULO 2 – ENCARGOS E BENEFÍCIOS ANUAIS, MENSAIS E DIÁRIOS"]
[null,"Submódulo 2.1 - 13º Salário, Férias e Adicional de Férias",{"$nulls":6},"%","VALOR (R$)"]
[null,"A","13 (Décimo-terceiro) salário ",{"$nulls":5},8.3299999999999999E-2,{"$f":"I29*J25","v":142.39885100000001}]
[null,"B","Férias e Adicional de Férias",{"$nulls":5},0.121,{"$f":"I30*J25","v":206.84586999999999}]
[null,"TOTAL SUBMÓDULO 2.1",{"$nulls":6},{"$f":"TRUNC(SUM(I29:I30),4)","v":0.20430000000000001},{"$f":"TRUNC(SUM(J29:J30),2)","v":349.24}]
[]
[null,"Submódulo 2.2 - GPS, FGTS e Outras Contribuições",{"$nulls":6},"%","VALOR (R$)"]
[null,"A","INSS ",{"$nulls":5},0.2,{"$f":"I34*$J$25","v":341.89400000000001}]
[null,"B","Salário Educação ",{"$nulls":5},2.5000000000000001E-2,{"$f":"I35*$J$25","v":42.736750000000001}]
[null,"C","SAT",{"$nulls":5},0.03,51.284100000000002]
[null,"D","SESC ou SESI",{"$nulls":5},1.4999999999999999E-2,25.642050000000001]
[null,"E","SENAI - SENAC ",{"$nulls":5},0.01,17.0947]
[null,"F","SEBRAE ",{"$nulls":5},6.0000000000000001E-3,10.256820000000001]
[null,"G","INCRA ",{"$nulls":5},2E-3,3.4189400000000001]
[null,"H","FGTS ",{"$nulls":5},0.08,136.7576]
[null,"TOTAL SUBMÓDULO 2.2",{"$nulls":6},{"$f":"SUM(I34:I41)","v":0.36800000000000005},{"$f":"TRUNC(SUM(J34:J41),2)","v":629.08000000000004}]
[]
[null,"Submódulo 2.3 - Benefícios Mensais e Diários",{"$nulls":7},"VALOR (R$)"]
[null,"A","Transporte ",{"$nulls":5},"-",{"$f":"((3.2*4)*22)-(6%*J25)","v":179.03180000000003}]
[null,"B","Auxílio-Refeição/Alimentação ",{"$nulls":5},"-",{"$f":"22.28*22*80%","v":392.12800000000004}]
[null,"C","Seguro de vida",{"$nulls":5},"-",10]
[null,"D","Auxílio Saúde - PAF",{"$nulls":5},"-",37.229999999999997]
[null,"E","Contribuição Assistencial Patronal",{"$nulls":5},"-",11.19]
[null,"F","Outros (especificar)",{"$nulls":5},"-"]
[null,"TOTAL SUBMÓDULO 2.3",{"$nulls":7},{"$f":"TRUNC(SUM(J45:J50),2)","v":629.57000000000005}]
[]
[null,"QUADRO-RESUMO DO MÓDULO 2 - ENCARGOS, BENEFÍCIOS ANUAIS, MENSAIS E DIÁRIOS"]
[null,"Módulo 2 - Encargos, Benefícios Anuais, Mensais e Diários",{"$nulls":7},"VALOR (R$)"]
[null,"2.1","13º Salário, Férias e Adicional de Férias",{"$nulls":6},{"$f":"J31","v":349.24}]
[null,"2.2","GPS, FGTS e Outras Contribuições",{"$nulls":6},{"$f":"J42","v":629.08000000000004}]
[null,"2.3","Benefícios Mensais e Diários",{"$nulls":6},{"$f":"J51","v":629.57000000000005}]
[null,"TOTAL DO MÓDULO 2",{"$nulls":7},{"$f":"TRUNC(SUM(J55:J57),2)","v":1607.89}]
[]
[null,"MÓDULO 3 – PROVISÃO PARA RESCISÃO"]
[null,3,"PROVISÃO PARA RESCISÃO",{"$nulls":5},"%","VALOR (R$)"]
[null,"A","Aviso Prévio Indenizado",{"$nulls":5},2.8400000000000002E-2,{"$f":"I62*$J$25","v":48.548948000000003}]
[null,"B","Incidência do FGTS sobre Aviso Prévio Indenizado",{"$nulls":5},{"$f":"0.08*I62","v":2.2720000000000001E-3},3.8839158400000002]
[null,"C","Multa do FGTS e Contribuição Social sobre o Aviso Prévio Indenizado",{"$nulls":5},0.05,85.473500000000001]
[null,"D","Aviso Prévio Trabalhado ",{"$nulls":5},0.01,17.0947]
[null,"E","Incidência dos encargos do submódulo 2.2 sobre Aviso Prévio Trabalhado",{"$nulls":5},{"$f":"I42*I65","v":3.6800000000000005E-3},6.2908496000000014]
[null,"F","Multa do FGTS e Contribuição Social sobre o Aviso Prévio Trabalhado. ",{"$nulls":5},0.05,85.473500000000001]
[null,"TOTAL DO MÓDULO 3",{"$nulls":6},{"$f":"TRUNC(SUM(I62:I67),4)","v":0.14430000000000001},{"$f":"TRUNC(SUM(J62:J67),2)","v":246.76}]
[]
[null,"MÓDULO 4 – CUSTO DE REPOSIÇÃO DO PROFISSIONAL AUSENTE"]
[null,"Submódulo 4.1 - Ausências Legais",{"$nulls":6},"%","VALOR (R$)"]
[null,"A","Férias ",{"$nulls":5},8.3299999999999999E-2,{"$f":"I72*$J$25","v":142.39885100000001}]
[null,"B","Ausências Legais",{"$nulls":5},2.5000000000000001E-2,{"$f":"I73*$J$25","v":42.736750000000001}]
[null,"C","Licença Paternidade",{"$nulls":5},2.5000000000000001E-2,{"$f":"I74*$J$25","v":42.736750000000001}]
[null,"D","Ausência por Acidente de Trabalho ",{"$nulls":5},0.02,{"$f":"I75*$J$25","v":34.189399999999999}]
[null,"E","Afastamento Maternidade",{"$nulls":5},0.03,{"$f":"I76*$J$25","v":51.284100000000002}]
[null,"F","Outros (especificar)"]
[null,"TOTAL SUBMÓDULO 4.1",{"$nulls":7},{"$f":"TRUNC(SUM(J72:J77),2)","v":313.33999999999997}]
[]
[null,"Submódulo 4.2 - Intrajornada",{"$nulls":6},"%","VALOR (R$)"]
[null,"A","Intervalo para Repouso ou Alimentação",{"$nulls":5},0,{"$f":"$J$25*I81","v":0}]
[null,"TOTAL SUBMÓDULO 4.2",{"$nulls":6},{"$f":"TRUNC(SUM(I81),4)","v":0},{"$f":"TRUNC(SUM(J81),2)","v":0}]
[]
[null,"QUADRO-RESUMO DO MÓDULO 4 - CUSTO DE REPOSIÇÃO DO PROFISSIONAL AUSENTE"]
[null,"Módulo 4 - Custo de Reposição do Profissional Ausente",{"$nulls":7},"VALOR (R$)"]
[null,"4.1","Ausências Legais",{"$nulls":6},{"$f":"J78","v":313.33999999999997}]
[null,"4.2","Intrajornada",{"$nulls":6},{"$f":"J82","v":0}]
[null,"TOTAL DO MÓDULO 4",{"$nulls":7},{"$f":"TRUNC(SUM(J86:J87),2)","v":313.33999999999997}]
[]
[null,"MÓDULO 5 – INSUMOS DIVERSOS"]
[null,5,"INSUMOS DIVERSOS",{"$nulls":6},"VALOR (R$)"]
[null,"A","Uniformes ",{"$nulls":5},"-",{"$f":"Uniformes!E5","v":32.14}]
[null,"B","Materiais (mensal + quadrimestral + utensilios)",{"$nulls":5},"-","-"]
[null,"C","Equipamentos (EQUIPAMENTOS DE LIMPEZA)",{"$nulls":5},"-",0]
[null,"D","Outros (CRACHÁS)",{"$nulls":5},"-",0]
[null,"TOTAL DO MÓDULO 5",{"$nulls":6},"-",{"$f":"SUM(J92:J95)","v":32.14}]
[]
[null,"MÓDULO 6 – CUSTOS INDIRETOS, TRIBUTOS E LUCRO"]
[null,6,"CUSTOS INDIRETOS, TRIBUTOS E LUCRO",{"$nulls":5},"%","VALOR (R$)"]
[null,"A","Custos Indiretos",{"$nulls":5},0.03,{"$f":"TRUNC(I100*J116,2)","v":117.28}]
[null,"B","Lucro",{"$nulls":5},6.7500000000000004E-2,{"$f":"TRUNC(I101*(J100+J116),2)","v":271.81}]
[null,"C","TRIBUTOS",null,null,"Base Cálculo",null,{"$f":"ROUND((J116+J100+J101)/(1-I102),2)","v":4898.79},{"$f":"I103+I104+I105","v":0.1225},{"$f":"H102*I102","v":600.10177499999998}]
[null,"C.1","PIS ",{"$nulls":5},1.6500000000000001E-2,{"$f":"H102*I103","v":80.830035000000009}]
[null,"C.2","COFINS ",{"$nulls":5},7.5999999999999998E-2,{"$f":"H102*I104","v":372.30804000000001}]
[null,"C.3","ISSQN",{"$nulls":5},0.03,{"$f":"H102*I105","v":146.96369999999999}]
[null,"TOTAL DO MÓDULO 6",{"$nulls":7},{"$f":"J100+J101+J102","v":989.19177500000001}]
[]
[]
[null,"QUADRO RESUMO DO CUSTO POR EMPREGADO"]
[null,"Mão-de-Obra vinculada à execução contratual (valor por empregado)",{"$nulls":7},"VALOR (R$)"]
[null,"A",{"$f":"B17","v":"MÓDULO 1 - COMPOSIÇÃO DA REMUNERAÇÃO"},{"$nulls":6},{"$f":"J25","v":1709.47}]
[null,"B",{"$f":"B27","v":"MÓDULO 2 – ENCARGOS E BENEFÍCIOS ANUAIS, MENSAIS E DIÁRIOS"},{"$nulls":6},{"$f":"J58","v":1607.89}]
[null,"C",{"$f":"B60","v":"MÓDULO 3 – PROVISÃO PARA RESCISÃO"},{"$nulls":6},{"$f":"J68","v":246.76}]
[null,"D",{"$f":"B70","v":"MÓDULO 4 – CUSTO DE REPOSIÇÃO DO PROFISSIONAL AUSENTE"},{"$nulls":6},{"$f":"J88","v":313.33999999999997}]
[null,"E",{"$f":"B90","v":"MÓDULO 5 – INSUMOS DIVERSOS"},{"$nulls":6},{"$f":"J96","v":32.14}]
[null,null,"Subtotal (A + B + C + D + E)",{"$nulls":6},{"$f":"TRUNC(SUM(J111:J115),2)","v":3909.6}]
[null,"F",{"$f":"B98","v":"MÓDULO 6 – CUSTOS INDIRETOS, TRIBUTOS E LUCRO"},{"$nulls":6},{"$f":"J106","v":989.19177500000001}]
[null,"PREÇO TOTAL POR EMPREGADO",{"$nulls":7},{"$f":"TRUNC(SUM(J116:J117),2)","v":4898.79}]

{"sheet":"Supervisor - Montes Claros","index":2,"n_rows":119,"n_cols":10,"rows_kept":119,"cut":false,"hidden":false,"merged":[[116,2,116,8],[117,2,117,8],[118,1,118,8],[110,1,110,8],[111,2,111,8],[112,2,112,8],[113,2,113,8],[114,2,114,8],[115,2,115,8],[103,2,103,7],[104,2,104,7],[105,2,105,7],[106,1,106,7],[107,2,107,9],[109,1,109,9],[97,1,97,9],[98,1,98,9],[99,2,99,7],[100,2,100,7],[101,2,101,7],[102,2,102,4],[102,5,102,6],[91,2,91,7],[92,2,92,7],[93,2,93,7],[94,2,94,7],[95,2,95,7],[96,1,96,7],[85,1,85,8],[86,2,86,8],[87,2,87,8],[88,1,88,8],[89,1,89,9],[90,1,90,9],[79,1,79,9],[80,1,80,7],[81,2,81,7],[82,1,82,7],[83,1,83,9],[84,1,84,9],[73,2,73,7],[74,2,74,7],[75,2,75,7],[76,2,76,7],[77,2,77,7],[78,1,78,7],[67,2,67,7],[68,1,68,7],[69,1,69,9],[70,1,70,9],[71,1,71,7],[72,2,72,7],[61,2,61,7],[62,2,62,7],[63,2,63,7],[64,2,64,7],[65,2,65,7],[66,2,66,7],[55,2,55,8],[56,2,56,8],[57,2,57,8],[58,1,58,8],[59,1,59,9],[60,1,60,9],[49,2,49,7],[50,2,50,7],[51,1,51,8],[52,1,52,9],[53,1,53,9],[54,1,54,8],[43,1,43,9],[44,1,44,7],[45,2,45,7],[46,2,46,7],[47,2,47,7],[48,2,48,7],[37,2,37,7],[38,2,38,7],[39,2,39,7],[40,2,40,7],[41,2,41,7],[42,1,42,7],[31,1,31,7],[32,1,32,9],[33,1,33,7],[34,2,34,7],[35,2,35,7],[36,2,36,7],[24,2,24,7],[25,1,25,8],[27,1,27,9],[28,1,28,7],[29,2,29,7],[30,2,30,7],[18,2,18,7],[19,2,19,7],[20,2,20,7],[21,2,21,7],[22,2,22,7],[23,2,23,7],[12,2,12,8],[13,2,13,8],[14,2,14,8],[15,1,15,9],[16,1,16,9],[17,2,17,7],[7,1,7,2],[7,3,7,4],[7,5,7,9],[9,1,9,9],[10,2,10,8],[11,2,11,8],[0,1,0,9],[1,2,1,8],[2,2,2,8],[3,2,3,8],[5,1,5,9],[6,1,6,2],[6,3,6,4],[6,5,6,9]]}
[" 1ª Superintendência Regional – Montes Claros / MG","Discriminação dos Serviços"]
[null,"B","Município",{"$nulls":6},"Montes Claros/MG"]
[null,"C","Ano do Acordo, Convenção ou Dissídio Coletivo",{"$nulls":6},2021]
[null,"D","Nº de meses de execução contratual",{"$nulls":6},12]
[]
[null,"Identificação do Serviço"]
[null,"Tipo de Serviço",null,"Unidade de Medida",null,"Quantidade total a contratar "]
[null,"SUPERVISOR",null,"SERVIÇO ",null,1]
[]
[null,"Dados para composição dos custos referentes à mão-de-obra"]
[null,1,"Tipo de serviço (mesmo serviço com características distintas)",{"$nulls":6},"Supervisor"]
[null,2,"Classificação Brasileira de Ocupações (CBO)",{"$nulls":6},5103]
[null,3,"Salário Nominativo da Categoria Profissional",{"$nulls":6},2381.4299999999998]
[null,4,"Categoria profissional (vinculada à execução contratual)",{"$nulls":6},"Supervisor"]
[null,5,"Data base da categoria (dia/mês/ano)",{"$nulls":6},"2021-01-01"]
[]
[null,"MÓDULO 1 - COMPOSIÇÃO DA REMUNERAÇÃO"]
[null,1,"COMPOSIÇÃO DA REMUNERAÇÃO",{"$nulls":5},"%","VALOR (R$)"]
[null,"A","Salário Base",{"$nulls":6},{"$f":"J13","v":2381.4299999999998}]
[null,"B","Adicional Periculosidade ",{"$nulls":6},0]
[null,"C","Adicional Insalubridade",{"$nulls":6},{"$f":"I21*J19","v":0}]
[null,"D","Adicional Noturno",{"$nulls":6},0]
[null,"E","Adicional de Hora Noturna Reduzida",{"$nulls":6},0]
[{"$nulls":9},0]
[null,"G","Outros (especificar)",{"$nulls":6},0]
[null,"TOTAL DO MÓDULO 1",{"$nulls":7},{"$f":"TRUNC(SUM(J19:J25),2)","v":2381.4299999999998}]
[]
[null,"MÓDULO 2 – ENCARGOS E BENEFÍCIOS ANUAIS, MENSAIS E DIÁRIOS"]
[null,"Submódulo 2.1 - 13º Salário, Férias e Adicional de Férias",{"$nulls":6},"%","VALOR (R$)"]
[null,"A","13 (Décimo-terceiro) salário ",{"$nulls":5},8.3299999999999999E-2,{"$f":"I30*J26","v":198.37311899999997}]
[null,"B","Férias e Adicional de Férias",{"$nulls":5},0.121,{"$f":"I31*J26","v":288.15302999999994}]
[null,"TOTAL SUBMÓDULO 2.1",{"$nulls":6},{"$f":"TRUNC(SUM(I30:I31),4)","v":0.20430000000000001},{"$f":"TRUNC(SUM(J30:J31),2)","v":486.52}]
[]
[null,"Submódulo 2.2 - GPS, FGTS e Outras Contribuições",{"$nulls":6},"%","VALOR (R$)"]
[null,"A","INSS ",{"$nulls":5},0.2,{"$f":"I35*$J$26","v":476.286}]
[null,"B","Salário Educação ",{"$nulls":5},2.5000000000000001E-2,{"$f":"I36*$J$26","v":59.53575}]
[null,"C","SAT",{"$nulls":5},0.03,71.442899999999995]
[null,"D","SESC ou SESI",{"$nulls":5},1.4999999999999999E-2,35.721449999999997]
[null,"E","SENAI - SENAC ",{"$nulls":5},0.01,23.814299999999999]
[null,"F","SEBRAE ",{"$nulls":5},6.0000000000000001E-3,14.28858]
[null,"G","INCRA ",{"$nulls":5},2E-3,4.7628599999999999]
[null,"H","FGTS ",{"$nulls":5},0.08,190.51439999999999]
[null,"TOTAL SUBMÓDULO 2.2",{"$nulls":6},{"$f":"SUM(I35:I42)","v":0.36800000000000005},{"$f":"TRUNC(SUM(J35:J42),2)","v":876.36}]
[]
[null,"Submódulo 2.3 - Benefícios Mensais e Diários",{"$nulls":7},"VALOR (R$)"]
[null,"A","Transporte ",{"$nulls":5},"-",{"$f":"'Almoxarife - Montes Claros'!J45","v":179.03180000000003}]
[null,"B","Auxílio-Refeição/Alimentação ",{"$nulls":5},"-",{"$f":"22.28*22*80%","v":392.12800000000004}]
[null,"D","Seguro de vida",{"$nulls":5},"-",10]
[null,"E","Auxílio Saúde - PAF",{"$nulls":5},"-",37.229999999999997]
[null,"F","Contribuição Assistencial Patronal",{"$nulls":5},"-",11.19]
[null,"G","Outros (especificar)",{"$nulls":5},"-"]
[null,"TOTAL SUBMÓDULO 2.3",{"$nulls":7},{"$f":"TRUNC(SUM(J46:J51),2)","v":629.57000000000005}]
[]
[null,"QUADRO-RESUMO DO MÓDULO 2 - ENCARGOS, BENEFÍCIOS ANUAIS, MENSAIS E DIÁRIOS"]
[null,"Módulo 2 - Encargos, Benefícios Anuais, Mensais e Diários",{"$nulls":7},"VALOR (R$)"]
[null,"2.1","13º Salário, Férias e Adicional de Férias",{"$nulls":6},{"$f":"J32","v":486.52}]
[null,"2.2","GPS, FGTS e Outras Contribuições",{"$nulls":6},{"$f":"J43","v":876.36}]
[null,"2.3","Benefícios Mensais e Diários",{"$nulls":6},{"$f":"J52","v":629.57000000000005}]
[null,"TOTAL DO MÓDULO 2",{"$nulls":7},{"$f":"TRUNC(SUM(J56:J58),2)","v":1992.45}]
[]
[null,"MÓDULO 3 – PROVISÃO PARA RESCISÃO"]
[null,3,"PROVISÃO PARA RESCISÃO",{"$nulls":5},"%","VALOR (R$)"]
[null,"A","Aviso Prévio Indenizado",{"$nulls":5},2.8400000000000002E-2,{"$f":"I63*$J$26","v":67.632611999999995}]
[null,"B","Incidência do FGTS sobre Aviso Prévio Indenizado",{"$nulls":5},{"$f":"0.08*I63","v":2.2720000000000001E-3},5.4106089600000002]
[null,"C","Multa do FGTS e Contribuição Social sobre o Aviso Prévio Indenizado",{"$nulls":5},0.05,119.0715]
[null,"D","Aviso Prévio Trabalhado ",{"$nulls":5},0.01,23.814299999999999]
[null,"E","Incidência dos encargos do submódulo 2.2 sobre Aviso Prévio Trabalhado",{"$nulls":5},{"$f":"I43*I66","v":3.6800000000000005E-3},8.7636624000000012]
[null,"F","Multa do FGTS e Contribuição Social sobre o Aviso Prévio Trabalhado. ",{"$nulls":5},0.05,119.0715]
[null,"TOTAL DO MÓDULO 3",{"$nulls":6},{"$f":"TRUNC(SUM(I63:I68),4)","v":0.14430000000000001},{"$f":"TRUNC(SUM(J63:J68),2)","v":343.76}]
[]
[null,"MÓDULO 4 – CUSTO DE REPOSIÇÃO DO PROFISSIONAL AUSENTE"]
[null,"Submódulo 4.1 - Ausências Legais",{"$nulls":6},"%","VALOR (R$)"]
[null,"A","Férias ",{"$nulls":5},8.3299999999999999E-2,{"$f":"I73*$J$26","v":198.37311899999997}]
[null,"B","Ausências Legais",{"$nulls":5},2.5000000000000001E-2,{"$f":"I74*$J$26","v":59.53575}]
[null,"C","Licença Paternidade",{"$nulls":5},2.5000000000000001E-2,{"$f":"I75*$J$26","v":59.53575}]
[null,"D","Ausência por Acidente de Trabalho ",{"$nulls":5},0.02,{"$f":"I76*$J$26","v":47.628599999999999}]
[null,"E","Afastamento Maternidade",{"$nulls":5},0.03,{"$f":"I77*$J$26","v":71.442899999999995}]
[null,"F","Outros (especificar)"]
[null,"TOTAL SUBMÓDULO 4.1",{"$nulls":7},{"$f":"TRUNC(SUM(J73:J78),2)","v":436.51}]
[]
[null,"Submódulo 4.2 - Intrajornada",{"$nulls":6},"%","VALOR (R$)"]
[null,"A","Intervalo para Repouso ou Alimentação",{"$nulls":5},0,{"$f":"$J$26*I82","v":0}]
[null,"TOTAL SUBMÓDULO 4.2",{"$nulls":6},{"$f":"TRUNC(SUM(I82),4)","v":0},{"$f":"TRUNC(SUM(J82),2)","v":0}]
[]
[null,"QUADRO-RESUMO DO MÓDULO 4 - CUSTO DE REPOSIÇÃO DO PROFISSIONAL AUSENTE"]
[null,"Módulo 4 - Custo de Reposição do Profissional Ausente",{"$nulls":7},"VALOR (R$)"]
[null,"4.1","Ausências Legais",{"$nulls":6},{"$f":"J79","v":436.51}]
[null,"4.2","Intrajornada",{"$nulls":6},{"$f":"J83","v":0}]
[null,"TOTAL DO MÓDULO 4",{"$nulls":7},{"$f":"TRUNC(SUM(J87:J88),2)","v":436.51}]
[]
[null,"MÓDULO 5 – INSUMOS DIVERSOS"]
[null,5,"INSUMOS DIVERSOS",{"$nulls":6},"VALOR (R$)"]
[null,"A","Uniformes ",{"$nulls":5},"-",{"$f":"Uniformes!E5","v":32.14}]
[null,"B","Materiais (mensal + quadrimestral + utensilios)",{"$nulls":5},"-","-"]
[null,"C","Equipamentos (EQUIPAMENTOS DE LIMPEZA)",{"$nulls":5},"-",0]
[null,"D","Outros (CRACHÁS)",{"$nulls":5},"-",0]
[null,"TOTAL DO MÓDULO 5",{"$nulls":6},"-",{"$f":"SUM(J93:J96)","v":32.14}]
[]
[null,"MÓDULO 6 – CUSTOS INDIRETOS, TRIBUTOS E LUCRO"]
[null,6,"CUSTOS INDIRETOS, TRIBUTOS E LUCRO",{"$nulls":5},"%","VALOR (R$)"]
[null,"A","Custos Indiretos",{"$nulls":5},0.03,{"$f":"TRUNC(I101*J117,2)","v":155.58000000000001}]
[null,"B","Lucro",{"$nulls":5},6.7500000000000004E-2,{"$f":"TRUNC(I102*(J101+J117),2)","v":360.57}]
[null,"C","TRIBUTOS",null,null,"Base Cálculo",null,{"$f":"ROUND((J117+J101+J102)/(1-I103),2)","v":6498.51},{"$f":"I104+I105+I106","v":0.1225},{"$f":"H103*I103","v":796.06747500000006}]
[null,"C.1","PIS ",{"$nulls":5},1.6500000000000001E-2,{"$f":"H103*I104","v":107.22541500000001}]
[null,"C.2","COFINS ",{"$nulls":5},7.5999999999999998E-2,{"$f":"H103*I105","v":493.88675999999998}]
[null,"C.3","ISSQN",{"$nulls":5},0.03,{"$f":"H103*I106","v":194.95529999999999}]
[null,"TOTAL DO MÓDULO 6",{"$nulls":7},{"$f":"J101+J102+J103","v":1312.2174749999999}]
[]
[]
[null,"QUADRO RESUMO DO CUSTO POR EMPREGADO"]
[null,"Mão-de-Obra vinculada à execução contratual (valor por empregado)",{"$nulls":7},"VALOR (R$)"]
[null,"A",{"$f":"B17","v":"MÓDULO 1 - COMPOSIÇÃO DA REMUNERAÇÃO"},{"$nulls":6},{"$f":"J26","v":2381.4299999999998}]
[null,"B",{"$f":"B28","v":"MÓDULO 2 – ENCARGOS E BENEFÍCIOS ANUAIS, MENSAIS E DIÁRIOS"},{"$nulls":6},{"$f":"J59","v":1992.45}]
[null,"C",{"$f":"B61","v":"MÓDULO 3 – PROVISÃO PARA RESCISÃO"},{"$nulls":6},{"$f":"J69","v":343.76}]
[null,"D",{"$f":"B71","v":"MÓDULO 4 – CUSTO DE REPOSIÇÃO DO PROFISSIONAL AUSENTE"},{"$nulls":6},{"$f":"J89","v":436.51}]
[null,"E",{"$f":"B91","v":"MÓDULO 5 – INSUMOS DIVERSOS"},{"$nulls":6},{"$f":"J97","v":32.14}]
[null,null,"Subtotal (A + B + C + D + E)",{"$nulls":6},{"$f":"TRUNC(SUM(J112:J116),2)","v":5186.29}]
[null,"F",{"$f":"B99","v":"MÓDULO 6 – CUSTOS INDIRETOS, TRIBUTOS E LUCRO"},{"$nulls":6},{"$f":"J107","v":1312.2174749999999}]
[null,"PREÇO TOTAL POR EMPREGADO",{"$nulls":7},{"$f":"TRUNC(SUM(J117:J118),2)","v":6498.5}]

{"sheet":"Almoxarife - Nova Porteirinha","index":3,"n_rows":119,"n_cols":10,"rows_kept":119,"cut":false,"hidden":false,"merged":[[117,2,117,8],[118,1,118,8],[111,2,111,8],[112,2,112,8],[113,2,113,8],[114,2,114,8],[115,2,115,8],[116,2,116,8],[104,2,104,7],[105,2,105,7],[106,1,106,7],[107,2,107,9],[109,1,109,9],[110,1,110,8],[99,2,99,7],[100,2,100,7],[101,2,101,7],[102,2,102,4],[102,5,102,6],[103,2,103,7],[93,2,93,7],[94,2,94,7],[95,2,95,7],[96,1,96,7],[97,1,97,9],[98,1,98,9],[87,2,87,8],[88,1,88,8],[89,1,89,9],[90,1,90,9],[91,2,91,7],[92,2,92,7],[81,2,81,7],[82,1,82,7],[83,1,83,9],[84,1,84,9],[85,1,85,8],[86,2,86,8],[75,2,75,7],[76,2,76,7],[77,2,77,7],[78,1,78,7],[79,1,79,9],[80,1,80,7],[69,1,69,9],[70,1,70,9],[71,1,71,7],[72,2,72,7],[73,2,73,7],[74,2,74,7],[63,2,63,7],[64,2,64,7],[65,2,65,7],[66,2,66,7],[67,2,67,7],[68,1,68,7],[57,2,57,8],[58,1,58,8],[59,1,59,9],[60,1,60,9],[61,2,61,7],[62,2,62,7],[51,1,51,8],[52,1,52,9],[53,1,53,9],[54,1,54,8],[55,2,55,8],[56,2,56,8],[46,2,46,7],[47,2,47,7],[48,2,48,7],[49,2,49,7],[50,2,50,7],[40,2,40,7],[41,2,41,7],[42,1,42,7],[43,1,43,9],[44,1,44,7],[45,2,45,7],[34,2,34,7],[35,2,35,7],[36,2,36,7],[37,2,37,7],[38,2,38,7],[39,2,39,7],[28,1,28,7],[29,2,29,7],[30,2,30,7],[31,1,31,7],[32,1,32,9],[33,1,33,7],[21,2,21,7],[22,2,22,7],[23,2,23,7],[24,2,24,7],[25,1,25,8],[27,1,27,9],[0,1,0,9],[1,2,1,8],[2,2,2,8],[15,1,15,9],[16,1,16,9],[17,2,17,7],[18,2,18,7],[19,2,19,7],[20,2,20,7],[12,2,12,8],[13,2,13,8],[14,2,14,8],[9,1,9,9],[10,2,10,8],[11,2,11,8],[3,2,3,8],[5,1,5,9],[6,1,6,2],[6,3,6,4],[6,5,6,9],[7,1,7,2],[7,3,7,4],[7,5,7,9]]}
[" 1ª Superintendência Regional – Montes Claros / MG","Discriminação dos Serviços"]
[null,"B","Município",{"$nulls":6},"Nova Porteirinha"]
[null,"C","Ano do Acordo, Convenção ou Dissídio Coletivo",{"$nulls":6},2021]
[null,"D","Nº de meses de execução contratual",{"$nulls":6},12]
[]
[null,"Identificação do Serviço"]
[null,"Tipo de Serviço",null,"Unidade de Medida",null,"Quantidade total a contratar "]
[null,"ALMOXARIFADO",null,"SERVIÇO ",null,3]
[]
[null,"Dados para composição dos custos referentes à mão-de-obra"]
[null,1,"Tipo de serviço (mesmo serviço com características distintas)",{"$nulls":6},{"$f":"'Almoxarife - Montes Claros'!J11","v":"ALMOXARIFE"}]
[null,2,"Classificação Brasileira de Ocupações (CBO)",{"$nulls":6},{"$f":"'Almoxarife - Montes Claros'!J12","v":"4141-05"}]
[null,3,"Salário Nominativo da Categoria Profissional",{"$nulls":6},1572.27]
[null,4,"Categoria profissional (vinculada à execução contratual)",{"$nulls":6},{"$f":"'Almoxarife - Montes Claros'!J14","v":"ALMOXARIFE"}]
[null,5,"Data base da categoria (dia/mês/ano)",{"$nulls":6},"2021-01-01"]
[]
[null,"MÓDULO 1 - COMPOSIÇÃO DA REMUNERAÇÃO"]
[null,1,"COMPOSIÇÃO DA REMUNERAÇÃO",{"$nulls":5},"%","VALOR (R$)"]
[null,"A","Salário Base",{"$nulls":6},{"$f":"J13","v":1572.27}]
[null,"B","Adicional Periculosidade ",{"$nulls":6},0]
[null,"C","Adicional Insalubridade",{"$nulls":6},{"$f":"I21*J19","v":0}]
[null,"D","Adicional Noturno",{"$nulls":6},0]
[null,"E","Adicional de Hora Noturna Reduzida",{"$nulls":6},0]
[{"$nulls":9},0]
[null,"G","Outros (especificar)",{"$nulls":6},0]
[null,"TOTAL DO MÓDULO 1",{"$nulls":7},{"$f":"TRUNC(SUM(J19:J25),2)","v":1572.27}]
[]
[null,"MÓDULO 2 – ENCARGOS E BENEFÍCIOS ANUAIS, MENSAIS E DIÁRIOS"]
[null,"Submódulo 2.1 - 13º Salário, Férias e Adicional de Férias",{"$nulls":6},"%","VALOR (R$)"]
[null,"A","13 (Décimo-terceiro) salário ",{"$nulls":5},8.3299999999999999E-2,{"$f":"I30*J26","v":130.970091}]
[null,"B","Férias e Adicional de Férias",{"$nulls":5},0.121,{"$f":"I31*J26","v":190.24466999999999}]
[null,"TOTAL SUBMÓDULO 2.1",{"$nulls":6},{"$f":"TRUNC(SUM(I30:I31),4)","v":0.20430000000000001},{"$f":"TRUNC(SUM(J30:J31),2)","v":321.20999999999998}]
[]
[null,"Submódulo 2.2 - GPS, FGTS e Outras Contribuições",{"$nulls":6},"%","VALOR (R$)"]
[null,"A","INSS ",{"$nulls":5},0.2,{"$f":"I35*$J$26","v":314.45400000000001}]
[null,"B","Salário Educação ",{"$nulls":5},2.5000000000000001E-2,{"$f":"I36*$J$26","v":39.306750000000001}]
[null,"C","SAT",{"$nulls":5},0.03,47.168099999999995]
[null,"D","SESC ou SESI",{"$nulls":5},1.4999999999999999E-2,23.584049999999998]
[null,"E","SENAI - SENAC ",{"$nulls":5},0.01,15.7227]
[null,"F","SEBRAE ",{"$nulls":5},6.0000000000000001E-3,9.4336199999999995]
[null,"G","INCRA ",{"$nulls":5},2E-3,3.1445400000000001]
[null,"H","FGTS ",{"$nulls":5},0.08,125.7816]
[null,"TOTAL SUBMÓDULO 2.2",{"$nulls":6},{"$f":"SUM(I35:I42)","v":0.36800000000000005},{"$f":"TRUNC(SUM(J35:J42),2)","v":578.59}]
[]
[null,"Submódulo 2.3 - Benefícios Mensais e Diários",{"$nulls":7},"VALOR (R$)"]
[null,"A","Transporte ",{"$nulls":5},"-",{"$f":"(2.85*4*22)-(6%*J26)","v":156.46380000000002}]
[null,"B","Auxílio-Refeição/Alimentação ",{"$nulls":5},"-",{"$f":"22.28*22*80%","v":392.12800000000004}]
[null,"D","Seguro de vida",{"$nulls":5},"-",10]
[null,"E","Programa de Qualificação Profissional e Marketing - PQM",{"$nulls":5},"-",11.22]
[null,"F","Contribuição Assistencial Patronal",{"$nulls":5},"-",11.19]
[null,"G","Outros (especificar)",{"$nulls":5},"-"]
[null,"TOTAL SUBMÓDULO 2.3",{"$nulls":7},{"$f":"TRUNC(SUM(J46:J51),2)","v":581}]
[]
[null,"QUADRO-RESUMO DO MÓDULO 2 - ENCARGOS, BENEFÍCIOS ANUAIS, MENSAIS E DIÁRIOS"]
[null,"Módulo 2 - Encargos, Benefícios Anuais, Mensais e Diários",{"$nulls":7},"VALOR (R$)"]
[null,"2.1","13º Salário, Férias e Adicional de Férias",{"$nulls":6},{"$f":"J32","v":321.20999999999998}]
[null,"2.2","GPS, FGTS e Outras Contribuições",{"$nulls":6},{"$f":"J43","v":578.59}]
[null,"2.3","Benefícios Mensais e Diários",{"$nulls":6},{"$f":"J52","v":581}]
[null,"TOTAL DO MÓDULO 2",{"$nulls":7},{"$f":"TRUNC(SUM(J56:J58),2)","v":1480.8}]
[]
[null,"MÓDULO 3 – PROVISÃO PARA RESCISÃO"]
[null,3,"PROVISÃO PARA RESCISÃO",{"$nulls":5},"%","VALOR (R$)"]
[null,"A","Aviso Prévio Indenizado",{"$nulls":5},2.8400000000000002E-2,{"$f":"I63*$J$26","v":44.652467999999999}]
[null,"B","Incidência do FGTS sobre Aviso Prévio Indenizado",{"$nulls":5},{"$f":"0.08*I63","v":2.2720000000000001E-3},3.5721974400000001]
[null,"C","Multa do FGTS e Contribuição Social sobre o Aviso Prévio Indenizado",{"$nulls":5},0.05,78.613500000000002]
[null,"D","Aviso Prévio Trabalhado ",{"$nulls":5},0.01,15.7227]
[null,"E","Incidência dos encargos do submódulo 2.2 sobre Aviso Prévio Trabalhado",{"$nulls":5},{"$f":"I43*I66","v":3.6800000000000005E-3},5.7859536000000009]
[null,"F","Multa do FGTS e Contribuição Social sobre o Aviso Prévio Trabalhado. ",{"$nulls":5},0.05,78.613500000000002]
[null,"TOTAL DO MÓDULO 3",{"$nulls":6},{"$f":"TRUNC(SUM(I63:I68),4)","v":0.14430000000000001},{"$f":"TRUNC(SUM(J63:J68),2)","v":226.96}]
[]
[null,"MÓDULO 4 – CUSTO DE REPOSIÇÃO DO PROFISSIONAL AUSENTE"]
[null,"Submódulo 4.1 - Ausências Legais",{"$nulls":6},"%","VALOR (R$)"]
[null,"A","Férias ",{"$nulls":5},8.3299999999999999E-2,{"$f":"I73*$J$26","v":130.970091}]
[null,"B","Ausências Legais",{"$nulls":5},2.5000000000000001E-2,{"$f":"I74*$J$26","v":39.306750000000001}]
[null,"C","Licença Paternidade",{"$nulls":5},2.5000000000000001E-2,{"$f":"I75*$J$26","v":39.306750000000001}]
[null,"D","Ausência por Acidente de Trabalho ",{"$nulls":5},0.02,{"$f":"I76*$J$26","v":31.445399999999999}]
[null,"E","Afastamento Maternidade",{"$nulls":5},0.03,{"$f":"I77*$J$26","v":47.168099999999995}]
[null,"F","Outros (especificar)"]
[null,"TOTAL SUBMÓDULO 4.1",{"$nulls":7},{"$f":"TRUNC(SUM(J73:J78),2)","v":288.19}]
[]
[null,"Submódulo 4.2 - Intrajornada",{"$nulls":6},"%","VALOR (R$)"]
[null,"A","Intervalo para Repouso ou Alimentação",{"$nulls":5},0,{"$f":"$J$26*I82","v":0}]
[null,"TOTAL SUBMÓDULO 4.2",{"$nulls":6},{"$f":"TRUNC(SUM(I82),4)","v":0},{"$f":"TRUNC(SUM(J82),2)","v":0}]
[]
[null,"QUADRO-RESUMO DO MÓDULO 4 - CUSTO DE REPOSIÇÃO DO PROFISSIONAL AUSENTE"]
[null,"Módulo 4 - Custo de Reposição do Profissional Ausente",{"$nulls":7},"VALOR (R$)"]
[null,"4.1","Ausências Legais",{"$nulls":6},{"$f":"J79","v":288.19}]
[null,"4.2","Intrajornada",{"$nulls":6},{"$f":"J83","v":0}]
[null,"TOTAL DO MÓDULO 4",{"$nulls":7},{"$f":"TRUNC(SUM(J87:J88),2)","v":288.19}]
[]
[null,"MÓDULO 5 – INSUMOS DIVERSOS"]
[null,5,"INSUMOS DIVERSOS",{"$nulls":6},"VALOR (R$)"]
[null,"A","Uniformes ",{"$nulls":5},"-",{"$f":"Uniformes!E5","v":32.14}]
[null,"B","Materiais (mensal + quadrimestral + utensilios)",{"$nulls":5},"-","-"]
[null,"C","Equipamentos (EQUIPAMENTOS DE LIMPEZA)",{"$nulls":5},"-",0]
[null,"D","Outros (CRACHÁS)",{"$nulls":5},"-",0]
[null,"TOTAL DO MÓDULO 5",{"$nulls":6},"-",{"$f":"SUM(J93:J96)","v":32.14}]
[]
[null,"MÓDULO 6 – CUSTOS INDIRETOS, TRIBUTOS E LUCRO"]
[null,6,"CUSTOS INDIRETOS, TRIBUTOS E LUCRO",{"$nulls":5},"%","VALOR (R$)"]
[null,"A","Custos Indiretos",{"$nulls":5},0.03,{"$f":"TRUNC(I101*J117,2)","v":108.01}]
[null,"B","Lucro",{"$nulls":5},6.7500000000000004E-2,{"$f":"TRUNC(I102*(J101+J117),2)","v":250.31}]
[null,"C","TRIBUTOS",null,null,"Base Cálculo",null,{"$f":"ROUND((J117+J101+J102)/(1-I103),2)","v":4616.54},{"$f":"I104+I105+I106","v":0.14250000000000002},{"$f":"H103*I103","v":657.8569500000001}]
[null,"C.1","PIS ",{"$nulls":5},1.6500000000000001E-2,{"$f":"H103*I104","v":76.172910000000002}]
[null,"C.2","COFINS ",{"$nulls":5},7.5999999999999998E-2,{"$f":"H103*I105","v":350.85703999999998}]
[null,"C.3","ISSQN",{"$nulls":5},0.05,{"$f":"H103*I106","v":230.827}]
[null,"TOTAL DO MÓDULO 6",{"$nulls":7},{"$f":"J101+J102+J103","v":1016.17695}]
[]
[]
[null,"QUADRO RESUMO DO CUSTO POR EMPREGADO"]
[null,"Mão-de-Obra vinculada à execução contratual (valor por empregado)",{"$nulls":7},"VALOR (R$)"]
[null,"A",{"$f":"B17","v":"MÓDULO 1 - COMPOSIÇÃO DA REMUNERAÇÃO"},{"$nulls":6},{"$f":"J26","v":1572.27}]
[null,"B",{"$f":"B28","v":"MÓDULO 2 – ENCARGOS E BENEFÍCIOS ANUAIS, MENSAIS E DIÁRIOS"},{"$nulls":6},{"$f":"J59","v":1480.8}]
[null,"C",{"$f":"B61","v":"MÓDULO 3 – PROVISÃO PARA RESCISÃO"},{"$nulls":6},{"$f":"J69","v":226.96}]
[null,"D",{"$f":"B71","v":"MÓDULO 4 – CUSTO DE REPOSIÇÃO DO PROFISSIONAL AUSENTE"},{"$nulls":6},{"$f":"J89","v":288.19}]
[null,"E",{"$f":"B91","v":"MÓDULO 5 – INSUMOS DIVERSOS"},{"$nulls":6},{"$f":"J97","v":32.14}]
[null,null,"Subtotal (A + B + C + D + E)",{"$nulls":6},{"$f":"TRUNC(SUM(J112:J116),2)","v":3600.36}]
[null,"F",{"$f":"B99","v":"MÓDULO 6 – CUSTOS INDIRETOS, TRIBUTOS E LUCRO"},{"$nulls":6},{"$f":"J107","v":1016.17695}]
[null,"PREÇO TOTAL POR EMPREGADO",{"$nulls":7},{"$f":"TRUNC(SUM(J117:J118),2)-0.09","v":4616.4399999999996}]

{"sheet":"Almoxarife - Três Marias","index":4,"n_rows":118,"n_cols":10,"rows_kept":118,"cut":false,"hidden":false,"merged":[[115,2,115,8],[116,2,116,8],[117,1,117,8],[109,1,109,8],[110,2,110,8],[111,2,111,8],[112,2,112,8],[113,2,113,8],[114,2,114,8],[102,2,102,7],[103,2,103,7],[104,2,104,7],[105,1,105,7],[106,2,106,9],[108,1,108,9],[96,1,96,9],[97,1,97,9],[98,2,98,7],[99,2,99,7],[100,2,100,7],[101,2,101,4],[101,5,101,6],[90,2,90,7],[91,2,91,7],[92,2,92,7],[93,2,93,7],[94,2,94,7],[95,1,95,7],[84,1,84,8],[85,2,85,8],[86,2,86,8],[87,1,87,8],[88,1,88,9],[89,1,89,9],[78,1,78,9],[79,1,79,7],[80,2,80,7],[81,1,81,7],[82,1,82,9],[83,1,83,9],[72,2,72,7],[73,2,73,7],[74,2,74,7],[75,2,75,7],[76,2,76,7],[77,1,77,7],[66,2,66,7],[67,1,67,7],[68,1,68,9],[69,1,69,9],[70,1,70,7],[71,2,71,7],[60,2,60,7],[61,2,61,7],[62,2,62,7],[63,2,63,7],[64,2,64,7],[65,2,65,7],[54,2,54,8],[55,2,55,8],[56,2,56,8],[57,1,57,8],[58,1,58,9],[59,1,59,9],[49,2,49,7],[50,1,50,8],[51,1,51,9],[52,1,52,9],[53,1,53,8],[43,1,43,9],[44,1,44,7],[45,2,45,7],[46,2,46,7],[47,2,47,7],[48,2,48,7],[37,2,37,7],[38,2,38,7],[39,2,39,7],[40,2,40,7],[41,2,41,7],[42,1,42,7],[31,1,31,7],[32,1,32,9],[33,1,33,7],[34,2,34,7],[35,2,35,7],[36,2,36,7],[24,2,24,7],[25,1,25,8],[27,1,27,9],[28,1,28,7],[29,2,29,7],[30,2,30,7],[18,2,18,7],[19,2,19,7],[20,2,20,7],[21,2,21,7],[22,2,22,7],[23,2,23,7],[12,2,12,8],[13,2,13,8],[14,2,14,8],[15,1,15,9],[16,1,16,9],[17,2,17,7],[7,1,7,2],[7,3,7,4],[7,5,7,9],[9,1,9,9],[10,2,10,8],[11,2,11,8],[0,1,0,9],[1,2,1,8],[2,2,2,8],[3,2,3,8],[5,1,5,9],[6,1,6,2],[6,3,6,4],[6,5,6,9]]}
[" 1ª Superintendência Regional – Montes Claros / MG","Discriminação dos Serviços"]
[null,"B","Município",{"$nulls":6},"Três Marias/MG"]
[null,"C","Ano do Acordo, Convenção ou Dissídio Coletivo",{"$nulls":6},2021]
[null,"D","Nº de meses de execução contratual",{"$nulls":6},12]
[]
[null,"Identificação do Serviço"]
[null,"Tipo de Serviço",null,"Unidade de Medida",null,"Quantidade total a contratar "]
[null,"ALMOXARIFE",null,"SERVIÇO ",null,2]
[]
[null,"Dados para composição dos custos referentes à mão-de-obra"]
[null,1,"Tipo de serviço (mesmo serviço com características distintas)",{"$nulls":6},{"$f":"B8","v":"ALMOXARIFE"}]
[null,2,"Classificação Brasileira de Ocupações (CBO)",{"$nulls":6},"4141-05"]
[null,3,"Salário Nominativo da Categoria Profissional",{"$nulls":6},1725.95]
[null,4,"Categoria profissional (vinculada à execução contratual)",{"$nulls":6},"ALMOXARIFE"]
[null,5,"Data base da categoria (dia/mês/ano)",{"$nulls":6},"2021-01-01"]
[]
[null,"MÓDULO 1 - COMPOSIÇÃO DA REMUNERAÇÃO"]
[null,1,"COMPOSIÇÃO DA REMUNERAÇÃO",{"$nulls":5},"%","VALOR (R$)"]
[null,"A","Salário Base",{"$nulls":6},{"$f":"J13","v":1725.95}]
[null,"B","Adicional Periculosidade ",{"$nulls":6},0]
[null,"C","Adicional Insalubridade",{"$nulls":6},{"$f":"I21*J19","v":0}]
[null,"D","Adicional Noturno",{"$nulls":6},0]
[null,"E","Adicional de Hora Noturna Reduzida",{"$nulls":6},0]
[{"$nulls":9},0]
[null,"G","Outros (especificar)",{"$nulls":6},0]
[null,"TOTAL DO MÓDULO 1",{"$nulls":7},{"$f":"TRUNC(SUM(J19:J25),2)","v":1725.95}]
[]
[null,"MÓDULO 2 – ENCARGOS E BENEFÍCIOS ANUAIS, MENSAIS E DIÁRIOS"]
[null,"Submódulo 2.1 - 13º Salário, Férias e Adicional de Férias",{"$nulls":6},"%","VALOR (R$)"]
[null,"A","13 (Décimo-terceiro) salário ",{"$nulls":5},8.3299999999999999E-2,{"$f":"I30*J26","v":143.771635}]
[null,"B","Férias e Adicional de Férias",{"$nulls":5},0.121,{"$f":"I31*J26","v":208.83994999999999}]
[null,"TOTAL SUBMÓDULO 2.1",{"$nulls":6},{"$f":"TRUNC(SUM(I30:I31),4)","v":0.20430000000000001},{"$f":"TRUNC(SUM(J30:J31),2)","v":352.61}]
[]
[null,"Submódulo 2.2 - GPS, FGTS e Outras Contribuições",{"$nulls":6},"%","VALOR (R$)"]
[null,"A","INSS ",{"$nulls":5},0.2,{"$f":"I35*$J$26","v":345.19000000000005}]
[null,"B","Salário Educação ",{"$nulls":5},2.5000000000000001E-2,{"$f":"I36*$J$26","v":43.148750000000007}]
[null,"C","SAT",{"$nulls":5},0.03,51.778500000000001]
[null,"D","SESC ou SESI",{"$nulls":5},1.4999999999999999E-2,25.889250000000001]
[null,"E","SENAI - SENAC ",{"$nulls":5},0.01,17.259499999999999]
[null,"F","SEBRAE ",{"$nulls":5},6.0000000000000001E-3,10.355700000000001]
[null,"G","INCRA ",{"$nulls":5},2E-3,3.4519000000000002]
[null,"H","FGTS ",{"$nulls":5},0.08,138.07599999999999]
[null,"TOTAL SUBMÓDULO 2.2",{"$nulls":6},{"$f":"SUM(I35:I42)","v":0.36800000000000005},{"$f":"TRUNC(SUM(J35:J42),2)","v":635.14}]
[]
[null,"Submódulo 2.3 - Benefícios Mensais e Diários",{"$nulls":7},"VALOR (R$)"]
[null,"A","Transporte ",{"$nulls":5},"-",{"$f":"((3.7*4)*22)-(6%*J26)","v":222.04300000000001}]
[null,"B","Auxílio-Refeição/Alimentação ",{"$nulls":5},"-",{"$f":"23*22*80%","v":404.8}]
[null,"D","Seguro de vida",{"$nulls":5},"-",10]
[null,"E","Auxílio Saúde - PAF",{"$nulls":5},"-"]
[null,"F","Outros (especificar)",{"$nulls":5},"-"]
[null,"TOTAL SUBMÓDULO 2.3",{"$nulls":7},{"$f":"TRUNC(SUM(J46:J50),2)","v":636.84}]
[]
[null,"QUADRO-RESUMO DO MÓDULO 2 - ENCARGOS, BENEFÍCIOS ANUAIS, MENSAIS E DIÁRIOS"]
[null,"Módulo 2 - Encargos, Benefícios Anuais, Mensais e Diários",{"$nulls":7},"VALOR (R$)"]
[null,"2.1","13º Salário, Férias e Adicional de Férias",{"$nulls":6},{"$f":"J32","v":352.61}]
[null,"2.2","GPS, FGTS e Outras Contribuições",{"$nulls":6},{"$f":"J43","v":635.14}]
[null,"2.3","Benefícios Mensais e Diários",{"$nulls":6},{"$f":"J51","v":636.84}]
[null,"TOTAL DO MÓDULO 2",{"$nulls":7},{"$f":"TRUNC(SUM(J55:J57),2)","v":1624.59}]
[]
[null,"MÓDULO 3 – PROVISÃO PARA RESCISÃO"]
[null,3,"PROVISÃO PARA RESCISÃO",{"$nulls":5},"%","VALOR (R$)"]
[null,"A","Aviso Prévio Indenizado",{"$nulls":5},2.8400000000000002E-2,{"$f":"I62*$J$26","v":49.016980000000004}]
[null,"B","Incidência do FGTS sobre Aviso Prévio Indenizado",{"$nulls":5},{"$f":"0.08*I62","v":2.2720000000000001E-3},3.9213584000000004]
[null,"C","Multa do FGTS e Contribuição Social sobre o Aviso Prévio Indenizado",{"$nulls":5},0.05,86.297500000000014]
[null,"D","Aviso Prévio Trabalhado ",{"$nulls":5},0.01,17.259499999999999]
[null,"E","Incidência dos encargos do submódulo 2.2 sobre Aviso Prévio Trabalhado",{"$nulls":5},{"$f":"I43*I65","v":3.6800000000000005E-3},6.3514960000000009]
[null,"F","Multa do FGTS e Contribuição Social sobre o Aviso Prévio Trabalhado. ",{"$nulls":5},0.05,86.297500000000014]
[null,"TOTAL DO MÓDULO 3",{"$nulls":6},{"$f":"TRUNC(SUM(I62:I67),4)","v":0.14430000000000001},{"$f":"TRUNC(SUM(J62:J67),2)","v":249.14}]
[]
[null,"MÓDULO 4 – CUSTO DE REPOSIÇÃO DO PROFISSIONAL AUSENTE"]
[null,"Submódulo 4.1 - Ausências Legais",{"$nulls":6},"%","VALOR (R$)"]
[null,"A","Férias ",{"$nulls":5},8.3299999999999999E-2,{"$f":"I72*$J$26","v":143.771635}]
[null,"B","Ausências Legais",{"$nulls":5},2.5000000000000001E-2,{"$f":"I73*$J$26","v":43.148750000000007}]
[null,"C","Licença Paternidade",{"$nulls":5},2.5000000000000001E-2,{"$f":"I74*$J$26","v":43.148750000000007}]
[null,"D","Ausência por Acidente de Trabalho ",{"$nulls":5},0.02,{"$f":"I75*$J$26","v":34.518999999999998}]
[null,"E","Afastamento Maternidade",{"$nulls":5},0.03,{"$f":"I76*$J$26","v":51.778500000000001}]
[null,"F","Outros (especificar)"]
[null,"TOTAL SUBMÓDULO 4.1",{"$nulls":7},{"$f":"TRUNC(SUM(J72:J77),2)","v":316.36}]
[]
[null,"Submódulo 4.2 - Intrajornada",{"$nulls":6},"%","VALOR (R$)"]
[null,"A","Intervalo para Repouso ou Alimentação",{"$nulls":5},0,{"$f":"$J$26*I81","v":0}]
[null,"TOTAL SUBMÓDULO 4.2",{"$nulls":6},{"$f":"TRUNC(SUM(I81),4)","v":0},{"$f":"TRUNC(SUM(J81),2)","v":0}]
[]
[null,"QUADRO-RESUMO DO MÓDULO 4 - CUSTO DE REPOSIÇÃO DO PROFISSIONAL AUSENTE"]
[null,"Módulo 4 - Custo de Reposição do Profissional Ausente",{"$nulls":7},"VALOR (R$)"]
[null,"4.1","Ausências Legais",{"$nulls":6},{"$f":"J78","v":316.36}]
[null,"4.2","Intrajornada",{"$nulls":6},{"$f":"J82","v":0}]
[null,"TOTAL DO MÓDULO 4",{"$nulls":7},{"$f":"TRUNC(SUM(J86:J87),2)","v":316.36}]
[]
[null,"MÓDULO 5 – INSUMOS DIVERSOS"]
[null,5,"INSUMOS DIVERSOS",{"$nulls":6},"VALOR (R$)"]
[null,"A","Uniformes ",{"$nulls":5},"-",{"$f":"Uniformes!E5","v":32.14}]
[null,"B","Materiais (mensal + quadrimestral + utensilios)",{"$nulls":5},"-","-"]
[null,"C","Equipamentos (EQUIPAMENTOS DE LIMPEZA)",{"$nulls":5},"-",0]
[null,"D","Outros (CRACHÁS)",{"$nulls":5},"-",0]
[null,"TOTAL DO MÓDULO 5",{"$nulls":6},"-",{"$f":"SUM(J92:J95)","v":32.14}]
[]
[null,"MÓDULO 6 – CUSTOS INDIRETOS, TRIBUTOS E LUCRO"]
[null,6,"CUSTOS INDIRETOS, TRIBUTOS E LUCRO",{"$nulls":5},"%","VALOR (R$)"]
[null,"A","Custos Indiretos",{"$nulls":5},0.03,{"$f":"TRUNC(I100*J116,2)","v":118.44}]
[null,"B","Lucro",{"$nulls":5},6.7500000000000004E-2,{"$f":"TRUNC(I101*(J100+J116),2)","v":274.49}]
[null,"C","TRIBUTOS",null,null,"Base Cálculo",null,{"$f":"ROUND((J116+J100+J101)/(1-I102),2)","v":4947.13},{"$f":"I103+I104+I105","v":0.1225},{"$f":"H102*I102","v":606.02342499999997}]
[null,"C.1","PIS ",{"$nulls":5},1.6500000000000001E-2,{"$f":"H102*I103","v":81.627645000000001}]
[null,"C.2","COFINS ",{"$nulls":5},7.5999999999999998E-2,{"$f":"H102*I104","v":375.98187999999999}]
[null,"C.3","ISSQN",{"$nulls":5},0.03,{"$f":"H102*I105","v":148.41389999999998}]
[null,"TOTAL DO MÓDULO 6",{"$nulls":7},{"$f":"J100+J101+J102","v":998.95342499999992}]
[]
[]
[null,"QUADRO RESUMO DO CUSTO POR EMPREGADO"]
[null,"Mão-de-Obra vinculada à execução contratual (valor por empregado)",{"$nulls":7},"VALOR (R$)"]
[null,"A",{"$f":"B17","v":"MÓDULO 1 - COMPOSIÇÃO DA REMUNERAÇÃO"},{"$nulls":6},{"$f":"J26","v":1725.95}]
[null,"B",{"$f":"B28","v":"MÓDULO 2 – ENCARGOS E BENEFÍCIOS ANUAIS, MENSAIS E DIÁRIOS"},{"$nulls":6},{"$f":"J58","v":1624.59}]
[null,"C",{"$f":"B60","v":"MÓDULO 3 – PROVISÃO PARA RESCISÃO"},{"$nulls":6},{"$f":"J68","v":249.14}]
[null,"D",{"$f":"B70","v":"MÓDULO 4 – CUSTO DE REPOSIÇÃO DO PROFISSIONAL AUSENTE"},{"$nulls":6},{"$f":"J88","v":316.36}]
[null,"E",{"$f":"B90","v":"MÓDULO 5 – INSUMOS DIVERSOS"},{"$nulls":6},{"$f":"J96","v":32.14}]
[null,null,"Subtotal (A + B + C + D + E)",{"$nulls":6},{"$f":"TRUNC(SUM(J111:J115),2)","v":3948.18}]
[null,"F",{"$f":"B98","v":"MÓDULO 6 – CUSTOS INDIRETOS, TRIBUTOS E LUCRO"},{"$nulls":6},{"$f":"J106","v":998.95342499999992}]
[null,"PREÇO TOTAL POR EMPREGADO",{"$nulls":7},{"$f":"TRUNC(SUM(J116:J117),2)","v":4947.13}]

{"sheet":"Uniformes","index":5,"n_rows":15,"n_cols":9,"rows_kept":15,"cut":false,"hidden":false,"merged":[]}
[" 1ª Superintendência Regional – Montes Claros / MG","Preço médio unitário (R$)","Quantidade anual","Custo anual por posto (R$)","Custo mensal por posto (R$)"]
[" Calça comprida com elástico e cordão, em gabardine ou brim",29.05,4,116.2,9.68]
["Camiseta malha fria, com gola esporte, em gabardine com emblema da empresa pintado",20.11,4,80.44,6.7]
["Calçado: sapato preto em couro, solado baixo, com palmilha antibacteriana",100.55,2,201.1,15.76]
[null,null,null,"Total",32.14]
{"$rows_empty":9}
[{"$nulls":8},{"$f":"9.68+6.7+15.76","v":32.14}]