{"text_format":"2","workbook":"xlsx","n_sheets":4,"sheets":["Anexo IV - Planilha Custos","Posto Diurno","Posto Noturno","Insumos"],"not_rendered":{"charts":0,"images":1,"macros":0,"external_links":0,"defined_names":4,"comments":0,"pivot_tables":0},"unopened":[],"bounds":{"document_bytes":16777216,"sheet_cells":100000,"run_cost":"one","rows_first":2000,"rows_last":500,"rows_between":2000,"halvings":0,"cell_chars":16384,"cell_head_chars":4096},"cells_cut":0,"cells_raw":0,"read":"whole","date_system":"1900"}

{"sheet":"Anexo IV - Planilha Custos","index":0,"n_rows":18,"n_cols":5,"rows_kept":18,"cut":false,"hidden":false,"merged":[[0,1,2,4],[16,0,16,3],[17,0,17,3],[3,0,3,4],[4,0,4,4],[5,0,5,4],[6,0,6,4],[7,0,7,4],[8,0,8,4],[9,0,9,4],[10,0,10,4],[12,0,13,0],[12,1,13,1],[12,2,13,2],[12,3,13,3],[12,4,13,4]]}
[null,"Ministério do Desenvolvimento Regional - M D R\nCompanhia de Desenvolvimento dos Vales do São Francisco e do Parnaíba\n8ª Superintendência Regional "]
[]
[]
[]
[]
["Anexo IV: Planilha de Custos"]
[]
[]
["Município/UF: São Luís/MA"]
["Ano Acordo, Convenção Coletiva ou Sentença Normativa em Dissídio Coletivo: 2022/2023"]
["Nº de meses de execução contratual: 12 meses"]
[]
["Tipo de Posto","Quantidade de Postos","Valor Unitário Mensal (R$)","Preço Máximo Mensal (R$)","Preço Máximo Anual (R$)"]
[]
["Vigilância 12x36 (Diurno)",1,{"$f":"IFERROR('Posto Diurno'!F151,\"\")","v":10010.09},{"$f":"IFERROR(B15*C15,\"\")","v":10010.09},{"$f":"IFERROR(D15*12,\"\")","v":120121.08}]
["Vigilância 12x36 (Noturno)",1,{"$f":"IFERROR('Posto Noturno'!F151,\"\")","v":11439.75},{"$f":"IFERROR(B16*C16,\"\")","v":11439.75},{"$f":"IFERROR(D16*12,\"\")","v":137277}]
["Valor Máximo Mensal do Contrato (1 Posto Diurno e 1 Posto Noturno)",null,null,null,{"$f":"IFERROR(D15+D16,\"\")","v":21449.84}]
["Valor Máximo Anual do Contrato (12 meses) ",null,null,null,{"$f":"IFERROR(E17*12,\"\")","v":257398.08000000002}]

{"sheet":"Posto Diurno","index":1,"n_rows":161,"n_cols":8,"rows_kept":161,"cut":false,"hidden":false,"merged":[[157,2,157,4],[158,2,158,4],[159,2,159,4],[160,2,160,4],[15,1,15,6],[145,1,145,3],[148,1,148,2],[149,1,149,2],[153,1,153,6],[156,1,156,5],[138,1,138,3],[139,2,139,3],[140,2,140,3],[141,2,141,3],[142,2,142,3],[18,1,18,2],[82,1,82,2],[144,2,144,3],[143,1,143,3],[93,2,93,3],[100,1,100,2],[103,2,103,3],[110,1,110,2],[112,1,112,2],[115,2,115,3],[122,1,122,3],[127,2,127,4],[128,2,128,4],[135,1,135,3],[90,1,90,2],[35,2,35,3],[43,1,43,3],[46,2,46,3],[55,1,55,3],[12,1,13,1],[87,2,87,3],[59,5,59,7],[61,5,61,7],[36,5,36,7],[7,1,7,5],[8,1,9,1],[8,2,9,2],[8,3,9,3],[8,4,9,4],[8,5,9,5],[58,2,58,3],[63,1,63,3],[76,1,76,2],[79,2,79,3],[84,1,84,2],[28,1,28,3],[0,1,2,4],[3,0,3,4],[4,0,4,4],[5,1,5,6],[8,6,9,6]]}
[]
[]
[]
[]
[]
[null,"POSTO DIURNO"]
[]
[]
[null,"Item","Posto","Custo Estimado por posto","Quantidade de postos","Valor mensal","Valor anual"]
[]
[null,1,"Vigilante (sem adicional noturno)",{"$f":"F151","v":10010.09},1,{"$f":"F160","v":10010.09},{"$f":"F161","v":120121.08}]
[]
[null,"E","RESPONSÁVEL PELO PROJETO"]
[null,null,"Unidade de Serviços Auxiliares."]
[]
[null,"PLANILHA DE COMPOSIÇÃO DE CUSTOS E FORMAÇÃO DE PREÇOS"]
[]
[null,"MÃO-DE-OBRA VINCULADA À EXECUÇÃO CONTRATUAL"]
[null,"Planilha de Proposta de Preço"]
[null,null,"Processo nº:  59580.000XXX/20XX-XX"]
[null,null,"Licitação nº__________     Pregão Eletrônico nº XX/2022"]
[]
[null,"A","Data da apresentação da proposta"]
[null,"B","Município/UF","São Luís/ MA"]
[null,"C","Ano Acordo, Convenção Coletiva ou Sentença Normativa em Dissídio Coletivo.","2022-02-01"]
[null,"D","Nº de meses de execução contratual","12 meses"]
[]
[null,"Mão-de-obra vinculada à execução contratual"]
[null,"Dados complementares para composição dos custos referente à mão-de-obra"]
[null,1,"Tipo de serviço","Vigilância"]
[null,2,"Salário normativo da categoria profissional",1381.57]
[null,3,"Categoria profissional","Vigilância"]
[null,4,"Data base da categoria","2022-02-01"]
[]
[null,"Módulo 1: Composição da Remuneração"]
[null,1,"Composição da Remuneração",null,"Valor (R$)"]
[null,"A","Salário Base",null,{"$f":"D31","v":1381.57}]
[null,"B","Adicional de periculosidade",0.3,{"$f":"D38*E37","v":414.47099999999995}]
[null,"C","Adicional de insalubridade",0,0]
[null,"D","Adicional noturno",0,{"$f":"E37*D40","v":0}]
[null,"E","Hora noturna adicional",0,0]
[null,"F","Adicional de risco de vida",0,{"$f":"E37*D42","v":0}]
[null,"G","Intervalo intrajornada",null,{"$f":"SUM(E37:E38)/220*1.5*15","v":183.68601136363637}]
[null,"Total da Remuneração",null,null,{"$f":"E37+E38+E39+E40+E41+E42+E43","v":1979.7270113636364}]
[]
[null,"Módulo 2: Benefícios Mensais e diários"]
[null,2,"Benefícios Mensais e Diários",null,"Valor (R$)"]
[null,"A","Transporte  (R$ 3,90 x15 dias x 2 viagens)",null,{"$f":"(3.9*15*2)","v":117}]
[null,"C","Auxílio alimentação (R$ 22,12 x 15 plantões)",null,{"$f":"22.12*15","v":331.8}]
[null,"D","Plano de saúde ",3.7999999999999999E-2,{"$f":"D50*D31","v":52.499659999999999}]
[null,"E","Auxílio creche",null,0]
[null,"F","Seguro de vida",null,{"$f":"SUM(15.5+12)/2","v":13.75}]
[null,"G","Auxílio invalidez",null,0]
[null,"H","Auxílio funeral",null,0]
[null,"I","Outros (Exames Médicos)",null,0]
[null,"Total de benefícios mensais e diários",null,null,{"$f":"SUM(E48:E55)","v":515.04966000000002}]
[]
[null,"Módulo 3: Insumos Diversos"]
[null,3,"Insumos diversos",null,"Valor (R$)"]
[null,"A","Uniformes",null,{"$f":"AVERAGE(Insumos!G42,Insumos!G68,Insumos!G94)","v":20.923333333333332}]
[null,"B","Materiais",null,{"$f":"AVERAGE(Insumos!G48,Insumos!G74,Insumos!G100)","v":37.54}]
[null,"C","Equipamentos",null,{"$f":"AVERAGE(Insumos!G55,Insumos!G81)","v":149.88}]
[null,"D","Outros  (Especificar)",null,0]
[null,"Total de Insumos Diversos",null,null,{"$f":"SUM(E60:E63)","v":208.34333333333333}]
[]
[null,"Módulo 4: Encargos Sociais e Trabalhistas"]
[null,"Submódulo 4.1 – Encargos previdenciários e FGTS"]
[null,"4.1","Encargos previdenciários e FGTS","%","Valor (R$)"]
[null,"A","INSS",0.2,{"$f":"E44*0.2","v":395.94540227272728}]
[null,"B","SESI OU SESC",1.4999999999999999E-2,{"$f":"E44*0.015","v":29.695905170454544}]
[null,"C","SENAI OU SENAC",0.01,{"$f":"E44*0.01","v":19.797270113636365}]
[null,"D","INCRA",2E-3,{"$f":"E44*0.002","v":3.959454022727273}]
[null,"E","Salário Educação",2.5000000000000001E-2,{"$f":"E44*0.025","v":49.49317528409091}]
[null,"F","FGTS",0.08,{"$f":"E44*0.08","v":158.37816090909092}]
[null,"G","Seguro Acidente de Trabalho",0.03,{"$f":"E44*0.03","v":59.391810340909089}]
[null,"H","SEBRAE",6.0000000000000001E-3,{"$f":"E44*0.006","v":11.878362068181819}]
[null,"Total",null,{"$f":"SUM(D69:D76)","v":0.3680000000000001},{"$f":"SUM(E69:E76)","v":728.5395401818181}]
[]
[null,"Submódulo 4.2 – 13º salário e Adicional de Férias"]
[null,"4.2","13º Salário e Adicional de Férias",null,"Valor (R$)"]
[null,"A","13º Salário ",{"$f":"5/56","v":8.9285714285714288E-2},{"$f":"D81*E44","v":176.76134030032469}]
[null,"B","Adicional de Férias",{"$f":"(1/3)*D81","v":2.976190476190476E-2},{"$f":"E44*D82","v":58.920446766774887}]
[null,"Subtotal",null,{"$f":"D81+D82","v":0.11904761904761904},{"$f":"SUM(E81:E82)","v":235.68178706709958}]
[null,"C","Incidência do Submódulo 4.1 sobre 13º salário e adicional de férias",{"$f":"D77","v":0.3680000000000001},{"$f":"D84*E83","v":86.730897640692675}]
[null,"Total",null,{"$f":"SUM(D83:D84)","v":0.48704761904761917},{"$f":"SUM(E83:E84)","v":322.41268470779227}]
[]
[null,"Submódulo 4.3 – Afastamento Maternidade"]
[null,"4.3","Afastamento Maternidade",null,"Valor (R$)"]
[null,"A","Afastamento Maternidade",1.37E-2,{"$f":"E44*D89","v":27.122260055681821}]
[null,"B","Incidência do submódulo 4.1 sobre afastamento maternidade",{"$f":"D77*D89","v":5.041600000000002E-3},{"$f":"E89*D90","v":0.13673958629672553}]
[null,"Total",null,{"$f":"SUM(D89:D90)","v":1.8741600000000004E-2},{"$f":"SUM(E89:E90)","v":27.258999641978548}]
[]
[null,"Submódulo 4.4 – Provisão para Rescisão"]
[null,"4.4","Provisão para Rescisão",null,"Valor (R$)"]
[null,"A","Aviso prévio Indenizado",{"$f":" ((1/12)* 0.05)","v":4.1666666666666666E-3},{"$f":"E44*D95","v":8.2488625473484856}]
[null,"B","Incidência do FGTS sobre aviso prévio indenizado (provisão para rescisão)",{"$f":"D74*D95","v":3.3333333333333332E-4},{"$f":"E44*D96","v":0.65990900378787876}]
[null,"C","Multa do FGTS do aviso prévio indenizado (manual)",{"$f":"0.08*0.5*0.9*(1 + 5/56+5/56+1/3*5/56)","v":4.3499999999999997E-2},{"$f":"D97*E44","v":86.11812499431818}]
[null,"D","Aviso prévio trabalhado  (manual)",{"$f":" ((7/30)/12)*0.02","v":3.8888888888888892E-4},{"$f":"E44*D98","v":0.76989383775252529}]
[null,"E","Incidência do submódulo 4.1 sobre aviso prévio trabalhado",{"$f":"D77","v":0.3680000000000001},{"$f":"E98*D77","v":0.28332093229292937}]
[null,"F","Multa FGTS do aviso prévio trabalhado",{"$f":"(40%)*D74","v":3.2000000000000001E-2},{"$f":"D100*E98","v":2.4636602808080811E-2}]
[null,"Total",null,{"$f":"SUM(D95:D100)","v":0.44838888888888895},{"$f":"SUM(E95:E100)","v":96.104747918308078}]
[]
[null,"Submódulo 4.5 – Custo de Reposição do Profissional Ausente"]
[null,"4.5","Composição do custo de Reposição do Profissional Ausente",null,"Valor (R$)"]
[null,"A","Férias ",{"$f":"(5/56)","v":8.9285714285714288E-2},{"$f":"E44*D105","v":176.76134030032469}]
[null,"B","Ausência por doença ",{"$f":"(5.96/30)/12","v":1.6555555555555556E-2},{"$f":"E44*D106","v":32.775480521464651}]
[null,"C","Licença paternidade ",{"$f":"((5/30)/12)*0.015","v":2.0833333333333332E-4},{"$f":"E44*D107","v":0.41244312736742422}]
[null,"D","Ausências legais",{"$f":"(2.96/30)*(1/12)","v":8.222222222222221E-3},{"$f":"E44*D108","v":16.277755426767676}]
[null,"E","Ausência por acidente de trabalho",{"$f":" ((15/30)/12)*0.0078","v":3.2499999999999999E-4},{"$f":"E44*D109","v":0.64341127869318182}]
[null,"F","Outros",0,0]
[null,"Subtotal",null,{"$f":"SUM(D105:D110)","v":0.11459682539682541},{"$f":"SUM(E105:E110)","v":226.87043065461762}]
[null,"G","Incidência do submódulo 4.1 sobre o Custo de reposição",{"$f":"D77","v":0.3680000000000001},{"$f":"E111*D112","v":83.488318480899309}]
[null,"Total",null,{"$f":"SUM(D111:D112)","v":0.48259682539682552},{"$f":"SUM(E111:E112)","v":310.35874913551692}]
[]
[null,"Quadro – resumo – Módulo 4 – Encargos sociais e trabalhistas"]
[null,4,"Encargos Sociais e Trabalhistas",null,"Valor (R$)"]
[null,"4.1","13º salário+Adicional de Férias",null,{"$f":"E85","v":322.41268470779227}]
[null,"4.2","Encargos Previdenciários e FGTS",null,{"$f":"E77","v":728.5395401818181}]
[null,"4.3","Afastamento Maternidade",null,{"$f":"E91","v":27.258999641978548}]
[null,"4.4","Custo de Rescisão",null,{"$f":"E101","v":96.104747918308078}]
[null,"4.5","Custo de Reposição do Profissional Ausente",null,{"$f":"E113","v":310.35874913551692}]
[null,"4.6","Outros",null,0]
[null,"Total",null,null,{"$f":"SUM(E117:E122)","v":1484.6747215854139}]
[]
[null,"Módulo 5: Custos indiretos, tributos e lucro"]
[null,5,"Custos Indiretos, Tributos e Lucro","%","Valor (R$)"]
[null,"A","Custos Indiretos (Portaria nº 7 da IN nº2/2008)",0.05,{"$f":"E144*D127","v":209.3897363141192}]
[null,"B","Tributos"]
[null,"B.1","Tributos Federais"]
[null,"B.1.1","PIS (depende do regime de tributação)",6.4999999999999997E-3,{"$f":"(E144+E127+E135)*D130","v":29.942732292919047}]
[null,"B.1.1","COFINS (depende do regime de tributação)",0.03,{"$f":"(E144+E127+E135)*D131","v":138.19722596731867}]
[null,"B.2","Tributos Estaduais  (ISS)",0.05,{"$f":"(E144+E127+E135)*D132","v":230.32870994553116}]
[null,"B.3","Tributos Municipais",null,0]
[null,"B.4","Outros Tributos",null,0]
[null,"C","Lucro",0.05,{"$f":"(E44+E56+E64+E123)*D135","v":209.3897363141192}]
[null,"Total",null,null,{"$f":"SUM(E127:E135)","v":817.24814083400736}]
[]
[null,"Anexo III – B – Quadro resumo do custo por empregado"]
[null,"Mão-de-obra vinculada à execução contratual (valor por empregado)",null,null,"Valor (R$)"]
[null,"A","Módulo 1- Composição da Remuneração",null,{"$f":"E44","v":1979.7270113636364}]
[null,"B","Módulo 2- Benefícios Mensais e Diários",null,{"$f":"E56","v":515.04966000000002}]
[null,"C","Módulo 3- Insumos Diversos (uniformes, materiais, equipamentos e outros)",null,{"$f":"E64","v":208.34333333333333}]
[null,"D","Módulo 4- Encargos Sociais e Trabalhistas",null,{"$f":"E123","v":1484.6747215854139}]
[null,"Subtotal (A+B+C+D)",null,null,{"$f":"SUM(E140:E143)","v":4187.7947262823836}]
[null,"E","Módulo 5 – Custos indiretos, tributos e lucro",null,{"$f":"E136","v":817.24814083400736}]
[null,"Valor total por empregado",null,null,{"$f":"SUM(E144:E145)","v":5005.0428671163909}]
[]
[null,"Anexo III –C – Quadro-resumo – Valor Mensal dos Serviços"]
[null,"Tipo de serviço",null,"Valor proposto por empregado","Qtde de empregados por posto","Valor proposto\npor posto","Qtde de postos","Valor total dos serviços"]
[null,"(A)",null," (B)","(C)","(D)=(BXC)","(E)","(F)=(DxE)"]
[null,"I","Serviço 1 (sem adicional noturno)",{"$f":"E146","v":5005.0428671163909},2,{"$f":"ROUND(D151*E151,2)","v":10010.09},1,{"$f":"ROUND(F151*G151,2)","v":10010.09}]
[null,"II","Serviço 2 (indicar)",0,null,0,null,0]
[]
[null,"Valor mensal dos serviços (I+II)",{"$nulls":5},{"$f":"ROUND(SUM(H151:H153),2)","v":10010.09}]
[]
[null,"Anexo III –D – Quadro-demonstrativo – Valor Global da proposta"]
[null,"Valor global da proposta"]
[null,null,"Descrição",null,null,"Valor (R$)"]
[null,"A","Valor proposto por unidade de medida",null,null,{"$f":"F151","v":10010.09}]
[null,"B","Valor mensal do serviço",null,null,{"$f":"H154","v":10010.09}]
[null,"C","Valor global da proposta (valor mensal do serviço x nº meses do contrato)",null,null,{"$f":"ROUND(F160*12,2)","v":120121.08}]

{"sheet":"Posto Noturno","index":2,"n_rows":161,"n_cols":8,"rows_kept":161,"cut":false,"hidden":false,"merged":[[158,2,158,4],[159,2,159,4],[160,2,160,4],[15,1,15,6],[145,1,145,3],[148,1,148,2],[149,1,149,2],[153,1,153,6],[156,1,156,5],[157,2,157,4],[139,2,139,3],[140,2,140,3],[141,2,141,3],[142,2,142,3],[143,1,143,3],[144,2,144,3],[138,1,138,3],[90,1,90,2],[93,2,93,3],[100,1,100,2],[103,2,103,3],[110,1,110,2],[112,1,112,2],[115,2,115,3],[122,1,122,3],[127,2,127,4],[128,2,128,4],[135,1,135,3],[87,2,87,3],[43,1,43,3],[46,2,46,3],[55,1,55,3],[58,2,58,3],[63,1,63,3],[76,1,76,2],[79,2,79,3],[82,1,82,2],[84,1,84,2],[59,5,59,7],[61,5,61,7],[8,6,9,6],[12,1,13,1],[18,1,18,2],[28,1,28,3],[35,2,35,3],[36,5,36,7],[7,1,7,5],[8,1,9,1],[8,2,9,2],[8,3,9,3],[8,4,9,4],[8,5,9,5],[0,1,2,4],[3,0,3,4],[4,0,4,4],[5,1,5,6],[6,1,6,6]]}
[]
[]
[]
[]
[]
[null,"POSTO NOTURNO"]
[]
[]
[null,"Item","Posto","Custo Estimado por posto","Quantidade de postos","Valor mensal","Valor anual"]
[]
[null,1,"Vigilante (com adicional noturno)",{"$f":"F151","v":11439.75},1,{"$f":"F160","v":11439.75},{"$f":"F161","v":137277}]
[]
[null,"E","RESPONSÁVEL PELO PROJETO"]
[null,null,"Unidade de Serviços Auxiliares."]
[]
[null,"PLANILHA DE COMPOSIÇÃO DE CUSTOS E FORMAÇÃO DE PREÇOS"]
[]
[null,"MÃO-DE-OBRA VINCULADA À EXECUÇÃO CONTRATUAL"]
[null,"Planilha de Proposta de Preço"]
[null,null,"Processo nº:  59580.000XXX/20XX-XX"]
[null,null,"Licitação nº__________     Pregão Eletrônico nº XX/2022"]
[]
[null,"A","Data da apresentação da proposta"]
[null,"B","Município/UF","São Luís/ MA"]
[null,"C","Ano Acordo, Convenção Coletiva ou Sentença Normativa em Dissídio Coletivo.","2022-02-01"]
[null,"D","Nº de meses de execução contratual","12 meses"]
[]
[null,"Mão-de-obra vinculada à execução contratual"]
[null,"Dados complementares para composição dos custos referente à mão-de-obra"]
[null,1,"Tipo de serviço","Vigilância"]
[null,2,"Salário normativo da categoria profissional",{"$f":"'Posto Diurno'!D31","v":1381.57}]
[null,3,"Categoria profissional","Vigilância"]
[null,4,"Data base da categoria","2022-02-01"]
[]
[null,"Módulo 1: Composição da Remuneração"]
[null,1,"Composição da Remuneração",null,"Valor (R$)"]
[null,"A","Salário Base",null,{"$f":"D31","v":1381.57}]
[null,"B","Adicional de periculosidade",0.3,{"$f":"D38*E37","v":414.47099999999995}]
[null,"C","Adicional de insalubridade",0,0]
[null,"D","Adicional noturno",0,{"$f":"(E37+E38)/220*0.2*15*7","v":171.44027727272726}]
[null,"E","Hora Noturna Reduzida - Súmula 444",0,{"$f":"(E37+E38+E40)/220*1.5*15","v":201.21967608471073}]
[null,"F","Adicional de risco de vida",0,{"$f":"E37*D42","v":0}]
[null,"G","Intervalo intrajornada",null,{"$f":"SUM(E37)/220*1.5*15","v":141.2969318181818}]
[null,"Total da Remuneração",null,null,{"$f":"E37+E38+E39+E40+E41+E42+E43","v":2309.99788517562}]
[]
[null,"Módulo 2: Benefícios Mensais e diários"]
[null,2,"Benefícios Mensais e Diários",null,"Valor (R$)"]
[null,"A","Transporte  (R$ 3,90 x15 dias x 2 viagens)",null,{"$f":"(3.9*15*2)","v":117}]
[null,"C","Auxílio alimentação (R$ 22,12 x 15 plantões)",null,{"$f":"22.12*15","v":331.8}]
[null,"D","Plano de saúde ",3.7999999999999999E-2,{"$f":"D50*E37","v":52.499659999999999}]
[null,"E","Auxílio creche",null,0]
[null,"F","Seguro de vida",null,{"$f":"SUM(15.5+12)/2","v":13.75}]
[null,"G","Auxílio invalidez",null,0]
[null,"H","Auxílio funeral",null,0]
[null,"I","Outros (Exames Médicos)",null,0]
[null,"Total de benefícios mensais e diários",null,null,{"$f":"SUM(E48:E55)","v":515.04966000000002}]
[]
[null,"Módulo 3: Insumos Diversos"]
[null,3,"Insumos diversos",null,"Valor (R$)"]
[null,"A","Uniformes (Cotação no Mercado)",null,{"$f":"Insumos!G13","v":41.08}]
[null,"B","Materiais (Cotação no Mercado)",null,{"$f":"Insumos!G20","v":37.54}]
[null,"C","Equipamentos (Cotação no Mercado)",null,{"$f":"Insumos!G28","v":149.88}]
[null,"D","Outros ",null,0]
[null,"Total de Insumos Diversos",null,null,{"$f":"SUM(E60:E63)","v":228.5}]
[]
[null,"Módulo 4: Encargos Sociais e Trabalhistas"]
[null,"Submódulo 4.1 – Encargos previdenciários e FGTS"]
[null,"4.1","Encargos previdenciários e FGTS","%","Valor (R$)"]
[null,"A","INSS",0.2,{"$f":"E44*0.2","v":461.99957703512405}]
[null,"B","SESI OU SESC",1.4999999999999999E-2,{"$f":"E44*0.015","v":34.649968277634301}]
[null,"C","SENAI OU SENAC",0.01,{"$f":"E44*0.01","v":23.099978851756202}]
[null,"D","INCRA",2E-3,{"$f":"E44*0.002","v":4.61999577035124}]
[null,"E","Salário Educação",2.5000000000000001E-2,{"$f":"E44*0.025","v":57.749947129390506}]
[null,"F","FGTS",0.08,{"$f":"E44*0.08","v":184.79983081404961}]
[null,"G","Seguro Acidente de Trabalho",0.03,{"$f":"E44*0.03","v":69.299936555268602}]
[null,"H","SEBRAE",6.0000000000000001E-3,{"$f":"E44*0.006","v":13.85998731105372}]
[null,"Total",null,{"$f":"SUM(D69:D76)","v":0.3680000000000001},{"$f":"SUM(E69:E76)","v":850.07922174462828}]
[]
[null,"Submódulo 4.2 – 13º salário e Adicional de Férias"]
[null,"4.2","13º Salário e Adicional de Férias",null,"Valor (R$)"]
[null,"A","13º Salário ",{"$f":"5/56","v":8.9285714285714288E-2},{"$f":"D81*E44","v":206.24981117639464}]
[null,"B","Adicional de Férias",{"$f":"(1/3)*D81","v":2.976190476190476E-2},{"$f":"E44*D82","v":68.74993705879821}]
[null,"Subtotal",null,{"$f":"D81+D82","v":0.11904761904761904},{"$f":"SUM(E81:E82)","v":274.99974823519284}]
[null,"C","Incidência do Submódulo 4.1 sobre 13º salário e adicional de férias",{"$f":"D77","v":0.3680000000000001},{"$f":"D84*E83","v":101.19990735055099}]
[null,"Total",null,{"$f":"SUM(D83:D84)","v":0.48704761904761917},{"$f":"SUM(E83:E84)","v":376.19965558574381}]
[]
[null,"Submódulo 4.3 – Afastamento Maternidade"]
[null,"4.3","Afastamento Maternidade",null,"Valor (R$)"]
[null,"A","Afastamento Maternidade",1.37E-2,{"$f":"E44*D89","v":31.646971026905995}]
[null,"B","Incidência do submódulo 4.1 sobre afastamento maternidade",{"$f":"D77*D89","v":5.041600000000002E-3},{"$f":"E89*D90","v":0.15955136912924933}]
[null,"Total",null,{"$f":"SUM(D89:D90)","v":1.8741600000000004E-2},{"$f":"SUM(E89:E90)","v":31.806522396035245}]
[]
[null,"Submódulo 4.4 – Provisão para Rescisão"]
[null,"4.4","Provisão para Rescisão",null,"Valor (R$)"]
[null,"A","Aviso prévio Indenizado",{"$f":" ((1/12)* 0.05)","v":4.1666666666666666E-3},{"$f":"E44*D95","v":9.6249911882317498}]
[null,"B","Incidência do FGTS sobre aviso prévio indenizado (provisão para rescisão)",{"$f":"D74*D95","v":3.3333333333333332E-4},{"$f":"E44*D96","v":0.76999929505853992}]
[null,"C","Multa do FGTS do aviso prévio indenizado (manual)",{"$f":"0.08*0.5*0.9*(1 + 5/56+5/56+1/3*5/56)","v":4.3499999999999997E-2},{"$f":"D97*E44","v":100.48490800513946}]
[null,"D","Aviso prévio trabalhado  (manual)",{"$f":" ((7/30)/12)*0.02","v":3.8888888888888892E-4},{"$f":"E44*D98","v":0.89833251090163013}]
[null,"E","Incidência do submódulo 4.1 sobre aviso prévio trabalhado",{"$f":"D77","v":0.3680000000000001},{"$f":"E98*D77","v":0.33058636401179997}]
[null,"F","Multa FGTS do aviso prévio trabalhado",{"$f":"(40%)*D74","v":3.2000000000000001E-2},{"$f":"D100*E98","v":2.8746640348852166E-2}]
[null,"Total",null,{"$f":"SUM(D95:D100)","v":0.44838888888888895},{"$f":"SUM(E95:E100)","v":112.13756400369202}]
[]
[null,"Submódulo 4.5 – Custo de Reposição do Profissional Ausente"]
[null,"4.5","Composição do custo de Reposição do Profissional Ausente",null,"Valor (R$)"]
[null,"A","Férias ",{"$f":"(5/56)","v":8.9285714285714288E-2},{"$f":"E44*D105","v":206.24981117639464}]
[null,"B","Ausência por doença ",{"$f":"(5.96/30)/12","v":1.6555555555555556E-2},{"$f":"E44*D106","v":38.243298321240822}]
[null,"C","Licença paternidade ",{"$f":"((5/30)/12)*0.015","v":2.0833333333333332E-4},{"$f":"E44*D107","v":0.48124955941158748}]
[null,"D","Ausências legais",{"$f":"(2.96/30)*(1/12)","v":8.222222222222221E-3},{"$f":"E44*D108","v":18.993315944777319}]
[null,"E","Ausência por acidente de trabalho",{"$f":" ((15/30)/12)*0.0078","v":3.2499999999999999E-4},{"$f":"E44*D109","v":0.75074931268207645}]
[null,"F","Outros",0,0]
[null,"Subtotal",null,{"$f":"SUM(D105:D110)","v":0.11459682539682541},{"$f":"SUM(E105:E110)","v":264.71842431450648}]
[null,"G","Incidência do submódulo 4.1 sobre o Custo de reposição",{"$f":"D77","v":0.3680000000000001},{"$f":"E111*D112","v":97.416380147738408}]
[null,"Total",null,{"$f":"SUM(D111:D112)","v":0.48259682539682552},{"$f":"SUM(E111:E112)","v":362.13480446224492}]
[]
[null,"Quadro – resumo – Módulo 4 – Encargos sociais e trabalhistas"]
[null,4,"Encargos Sociais e Trabalhistas",null,"Valor (R$)"]
[null,"4.1","13º salário+Adicional de Férias",null,{"$f":"E85","v":376.19965558574381}]
[null,"4.2","Encargos Previdenciários e FGTS",null,{"$f":"E77","v":850.07922174462828}]
[null,"4.3","Afastamento Maternidade",null,{"$f":"E91","v":31.806522396035245}]
[null,"4.4","Custo de Rescisão",null,{"$f":"E101","v":112.13756400369202}]
[null,"4.5","Custo de Reposição do Profissional Ausente",null,{"$f":"E113","v":362.13480446224492}]
[null,"4.6","Outros",null,0]
[null,"Total",null,null,{"$f":"SUM(E117:E122)","v":1732.3577681923443}]
[]
[null,"Módulo 5: Custos indiretos, tributos e lucro"]
[null,5,"Custos Indiretos, Tributos e Lucro","%","Valor (R$)"]
[null,"A","Custos Indiretos (Portaria nº 7 da IN nº2/2008)",0.05,{"$f":"E144*D127","v":239.29526566839823}]
[null,"B","Tributos"]
[null,"B.1","Tributos Federais"]
[null,"B.1.1","PIS (depende do regime de tributação)",6.4999999999999997E-3,{"$f":"(E144+E127+E135)*D130","v":34.219222990580946}]
[null,"B.1.1","COFINS (depende do regime de tributação)",0.03,{"$f":"(E144+E127+E135)*D131","v":157.93487534114283}]
[null,"B.2","Tributos Estaduais  (ISS)",0.05,{"$f":"(E144+E127+E135)*D132","v":263.22479223523806}]
[null,"B.3","Tributos Municipais",null,0]
[null,"B.4","Outros Tributos",null,0]
[null,"C","Lucro",0.05,{"$f":"(E44+E56+E64+E123)*D135","v":239.29526566839823}]
[null,"Total",null,null,{"$f":"SUM(E127:E135)","v":933.9694219037583}]
[]
[null,"Anexo III – B – Quadro resumo do custo por empregado"]
[null,"Mão-de-obra vinculada à execução contratual (valor por empregado)",null,null,"Valor (R$)"]
[null,"A","Módulo 1- Composição da Remuneração",null,{"$f":"E44","v":2309.99788517562}]
[null,"B","Módulo 2- Benefícios Mensais e Diários",null,{"$f":"E56","v":515.04966000000002}]
[null,"C","Módulo 3- Insumos Diversos (uniformes, materiais, equipamentos e outros)",null,{"$f":"E64","v":228.5}]
[null,"D","Módulo 4- Encargos Sociais e Trabalhistas",null,{"$f":"E123","v":1732.3577681923443}]
[null,"Subtotal (A+B+C+D)",null,null,{"$f":"SUM(E140:E143)","v":4785.9053133679645}]
[null,"E","Módulo 5 – Custos indiretos, tributos e lucro",null,{"$f":"E136","v":933.9694219037583}]
[null,"Valor total por empregado",null,null,{"$f":"SUM(E144:E145)","v":5719.8747352717228}]
[]
[null,"Anexo III –C – Quadro-resumo – Valor Mensal dos Serviços"]
[null,"Tipo de serviço",null,"Valor proposto por empregado","Qtde de empregados por posto","Valor proposto\npor posto","Qtde de postos","Valor total dos serviços"]
[null,"(A)",null," (B)","(C)","(D)=(BXC)","(E)","(F)=(DxE)"]
[null,"I","Serviço 1 (com adicional noturno)",{"$f":"E146","v":5719.8747352717228},2,{"$f":"ROUND(D151*E151,2)","v":11439.75},1,{"$f":"ROUND(F151*G151,2)","v":11439.75}]
[null,"II","Serviço 2 (indicar)",0,null,0,null,0]
[]
[null,"Valor mensal dos serviços (I+II)",{"$nulls":5},{"$f":"ROUND(SUM(H151:H153),2)","v":11439.75}]
[]
[null,"Anexo III –D – Quadro-demonstrativo – Valor Global da proposta"]
[null,"Valor global da proposta"]
[null,null,"Descrição",null,null,"Valor (R$)"]
[null,"A","Valor proposto por unidade de medida",null,null,{"$f":"F151","v":11439.75}]
[null,"B","Valor mensal do serviço",null,null,{"$f":"H154","v":11439.75}]
[null,"C","Valor global da proposta (valor mensal do serviço x nº meses do contrato)",null,null,{"$f":"ROUND(F160*12,2)","v":137277}]

{"sheet":"Insumos","index":3,"n_rows":107,"n_cols":7,"rows_kept":107,"cut":false,"hidden":false,"merged":[[1,1,1,6],[11,1,11,5],[12,1,12,5],[18,1,18,5],[19,1,19,5],[26,1,26,5],[27,1,27,5],[106,1,106,5],[92,1,92,5],[93,1,93,5],[98,1,98,5],[99,1,99,5],[105,1,105,5],[82,1,83,6],[53,1,53,5],[54,1,54,5],[66,1,66,5],[67,1,67,5],[72,1,72,5],[73,1,73,5],[79,1,79,5],[30,1,31,6],[80,1,80,5],[56,1,57,6],[40,1,40,5],[41,1,41,5],[46,1,46,5],[47,1,47,5]]}
[]
[null,"DISCRIMINAÇÃO DE UNIFORMES, EPIs e EQUIPAMENTOS"]
[]
[null,"Item","Uniforme ","Unid.","Quant.","Preço Unit.","Sub-Total"]
[null,1,"Calça social","und",4,{"$f":"AVERAGE(F34,F60,F86)","v":43.419999999999995},{"$f":"E5*F5","v":173.67999999999998}]
[null,2,"Camisa social","und",4,{"$f":"AVERAGE(F35,F61,F87)","v":35.016666666666666},140.06666666666666]
[null,3,"Cinto","und",2,10.003333333333332,20.006666666666664]
[null,4,"Meia social masculina","par",4,4.1233333333333331,16.493333333333332]
[null,5,"Bota (cuturno)","par",2,62.57,125.14]
[null,6,"Quepe ou boné com emblema","und",1,11.67,11.67]
[null,7,"Crachá de identificação","und",1,5.8566666666666665,5.8566666666666665]
[null,"Total por ano",{"$nulls":4},{"$f":"SUM(G5:G11)","v":492.91333333333336}]
[null,"Custo mensal",{"$nulls":4},{"$f":"ROUND(G12/12,2)","v":41.08}]
[]
[null,"Item","Material","Unid.","Quant.","Preço Unit.","Sub-Total"]
[null,1,"Livro de ocorrência","und",1,{"$f":"AVERAGE(F44,F70,F96)","v":12.753333333333332},{"$f":"E16*F16","v":12.753333333333332}]
[null,2,"Colete balístico","und",1,{"$f":"AVERAGE(F45,F71,F97)","v":385.99},{"$f":"E17*F17","v":385.99}]
[null,3,"Lanterna recarregável","und",1,51.716666666666669,{"$f":"E18*F18","v":51.716666666666669}]
[null,"Total por ano",{"$nulls":4},{"$f":"SUM(G16:G18)","v":450.46000000000004}]
[null,"Custo mensal",{"$nulls":4},{"$f":"ROUND(G19/12,2)","v":37.54}]
[]
[null,"Item","Equipamento","Unid.","Quant.","Preço Unit.","Sub-Total"]
[null,1,"Revólver","und",1,{"$f":"AVERAGE(F50,F76)","v":1700},{"$f":"E23*F23","v":1700}]
[null,2,"Munição","conj",1,{"$f":"AVERAGE(F51,F77)","v":16.100000000000001},{"$f":"E24*F24","v":16.100000000000001}]
[null,3,"Coldre","und",1,32.93,{"$f":"E25*F25","v":32.93}]
[null,4,"Capa do colete balístico","und",1,49.5,{"$f":"E26*F26","v":49.5}]
[null,"Total por ano",{"$nulls":4},{"$f":"SUM(G23:G26)","v":1798.53}]
[null,"Custo mensal",{"$nulls":4},{"$f":"ROUND(G27/12,2)","v":149.88}]
[]
[]
[null,"STONE"]
[]
[null,"Item","Uniforme ","Unid.","Quant.","Preço Unit.","Sub-Total"]
[null,1,"Calça social","und",2,64,{"$f":"E34*F34","v":128}]
[null,2,"Camisa social","und",2,50,100]
[null,3,"Cinto","und",1,12,12]
[null,4,"Meia social masculina","par",1,3,3]
[null,5,"Bota (cuturno)","par",1,75,75]
[null,6,"Quepe ou boné com emblema","und",1,12,12]
[null,7,"Crachá de identificação","und",1,6.5,6.5]
[null,"Total por ano",{"$nulls":4},{"$f":"SUM(G34:G40)","v":336.5}]
[null,"Custo mensal",{"$nulls":4},{"$f":"ROUND(G41/12,2)","v":28.04}]
[null,"Item","Material","Unid.","Quant.","Preço Unit.","Sub-Total"]
[null,1,"Livro de ocorrência","und",1,11.25,{"$f":"E44*F44","v":11.25}]
[null,2,"Colete balístico","und",1,450,{"$f":"E45*F45","v":450}]
[null,3,"Lanterna recarregável","und",1,28,{"$f":"E46*F46","v":28}]
[null,"Total por ano",{"$nulls":4},{"$f":"SUM(G44:G46)","v":489.25}]
[null,"Custo mensal",{"$nulls":4},{"$f":"ROUND(G47/12,2)","v":40.770000000000003}]
[null,"Item","Equipamento","Unid.","Quant.","Preço Unit.","Sub-Total"]
[null,1,"Revólver","und",1,1150,{"$f":"E50*F50","v":1150}]
[null,2,"Munição","conj",1,25,{"$f":"E51*F51","v":25}]
[null,3,"Coldre","und",1,25,{"$f":"E52*F52","v":25}]
[null,4,"Capa do colete balístico","und",1,99,{"$f":"E53*F53","v":99}]
[null,"Total por ano",{"$nulls":4},{"$f":"SUM(G50:G53)","v":1299}]
[null,"Custo mensal",{"$nulls":4},{"$f":"ROUND(G54/12,2)","v":108.25}]
[]
[null,"C&S VIGILÂNCIA E SEGURANÇA"]
[]
[null,"Item","Uniforme ","Unid.","Quant.","Preço Unit.","Sub-Total"]
[null,1,"Calça social","und",2,21.26,{"$f":"E60*F60","v":42.52}]
[null,2,"Camisa social","und",2,20.05,40.1]
[null,3,"Cinto","und",1,9.11,9.11]
[null,4,"Meia social masculina","par",1,6.38,6.38]
[null,5,"Bota (cuturno)","par",1,57.71,57.71]
[null,6,"Quepe ou boné com emblema","und",1,9.11,9.11]
[null,7,"Crachá de identificação","und",1,2.25,2.25]
[null,"Total por ano",{"$nulls":4},{"$f":"SUM(G60:G66)","v":167.18}]
[null,"Custo mensal",{"$nulls":4},{"$f":"ROUND(G67/12,2)","v":13.93}]
[null,"Item","Material","Unid.","Quant.","Preço Unit.","Sub-Total"]
[null,1,"Livro de ocorrência","und",1,9.11,{"$f":"E70*F70","v":9.11}]
[null,2,"Colete balístico","und",1,321.98,{"$f":"E71*F71","v":321.98}]
[null,3,"Lanterna recarregável","und",1,82.15,{"$f":"E72*F72","v":82.15}]
[null,"Total por ano",{"$nulls":4},{"$f":"SUM(G70:G72)","v":413.24}]
[null,"Custo mensal",{"$nulls":4},{"$f":"ROUND(G73/12,2)","v":34.44}]
[null,"Item","Equipamento","Unid.","Quant.","Preço Unit.","Sub-Total"]
[null,1,"Revólver","und",1,2250,{"$f":"E76*F76","v":2250}]
[null,2,"Munição","conj",1,7.2,{"$f":"E77*F77","v":7.2}]
[null,3,"Coldre","und",1,40.86,{"$f":"E78*F78","v":40.86}]
[null,4,"Capa do colete balístico","und",1,0,{"$f":"E79*F79","v":0}]
[null,"Total por ano",{"$nulls":4},{"$f":"SUM(G76:G79)","v":2298.06}]
[null,"Custo mensal",{"$nulls":4},{"$f":"ROUND(G80/12,2)","v":191.51}]
[]
[null,"COLABORE"]
[]
[null,"Item","Uniforme ","Unid.","Quant.","Preço Unit.","Sub-Total"]
[null,1,"Calça social","und",2,45,{"$f":"E86*F86","v":90}]
[null,2,"Camisa social","und",2,35,70]
[null,3,"Cinto","und",1,8.9,8.9]
[null,4,"Meia social masculina","par",1,2.99,2.99]
[null,5,"Bota (cuturno)","par",1,55,55]
[null,6,"Quepe ou boné com emblema","und",1,13.9,13.9]
[null,7,"Crachá de identificação","und",1,8.82,8.82]
[null,"Total por ano",{"$nulls":4},{"$f":"SUM(G86:G92)","v":249.61}]
[null,"Custo mensal",{"$nulls":4},{"$f":"ROUND(G93/12,2)","v":20.8}]
[null,"Item","Material","Unid.","Quant.","Preço Unit.","Sub-Total"]
[null,1,"Livro de ocorrência","und",1,17.899999999999999,{"$f":"E96*F96","v":17.899999999999999}]
[null,2,"Colete balístico","und",1,{"$f":"AVERAGE(F45,F71)","v":385.99},{"$f":"E97*F97","v":385.99}]
[null,3,"Lanterna recarregável","und",1,45,{"$f":"E98*F98","v":45}]
[null,"Total por ano",{"$nulls":4},{"$f":"SUM(G96:G98)","v":448.89}]
[null,"Custo mensal",{"$nulls":4},{"$f":"ROUND(G99/12,2)","v":37.409999999999997}]
[null,"Item","Equipamento","Unid.","Quant.","Preço Unit.","Sub-Total"]
[null,1,"Revólver","und",1,null,{"$f":"E102*F102","v":0}]
[null,2,"Munição","conj",1,null,{"$f":"E103*F103","v":0}]
[null,3,"Coldre","und",1,null,{"$f":"E104*F104","v":0}]
[null,4,"Capa do colete balístico","und",1,null,{"$f":"E105*F105","v":0}]
[null,"Total por ano",{"$nulls":4},{"$f":"SUM(G102:G105)","v":0}]
[null,"Custo mensal",{"$nulls":4},{"$f":"ROUND(G106/12,2)","v":0}]