{"text_format":"2","workbook":"xlsx","n_sheets":9,"sheets":["PFP","PFP1.1_Topo","PFP1.2_Geo","PFP2.1_FatorKa","PFP2.2_FatorKb","PFP2.3_FatorKc","PFP3_FatorKd","CRO1_Ins-Pro","CRO2_Ins-Mes"],"not_rendered":{"charts":0,"images":0,"macros":0,"external_links":0,"defined_names":5,"comments":0,"pivot_tables":0},"unopened":[],"bounds":{"document_bytes":16777216,"sheet_cells":100000,"run_cost":"one","rows_first":2000,"rows_last":500,"rows_between":2000,"halvings":0,"cell_chars":16384,"cell_head_chars":4096},"cells_cut":0,"cells_raw":0,"read":"whole","date_system":"1900"}

{"sheet":"PFP","index":0,"n_rows":42,"n_cols":11,"rows_kept":42,"cut":false,"hidden":false,"merged":[[5,9,5,10],[5,5,5,8],[25,0,25,6],[25,7,25,10],[5,0,5,4],[24,0,24,6],[24,7,24,10],[0,0,1,8],[4,5,4,8],[0,9,0,10],[1,9,1,10],[4,9,4,10],[2,0,2,10],[3,0,3,10],[4,0,4,4],[41,0,41,10],[34,0,34,10],[36,0,36,10],[29,0,29,10],[35,0,35,10],[31,0,31,10],[37,0,37,10],[38,0,38,10],[39,0,39,10],[40,0,40,10],[32,0,32,10],[27,7,27,10],[27,0,27,6],[26,7,26,10],[26,0,26,6],[33,0,33,10],[28,0,28,6],[28,7,28,10],[30,0,30,10]]}
["PROPOSTA FINANCEIRA DO PROJETO",{"$nulls":8},"CODIGO:"]
[{"$nulls":9},"PFP"]
["NOME DA CONSULTORA:"]
[]
["PROJETO:",{"$nulls":4},"CONTRATANTE:",null,null,null,"BASE: Ago/2021"]
["Estudos e Projeto Básico do Canal do Sertão Baiano (CSB)",{"$nulls":4},"CODEVASF (SEDE)",null,null,null,"PROP: Ago/2021\nSINAPI/BA: Ago/2021\nSICRO/NA: Jan/2021"]
["Base","Cod2","Cod3","Categoria / Insumo","Uni","Qde","CUD","PU","FatorK","CT","PT"]
["SICRO","MO3","P0","Engenheiro coordenador (P8061)","mês",{"$f":"'CRO1_Ins-Pro'!D5","v":18},16003.36,{"$f":"ROUND(I8*G8,2)","v":23110.45},{"$f":"PFP2.3_FatorKc!E36","v":1.4440999999999999},{"$f":"ROUND(F8*G8,2)","v":288060.48},{"$f":"ROUND(F8*H8,2)","v":415988.1}]
["SICRO","MO2","P1","Engenheiro sênior (P8067)","mês",{"$f":"'CRO1_Ins-Pro'!D6","v":66},13560.49,22989.1,{"$f":"PFP2.2_FatorKb!$E$36","v":1.6953},894992.34,1517280.6]
["SICRO","MO1","P2","Engenheiro pleno (P8066)","mês",{"$f":"'CRO1_Ins-Pro'!D7","v":222},10307.290000000001,{"$f":"ROUND(I10*G10,2)","v":24047.94},{"$f":"PFP2.1_FatorKa!$E$35","v":2.3331},{"$f":"ROUND(F10*G10,2)","v":2288218.38},5338642.68]
["SICRO","MO1","P3","Engenheiro júnior (P8065)","mês",{"$f":"'CRO1_Ins-Pro'!D8","v":117},9350,{"$f":"ROUND(I11*G11,2)","v":21814.49},{"$f":"PFP2.1_FatorKa!$E$35","v":2.3331},{"$f":"ROUND(F11*G11,2)","v":1093950},2552295.33]
["SICRO","MO1","T1","Técnico de projetos/obra (P8147)","mês",{"$f":"'CRO1_Ins-Pro'!D9","v":142},2894.21,6752.48,{"$f":"PFP2.1_FatorKa!$E$35","v":2.3331},410977.82,958852.16]
["SICRO","MO1","D","Desenhista (P9848)","mês",{"$f":"'CRO1_Ins-Pro'!D10","v":70},2673.95,6238.59,{"$f":"PFP2.1_FatorKa!$E$35","v":2.3331},187176.5,436701.3]
["SICRO","MO1","A1","Secretária (P8135)","mês",{"$f":"'CRO1_Ins-Pro'!D11","v":36},2204.9299999999998,{"$f":"ROUND(I14*G14,2)","v":5144.32},{"$f":"PFP2.1_FatorKa!$E$35","v":2.3331},{"$f":"ROUND(F14*G14,2)","v":79377.48},{"$f":"ROUND(F14*H14,2)","v":185195.51999999999}]
["SICRO","EC","ECA","Encargos Comp. e Adicionais","mês",{"$f":"'CRO1_Ins-Pro'!D12","v":671},815.05,1023.54,{"$f":"PFP3_FatorKd!$E$17","v":1.2558},{"$f":"ROUND(F15*G15,2)","v":546898.55000000005},{"$f":"ROUND(F15*H15,2)","v":686795.34}]
["PROP","EC","AT2","Auxilio Transporte Técnicos","mês",{"$f":"'CRO1_Ins-Pro'!D13","v":142},{"$f":"IF((22*5)-(G12*0.06*22/30)>0,(22*5)-(G12*0.06*22/30),0)","v":0},{"$f":"ROUND(I16*G16,2)","v":0},{"$f":"PFP3_FatorKd!$E$17","v":1.2558},{"$f":"ROUND(F16*G16,2)","v":0},{"$f":"ROUND(F16*H16,2)","v":0}]
["PROP","EC","AT3","Auxilio Transporte Secretária","mês",{"$f":"'CRO1_Ins-Pro'!D14","v":36},{"$f":"IF((22*5)-(G14*0.06*22/30)>0,(22*5)-(G14*0.06*22/30),0)","v":12.983080000000001},16.3,{"$f":"PFP3_FatorKd!$E$17","v":1.2558},467.39,586.79999999999995]
["CODE","LO","V1","Diárias","dia",{"$f":"'CRO1_Ins-Pro'!D15","v":908},239,300.14,{"$f":"PFP3_FatorKd!$E$17","v":1.2558},217012,272527.12]
["PROP","LO","V2","Pick-up Cab.dupla 2.8 4x4 Diesel","dia",{"$f":"'CRO1_Ins-Pro'!D16","v":225},464.91,583.83000000000004,{"$f":"PFP3_FatorKd!$E$17","v":1.2558},104604.75,131361.75]
["PROP","LO","V3","Passagens Aéreas (ida e volta)","un",{"$f":"'CRO1_Ins-Pro'!D17","v":74},2213,2779.09,{"$f":"PFP3_FatorKd!$E$17","v":1.2558},163762,205652.66]
["CODE","EM","M1","Relatório Parcial","un",{"$f":"'CRO1_Ins-Pro'!D18","v":93},34.412458175142888,43.22,{"$f":"PFP3_FatorKd!$E$17","v":1.2558},3200.36,{"$f":"ROUND(F21*H21,2)","v":4019.46}]
["CODE","EM","M2","Relatório Final","un",{"$f":"'CRO1_Ins-Pro'!D19","v":30},1525.9113388126327,1916.24,{"$f":"PFP3_FatorKd!$E$17","v":1.2558},45777.34,{"$f":"ROUND(F22*H22,2)","v":57487.199999999997}]
["CODE","SU","TOP","Total Serviços Cartográficos","un",{"$f":"'CRO1_Ins-Pro'!D20","v":1},"-",{"$f":"PFP1.1_Topo!G21","v":1882138.36},"-","-",{"$f":"ROUND(F23*H23,2)","v":1882138.36}]
["CODE","SU","GEO","Total Serviços Geotécnicos","un",{"$f":"'CRO1_Ins-Pro'!D21","v":1},"-",{"$f":"PFP1.2_Geo!G47","v":3648693.9099999997},"-","-",{"$f":"ROUND(F24*H24,2)","v":3648693.91}]
["TOTAL DOS CUSTOS DIRETOS",{"$nulls":6},{"$f":"SUM(J8:J24)","v":6324475.3899999997}]
["TOTAL DOS ENCARGOS E DISPESAS DIVERSAS",{"$nulls":6},{"$f":"H27-H25","v":6438910.6300000018}]
["TOTAL DA PROPOSTA A PREÇO GLOBAL",{"$nulls":6},{"$f":"SUM(K8:K22)","v":12763386.020000001}]
["TOTAL DA PROPOSTA A PREÇO UNITÁRIO",{"$nulls":6},{"$f":"SUM(K23:K24)","v":5530832.2700000005}]
["TOTAL DA PROPOSTA",{"$nulls":6},{"$f":"H27+H28","v":18294218.290000003}]
["OBSERVAÇÃO:"]
["Alocar os Insumos MO, com respectivo FatorK, dentro da categoria de vínculo contratual (celetista, autonomo, societario)"]
["Uni - unidade de medição do insumo;"]
["Qde - Quantidade do Insumo (não pode ocorrer alteração pela Licitante)"]
["CUD - Custo Unitário Direto do Insumo (sem encargos, taxas e impostos, valor não pode ser maior que o Orçado pela Codevasf)"]
["CT - Custo Total (sem encargos, taxas e impostos) - CT = Qde x CUD"]
["FatorK - Taxa de Ressarcimento de Despesas e Encargos (detalhar composição nas Planilhas \"PFP2.1\", \"PFP2.2\", \"PFP3\")"]
["PU - Preço Unitário do Insumo (incluído encargos, taxas e impostos) - PU = CUD x FatorK"]
["PT - Preço Total do Insumo (incluído encargos, taxas e impostos) - PT = Qde x PU"]
["P - Profissionais nível superior nas áreas de Engenharia, Química, Arquitetura, Agronomia e Veterinária, conforme disposições da Lei 4.950-A/66"]
["S - Profissionais de nível superior nas demais áreas de atuação, incluindo Arqueólogo, Biólogo, Geógrafo e Sociólogo"]
["T - Profissionais de nível médio técnico nas diversas áreas de atuação"]
["A - Profissionais de nível médio de apoio técnico-administrativo"]

{"sheet":"PFP1.1_Topo","index":1,"n_rows":26,"n_cols":7,"rows_kept":26,"cut":false,"hidden":false,"merged":[[4,0,4,3],[2,0,2,6],[3,0,3,6],[20,0,20,5],[0,0,1,5],[5,0,5,3],[4,4,4,5],[5,4,5,5],[24,0,24,6],[25,0,25,6],[21,0,21,6],[22,0,22,6],[23,0,23,6]]}
["SERVIÇOS TOPOGRÁFICOS/CARTOGRÁFICOS",{"$nulls":5},"CODIGO:"]
[{"$nulls":6},"PFP-1.1"]
["NOME DA EMPRESA:"]
[]
["PROJETO:",null,null,null,"CONTRATANTE:",null,{"$f":"PFP!J5","v":"BASE: Ago/2021"}]
[{"$f":"PFP!A6","v":"Estudos e Projeto Básico do Canal do Sertão Baiano (CSB)"},null,null,null,"CODEVASF (SEDE)",null,"CODE: Ago/2021"]
["Cod.","Base","Insumos","Uni","Qde","Preço Unitário (PU)","Preço Total (PT)"]
["TP08","CODE","Nivelamento Geométrico dos Eixos classe IIN","km",330,682.91,{"$f":"ROUND(F8*E8,2)","v":225360.3}]
["TP08A","CODE","Seções Tranversais","km",1300,409.74,532662]
["TP16.1","CODE","Poligonal Classe IIP - locação dos eixos","km",330,1734.4,572352]
["TP19","CODE","Pontos GPS de dupla frequencia (L1/L2)","un ",126,841.98,106089.48]
["TP23","CODE","Cadastro Físico (Faixa da ADA)","ha ",6800,16.55,112540]
["TP24","CODE","Cadastro Agrícola (Faixa ADA)","ha ",6800,5.51,37468]
["TP25","CODE","Cadastro Jurídico (Faixa ADA)","ha ",6800,11.03,75004]
["TP26","CODE","Cadastro Socioeconomico (Faixa Domínio)","ha ",6800,3.68,25024]
["TP27","CODE","Marco de Concreto (12x18x60cm)","un ",126,42.58,5365.08]
["TP28","CODE","Estaca Testemunhas(5x2x70cm)","un ",3000,9.99,29970]
["TP29","CODE","Piquetes de Madeira (2x2x20cm)","un ",20000,2.54,50800]
["PD06","CODE","Picada Manual p/ levantamento TP","km",800,125.35,100280]
["PD08","CODE","Picada c/ Trator de Esteira","km",10,922.35,9223.5]
["TOTAL SERVIÇOS TOPOGRÁFICOS",{"$nulls":5},{"$f":"SUM(G8:G20)","v":1882138.36}]
["OBSERVAÇÃO:"]
["Uni - unidade de medição do insumo;"]
["Qde - Quantidade do Insumo (não pode ocorrer alteração pela Licitante)"]
["PU - Preço Unitário (composições padrão da Codevasf, já incluso o FatorK)"]
["PT - Preço Total (incluído encargos, taxas e impostos) - PT = Qde x PU"]

{"sheet":"PFP1.2_Geo","index":2,"n_rows":52,"n_cols":7,"rows_kept":52,"cut":false,"hidden":false,"merged":[[4,0,4,3],[4,4,4,5],[2,0,2,6],[3,0,3,6],[0,0,1,5],[46,0,46,5],[50,0,50,6],[5,0,5,3],[5,4,5,5],[51,0,51,6],[47,0,47,6],[48,0,48,6],[49,0,49,6]]}
["SERVIÇOS GEOLÓGICOS/GEOTÉCNICOS",{"$nulls":5},"CODIGO:"]
[{"$nulls":6},"PFP-1.2"]
["NOME DA EMPRESA:"]
[]
["PROJETO:",null,null,null,"CONTRATANTE:",null,{"$f":"PFP!J5","v":"BASE: Ago/2021"}]
[{"$f":"PFP!A6","v":"Estudos e Projeto Básico do Canal do Sertão Baiano (CSB)"},null,null,null,"CODEVASF (SEDE)",null,{"$f":"PFP1.1_Topo!G6","v":"CODE: Ago/2021"}]
["Cod.","Base","Insumos","Uni","Qde","Preço Unitário (PU)","Preço Total (PT)"]
["GT01","CODE","Sondagem Rotativa: (Des)Mobilização","un",6,3663.51,{"$f":"ROUND(F8*E8,2)","v":21981.06}]
["GT02","CODE","Sondagem Rotativa: Ø N em rochas","m",1980,733.48,1452290.4]
["GT03","CODE","Sondagem Rotativa: Ø B em solo","m",30,265.51,7965.3]
["GT04","CODE","Sondagem Rotativa: Desloc/Instalação 0-200 m","un",150,975.37,146305.5]
["GT05","CODE","Sondagem Rotativa: Desloc/Instalação 201-500 m","un",16,1409.96,22559.360000000001]
["GT06","CODE","Sondagem Rotativa: Desloc/Instalação >500 m","un",150,1844.56,276684]
["GT07","CODE","Sondagem Percussão: (Des)Mobilização","un",6,964.98,5789.88]
["GT08","CODE","Sondagem Percursão: com SPT","m",474,84.63,40114.620000000003]
["GT09","CODE","Sondagem Percursão: Desloc/Instalação 0-200 m","un",150,768.34,115251]
["GT10","CODE","Sondagem Percursão: Desloc/Instalação 201-500 m","un",16,1108.19,17731.04]
["GT11","CODE","Sondagem Percursão: Desloc/Instalação >500 m","un",150,1448.04,217206]
["GT12","CODE","Sondagem Sismica de Refração","km",30,16218.68,486560.4]
["GT13","CODE","Sondagem Trado 4''","m",300,84.63,25389]
["GT14","CODE","Poços de Inspeção","m",1900,204.43,388417]
["GT15","CODE","Ensaio: Umidade Natural ","un",240,71.849999999999994,17244]
["GT16","CODE","Ensaio: Densidade Natural","un",240,71.849999999999994,17244]
["GT17","CODE","Ensaio: Limite de Liquidez","un",240,98.37,23608.799999999999]
["GT18","CODE","Ensaio: Limite de Plasticidade","un",240,98.37,23608.799999999999]
["GT19","CODE","Ensaio: Granulometria por Peneiramento","un",240,114.51,27482.400000000001]
["GT20","CODE","Ensaio: Granulometria por Sedimentação","un",240,342.07,82096.800000000003]
["GT21","CODE","Ensaio: Compactação Proctor Normal","un",240,145.35,34884]
["GT22","CODE","Ensaio: Massa Especifica Real dos Grãos","un",240,100.18,24043.200000000001]
["GT23","CODE","Ensaio: Adensamento Oedométrico","un",15,259.89999999999998,3898.5]
["GT24","CODE","Ensaio: Triaxial UU ñ consolidado ñ drenado","un",3,747.78,2243.34]
["GT25","CODE","Ensaio: Triaxial CU conslidado ñ drenado","un",36,1040.18,37446.480000000003]
["GT26","CODE","Ensaio: Expansão colapsividade em aneis","un",85,349.47,29704.95]
["GT27","CODE","Ensaio: Expansão amostra indeformada com pressão de expansão","un",40,272.38,10895.2]
["GT28","CODE","Ensaio: Dispersão Granulometria Comparativa","un",85,206.6,17561]
["GT29","CODE","Ensaio: Dispersão Crumb Test","un",90,76.59,6893.1]
["GT30","CODE","Ensaio: Infiltração","un",30,206.6,6198]
["GT31","CODE","Ensaio: Perda de Água 5 estágios","un",30,326.18,9785.4]
["GT32","CODE","Ensaio: Análise Quimica da Areia","un",6,415.13,2490.7800000000002]
["GT33","CODE","Ensaio: Mineralogia da Areia","un",22,477.35,10501.7]
["GT34","CODE","Ensaio: Análise Petrográfica/Mineralogia","un",6,477.35,2864.1]
["GT35","CODE","Ensaio: Abrasão Los Angeles","un",6,373.57,2241.42]
["GT36","CODE","Ensaio: Reatividade Potencial","un",6,1245,7470]
["GT37","CODE","Ensaio: Permeabilidade Vertical de Carga Variável","un",6,587.63,3525.78]
["GT38","CODE","Ensaio: Retirada de Amostra Indeformada","un",30,622.5,18675]
["GT39","CODE","Ensaio: Permeabilidade \"in situ\"","un",4,460.65,{"$f":"ROUND(F46*E46,2)","v":1842.6}]
["TOTAL SERVIÇOS GEOTÉCNICOS",{"$nulls":5},{"$f":"SUM(G8:G46)","v":3648693.9099999997}]
["LEGENDA:"]
["Uni - unidade de medição do insumo;"]
["Qde - Quantidade do Insumo (não pode ocorrer alteração pela Licitante)"]
["PU - Preço Unitário (composições padrão da Codevasf, já incluso o FatorK)"]
["PT - Preço Total (incluído encargos, taxas e impostos) - PT = Qde x PU"]

{"sheet":"PFP2.1_FatorKa","index":3,"n_rows":40,"n_cols":6,"rows_kept":40,"cut":false,"hidden":false,"merged":[[19,1,19,3],[20,1,20,3],[22,1,22,3],[9,1,9,3],[10,1,10,3],[11,1,11,3],[12,1,12,3],[33,1,33,3],[0,0,1,4],[2,0,2,5],[5,0,5,1],[5,2,5,4],[4,2,4,4],[3,0,3,5],[23,1,23,3],[7,1,7,3],[16,1,16,3],[8,1,8,3],[13,1,13,3],[14,1,14,3],[15,1,15,3],[17,1,17,3],[18,1,18,3],[34,1,34,3],[6,1,6,3],[39,0,39,5],[38,0,38,5],[37,0,37,5],[36,0,36,5],[21,1,21,3],[28,1,28,3],[29,1,29,3],[27,1,27,3],[24,1,24,3],[25,1,25,3],[26,1,26,3],[32,1,32,3],[30,1,30,3],[31,1,31,3]]}
["DETALHAMENTO DOS ENCARGOS SOCIAIS: Ka",{"$nulls":4},"CODIGO:"]
[{"$nulls":5},"PFP-2.1"]
["NOME DA CONSULTORA:"]
[]
["PROJETO:",null,"CONTRATANTE:",null,null,{"$f":"PFP!J5","v":"BASE: Ago/2021"}]
[{"$f":"PFP!A6","v":"Estudos e Projeto Básico do Canal do Sertão Baiano (CSB)"},null,"CODEVASF (SEDE)",null,null,"SINAPI/BA: Ago/2021"]
["Cod","DESCRIÇÃO",null,null,"%","R$"]
["A","ENCARGOS SOCIAIS BÁSICOS",null,null,{"$f":"ROUND(SUM(E9:E16),4)","v":0.36799999999999999},{"$f":"ROUND(E8*SUMIF(PFP!$B$8:$B$24,\"MO1\",PFP!$J$8:$J$24),2)","v":1493969.67}]
["A1","INSS",null,null,0.2,{"$f":"ROUND(E9*SUMIF(PFP!$B$8:$B$24,\"MO1\",PFP!$J$8:$J$24),2)","v":811940.04}]
["A2","SESI",null,null,1.4999999999999999E-2,{"$f":"ROUND(E10*SUMIF(PFP!$B$8:$B$24,\"MO1\",PFP!$J$8:$J$24),2)","v":60895.5}]
["A3","SENAI",null,null,0.01,{"$f":"ROUND(E11*SUMIF(PFP!$B$8:$B$24,\"MO1\",PFP!$J$8:$J$24),2)","v":40597}]
["A4","INCRA",null,null,2E-3,{"$f":"ROUND(E12*SUMIF(PFP!$B$8:$B$24,\"MO1\",PFP!$J$8:$J$24),2)","v":8119.4}]
["A5","SEBRAE",null,null,6.0000000000000001E-3,{"$f":"ROUND(E13*SUMIF(PFP!$B$8:$B$24,\"MO1\",PFP!$J$8:$J$24),2)","v":24358.2}]
["A6","Salário Educação",null,null,2.5000000000000001E-2,{"$f":"ROUND(E14*SUMIF(PFP!$B$8:$B$24,\"MO1\",PFP!$J$8:$J$24),2)","v":101492.5}]
["A7","Seguro Contra Acidentes de Trabalho",null,null,0.03,{"$f":"ROUND(E15*SUMIF(PFP!$B$8:$B$24,\"MO1\",PFP!$J$8:$J$24),2)","v":121791.01}]
["A8","FGTS",null,null,0.08,{"$f":"ROUND(E16*SUMIF(PFP!$B$8:$B$24,\"MO1\",PFP!$J$8:$J$24),2)","v":324776.01}]
["B"," ENCARGOS SOCIAIS QUE RECEBEM INCIDÊNCIA DE \"A\"",null,null,{"$f":"ROUND(SUM(E18:E24),4)","v":0.16769999999999999},{"$f":"ROUND(E17*SUMIF(PFP!$B$8:$B$24,\"MO1\",PFP!$J$8:$J$24),2)","v":680811.72}]
["B3","Auxílio Enfermidade",null,null,6.7000000000000002E-3,{"$f":"ROUND(E18*SUMIF(PFP!$B$8:$B$24,\"MO1\",PFP!$J$8:$J$24),2)","v":27199.99}]
["B4","13º Salário",null,null,8.3299999999999999E-2,{"$f":"ROUND(E19*SUMIF(PFP!$B$8:$B$24,\"MO1\",PFP!$J$8:$J$24),2)","v":338173.02}]
["B5","Licença Paternidade",null,null,5.9999999999999995E-4,{"$f":"ROUND(E20*SUMIF(PFP!$B$8:$B$24,\"MO1\",PFP!$J$8:$J$24),2)","v":2435.8200000000002}]
["B6","Faltas Justificadas",null,null,5.5999999999999999E-3,{"$f":"ROUND(E21*SUMIF(PFP!$B$8:$B$24,\"MO1\",PFP!$J$8:$J$24),2)","v":22734.32}]
["B8","Auxílio Acidente de Trabalho",null,null,8.0000000000000004E-4,{"$f":"ROUND(E22*SUMIF(PFP!$B$8:$B$24,\"MO1\",PFP!$J$8:$J$24),2)","v":3247.76}]
["B9","Férias Gozadas",null,null,7.0400000000000004E-2,{"$f":"ROUND(E23*SUMIF(PFP!$B$8:$B$24,\"MO1\",PFP!$J$8:$J$24),2)","v":285802.89}]
["B10","Salário Maternidade",null,null,2.9999999999999997E-4,{"$f":"ROUND(E24*SUMIF(PFP!$B$8:$B$24,\"MO1\",PFP!$J$8:$J$24),2)","v":1217.9100000000001}]
["C"," ENCARGOS SOCIAIS QUE NÃO RECEBEM INCIDÊNCIA DE \"A\"",null,null,{"$f":"ROUND(SUM(E26:E30),4)","v":0.10680000000000001},{"$f":"ROUND(E25*SUMIF(PFP!$B$8:$B$24,\"MO1\",PFP!$J$8:$J$24),2)","v":433575.98}]
["C1","Aviso Prévio Indenizado",null,null,4.1300000000000003E-2,{"$f":"ROUND(E26*SUMIF(PFP!$B$8:$B$24,\"MO1\",PFP!$J$8:$J$24),2)","v":167665.62}]
["C2","Aviso Prévio Trabalhado",null,null,1E-3,{"$f":"ROUND(E27*SUMIF(PFP!$B$8:$B$24,\"MO1\",PFP!$J$8:$J$24),2)","v":4059.7}]
["C3","Férias Indenizadas",null,null,3.2500000000000001E-2,{"$f":"ROUND(E28*SUMIF(PFP!$B$8:$B$24,\"MO1\",PFP!$J$8:$J$24),2)","v":131940.26}]
["C4","Depósito Rescisão Sem Justa Causa",null,null,2.8500000000000001E-2,{"$f":"ROUND(E29*SUMIF(PFP!$B$8:$B$24,\"MO1\",PFP!$J$8:$J$24),2)","v":115701.46}]
["C5","Indenização Adicional",null,null,3.5000000000000001E-3,{"$f":"ROUND(E30*SUMIF(PFP!$B$8:$B$24,\"MO1\",PFP!$J$8:$J$24),2)","v":14208.95}]
["D"," REINCIDÊNCIAS",null,null,{"$f":"ROUND(SUM(E32:E33),4)","v":6.54E-2},{"$f":"ROUND(E31*SUMIF(PFP!$B$8:$B$24,\"MO1\",PFP!$J$8:$J$24),2)","v":265504.39}]
["D1","Reincidência de \"A\" sobre \"B\"",null,null,{"$f":"ROUND(E8*E17,4)","v":6.1699999999999998E-2},{"$f":"ROUND(E32*SUMIF(PFP!$B$8:$B$24,\"MO1\",PFP!$J$8:$J$24),2)","v":250483.5}]
["D2","Reincidência de \"A\" sobre Aviso Prévio Trabalhado e reincidência do FGTS sobre Aviso Prévio Indenizado",null,null,{"$f":"ROUND((E27*E8)+(E26*E16),4)","v":3.7000000000000002E-3},{"$f":"ROUND(E33*SUMIF(PFP!$B$8:$B$24,\"MO1\",PFP!$J$8:$J$24),2)","v":15020.89}]
["K1a","ENCARGOS SOCIAIS",null,null,{"$f":"ROUND(E8+E17+E25+E31,4)","v":0.70789999999999997},{"$f":"ROUND(E34*SUMIF(PFP!$B$8:$B$24,\"MO1\",PFP!$J$8:$J$24),2)","v":2873861.76}]
["Ka","TAXA DE RESSARCIMENTO DE DESPESAS E ENCARGOS SOBRE MO1",null,null,{"$f":"ROUND((1+E34+PFP3_FatorKd!E13)*(1+PFP3_FatorKd!E12)*(1+PFP3_FatorKd!E8),4)","v":2.3331}]
["OBSERVAÇÃO: CELETISTAS E EQUIVALENTES"]
["1 - DISCRIMINAR OS ENCARGOS SOCIAIS COM SEUS RESPECTIVOS PERCENTUAS TOTALIZANDO OS MESMOS. "]
["2 - APLICAR O  % TOTAL P/ CALCULAR OS E. SOCIAIS INCIDENTES NA MÃO-DE-OBRA CELETISTAS"]
["Ka - Taxa de Ressarcimento de Despesas e Encargos sobre a Mão de Obra CELETISTA (incide apenas no Insumo Codigo MO1)"]
["Ka = (1 + K1 + K2) x (1 + K3) x (1 + K4)"]

{"sheet":"PFP2.2_FatorKb","index":4,"n_rows":41,"n_cols":6,"rows_kept":41,"cut":false,"hidden":false,"merged":[[19,1,19,3],[0,0,1,4],[2,0,2,5],[3,0,3,5],[4,2,4,4],[5,0,5,1],[5,2,5,4],[7,1,7,3],[17,1,17,3],[18,1,18,3],[8,1,8,3],[9,1,9,3],[10,1,10,3],[16,1,16,3],[6,1,6,3],[12,1,12,3],[40,0,40,5],[37,0,37,5],[38,0,38,5],[39,0,39,5],[32,1,32,3],[33,1,33,3],[34,1,34,3],[35,1,35,3],[13,1,13,3],[14,1,14,3],[15,1,15,3],[11,1,11,3],[31,1,31,3],[20,1,20,3],[21,1,21,3],[22,1,22,3],[23,1,23,3],[24,1,24,3],[25,1,25,3],[26,1,26,3],[27,1,27,3],[28,1,28,3],[29,1,29,3],[30,1,30,3]]}
["DETALHAMENTO DOS ENCARGOS SOCIAIS: Kb",{"$nulls":4},"CODIGO:"]
[{"$nulls":5},"PFP-2.2"]
["NOME DA CONSULTORA:"]
[]
["PROJETO:",null,"CONTRATANTE:",null,null,{"$f":"PFP2.1_FatorKa!F5","v":"BASE: Ago/2021"}]
[{"$f":"PFP!A6","v":"Estudos e Projeto Básico do Canal do Sertão Baiano (CSB)"},null,"CODEVASF (SEDE)",null,null,{"$f":"PFP2.1_FatorKa!F6","v":"SINAPI/BA: Ago/2021"}]
["Cod","DESCRIÇÃO",null,null,"%","R$"]
["A","ENCARGOS SOCIAIS BÁSICOS",null,null,{"$f":"ROUND(SUM(E9:E17),4)","v":0.2},{"$f":"ROUND(E8*SUMIF(PFP!$B$8:$B$24,\"MO2\",PFP!$J$8:$J$24),2)","v":178998.47}]
["A1","INSS",null,null,0.2,{"$f":"ROUND(E9*SUMIF(PFP!$B$8:$B$24,\"MO2\",PFP!$J$8:$J$24),2)","v":178998.47}]
["A2","SESI",null,null,0,{"$f":"ROUND(E10*SUMIF(PFP!$B$8:$B$24,\"MO2\",PFP!$J$8:$J$24),2)","v":0}]
["A3","SENAI",null,null,0,{"$f":"ROUND(E11*SUMIF(PFP!$B$8:$B$24,\"MO2\",PFP!$J$8:$J$24),2)","v":0}]
["A4","INCRA",null,null,0,{"$f":"ROUND(E12*SUMIF(PFP!$B$8:$B$24,\"MO2\",PFP!$J$8:$J$24),2)","v":0}]
["A5","SEBRAE",null,null,0,{"$f":"ROUND(E13*SUMIF(PFP!$B$8:$B$24,\"MO2\",PFP!$J$8:$J$24),2)","v":0}]
["A6","Salário Educação",null,null,0,{"$f":"ROUND(E14*SUMIF(PFP!$B$8:$B$24,\"MO2\",PFP!$J$8:$J$24),2)","v":0}]
["A7","Seguro Contra Acidentes de Trabalho",null,null,0,{"$f":"ROUND(E15*SUMIF(PFP!$B$8:$B$24,\"MO2\",PFP!$J$8:$J$24),2)","v":0}]
["A8","FGTS",null,null,0,{"$f":"ROUND(E16*SUMIF(PFP!$B$8:$B$24,\"MO2\",PFP!$J$8:$J$24),2)","v":0}]
["A9","SECONCI",null,null,0,{"$f":"ROUND(E17*SUMIF(PFP!$B$8:$B$24,\"MO2\",PFP!$J$8:$J$24),2)","v":0}]
["B"," ENCARGOS SOCIAIS QUE RECEBEM INCIDÊNCIA DE \"A\"",null,null,{"$f":"ROUND(SUM(E19:E25),4)","v":0},{"$f":"ROUND(E18*SUMIF(PFP!$B$8:$B$24,\"MO2\",PFP!$J$8:$J$24),2)","v":0}]
["B3","Auxílio Enfermidade",null,null,0,{"$f":"ROUND(E19*SUMIF(PFP!$B$8:$B$24,\"MO2\",PFP!$J$8:$J$24),2)","v":0}]
["B4","13º Salário",null,null,0,{"$f":"ROUND(E20*SUMIF(PFP!$B$8:$B$24,\"MO2\",PFP!$J$8:$J$24),2)","v":0}]
["B5","Licença Paternidade",null,null,0,{"$f":"ROUND(E21*SUMIF(PFP!$B$8:$B$24,\"MO2\",PFP!$J$8:$J$24),2)","v":0}]
["B6","Faltas Justificadas",null,null,0,{"$f":"ROUND(E22*SUMIF(PFP!$B$8:$B$24,\"MO2\",PFP!$J$8:$J$24),2)","v":0}]
["B8","Auxílio Acidente de Trabalho",null,null,0,{"$f":"ROUND(E23*SUMIF(PFP!$B$8:$B$24,\"MO2\",PFP!$J$8:$J$24),2)","v":0}]
["B9","Férias Gozadas",null,null,0,{"$f":"ROUND(E24*SUMIF(PFP!$B$8:$B$24,\"MO2\",PFP!$J$8:$J$24),2)","v":0}]
["B10","Salário Maternidade",null,null,0,{"$f":"ROUND(E25*SUMIF(PFP!$B$8:$B$24,\"MO2\",PFP!$J$8:$J$24),2)","v":0}]
["C"," ENCARGOS SOCIAIS QUE NÃO RECEBEM INCIDÊNCIA DE \"A\"",null,null,{"$f":"ROUND(SUM(E27:E31),4)","v":0},{"$f":"ROUND(E26*SUMIF(PFP!$B$8:$B$24,\"MO2\",PFP!$J$8:$J$24),2)","v":0}]
["C1","Aviso Prévio Indenizado",null,null,0,{"$f":"ROUND(E27*SUMIF(PFP!$B$8:$B$24,\"MO2\",PFP!$J$8:$J$24),2)","v":0}]
["C2","Aviso Prévio Trabalhado",null,null,0,{"$f":"ROUND(E28*SUMIF(PFP!$B$8:$B$24,\"MO2\",PFP!$J$8:$J$24),2)","v":0}]
["C3","Férias Indenizadas",null,null,0,{"$f":"ROUND(E29*SUMIF(PFP!$B$8:$B$24,\"MO2\",PFP!$J$8:$J$24),2)","v":0}]
["C4","Depósito Rescisão Sem Justa Causa",null,null,0,{"$f":"ROUND(E30*SUMIF(PFP!$B$8:$B$24,\"MO2\",PFP!$J$8:$J$24),2)","v":0}]
["C5","Indenização Adicional",null,null,0,{"$f":"ROUND(E31*SUMIF(PFP!$B$8:$B$24,\"MO2\",PFP!$J$8:$J$24),2)","v":0}]
["D"," REINCIDÊNCIAS",null,null,{"$f":"ROUND(SUM(E33:E34),4)","v":0},{"$f":"ROUND(E32*SUMIF(PFP!$B$8:$B$24,\"MO2\",PFP!$J$8:$J$24),2)","v":0}]
["D1","Reincidência de \"A\" sobre \"B\"",null,null,{"$f":"ROUND(E8*E18,4)","v":0},{"$f":"ROUND(E33*SUMIF(PFP!$B$8:$B$24,\"MO2\",PFP!$J$8:$J$24),2)","v":0}]
["D2","Reincidência de \"A\" sobre Aviso Prévio Trabalhado e reincidência do FGTS sobre Aviso Prévio Indenizado",null,null,{"$f":"ROUND(E8*E28,4)+ROUND(E27*E11,4)","v":0},{"$f":"ROUND(E34*SUMIF(PFP!$B$8:$B$24,\"MO2\",PFP!$J$8:$J$24),2)","v":0}]
["K1b","ENCARGOS SOCIAIS",null,null,{"$f":"ROUND(E8+E18+E26+E32,4)","v":0.2},{"$f":"ROUND(E35*SUMIF(PFP!$B$8:$B$24,\"MO2\",PFP!$J$8:$J$24),2)","v":178998.47}]
["Kb","TAXA DE RESSARCIMENTO DE DESPESAS E ENCARGOS SOBRE MO2",null,null,{"$f":"ROUND((1+E35+PFP3_FatorKd!E13)*(1+PFP3_FatorKd!E12)*(1+PFP3_FatorKd!E8),4)","v":1.6953}]
["OBSERVAÇÃO: AUTÔNOMOS E EQUIVALENTES"]
["1 - DISCRIMINAR OS ENCARGOS SOCIAIS COM SEUS RESPECTIVOS PERCENTUAS TOTALIZANDO OS MESMOS. "]
["2 - APLICAR O % TOTAL P/ CALCULAR OS E. SOCIAIS INCIDENTES NA MÃO-DE-OBRA AUTONÔMOS"]
["Kb - Taxa de Ressarcimento de Despesas e Encargos sobre a Mão de Obra AUTONÔMA (incide apenas no Insumo Codigo MO2)"]
["Kb = (1 + K1 + K2) x (1 + K3) x (1 + K4)"]

{"sheet":"PFP2.3_FatorKc","index":5,"n_rows":41,"n_cols":6,"rows_kept":41,"cut":false,"hidden":false,"merged":[[37,0,37,5],[38,0,38,5],[39,0,39,5],[40,0,40,5],[30,1,30,3],[31,1,31,3],[32,1,32,3],[33,1,33,3],[34,1,34,3],[35,1,35,3],[29,1,29,3],[18,1,18,3],[19,1,19,3],[20,1,20,3],[21,1,21,3],[22,1,22,3],[23,1,23,3],[24,1,24,3],[25,1,25,3],[26,1,26,3],[27,1,27,3],[28,1,28,3],[17,1,17,3],[6,1,6,3],[7,1,7,3],[8,1,8,3],[9,1,9,3],[10,1,10,3],[11,1,11,3],[12,1,12,3],[13,1,13,3],[14,1,14,3],[15,1,15,3],[16,1,16,3],[0,0,1,4],[2,0,2,5],[3,0,3,5],[4,2,4,4],[5,0,5,1],[5,2,5,4]]}
["DETALHAMENTO DOS ENCARGOS SOCIAIS: Kc",{"$nulls":4},"CODIGO:"]
[{"$nulls":5},"PFP-2.3"]
["NOME DA CONSULTORA:"]
[]
["PROJETO:",null,"CONTRATANTE:",null,null,{"$f":"PFP2.2_FatorKb!F5","v":"BASE: Ago/2021"}]
[{"$f":"PFP!A6","v":"Estudos e Projeto Básico do Canal do Sertão Baiano (CSB)"},null,"CODEVASF (SEDE)",null,null,{"$f":"PFP2.2_FatorKb!F6","v":"SINAPI/BA: Ago/2021"}]
["Cod","DESCRIÇÃO",null,null,"%","R$"]
["A","ENCARGOS SOCIAIS BÁSICOS",null,null,{"$f":"SUM(E9:E17)","v":0},{"$f":"ROUND(E8*SUMIF(PFP!$B$8:$B$24,\"MO3\",PFP!$J$8:$J$24),2)","v":0}]
["A1","INSS",null,null,0,{"$f":"ROUND(E9*SUMIF(PFP!$B$8:$B$24,\"MO3\",PFP!$J$8:$J$24),2)","v":0}]
["A2","SESI",null,null,0,{"$f":"ROUND(E10*SUMIF(PFP!$B$8:$B$24,\"MO3\",PFP!$J$8:$J$24),2)","v":0}]
["A3","SENAI",null,null,0,{"$f":"ROUND(E11*SUMIF(PFP!$B$8:$B$24,\"MO3\",PFP!$J$8:$J$24),2)","v":0}]
["A4","INCRA",null,null,0,{"$f":"ROUND(E12*SUMIF(PFP!$B$8:$B$24,\"MO3\",PFP!$J$8:$J$24),2)","v":0}]
["A5","SEBRAE",null,null,0,{"$f":"ROUND(E13*SUMIF(PFP!$B$8:$B$24,\"MO3\",PFP!$J$8:$J$24),2)","v":0}]
["A6","Salário Educação",null,null,0,{"$f":"ROUND(E14*SUMIF(PFP!$B$8:$B$24,\"MO3\",PFP!$J$8:$J$24),2)","v":0}]
["A7","Seguro Contra Acidentes de Trabalho",null,null,0,{"$f":"ROUND(E15*SUMIF(PFP!$B$8:$B$24,\"MO3\",PFP!$J$8:$J$24),2)","v":0}]
["A8","FGTS",null,null,0,{"$f":"ROUND(E16*SUMIF(PFP!$B$8:$B$24,\"MO3\",PFP!$J$8:$J$24),2)","v":0}]
["A9","SECONCI",null,null,0,{"$f":"ROUND(E17*SUMIF(PFP!$B$8:$B$24,\"MO3\",PFP!$J$8:$J$24),2)","v":0}]
["B"," ENCARGOS SOCIAIS QUE RECEBEM INCIDÊNCIA DE \"A\"",null,null,{"$f":"ROUND(SUM(E19:E25),4)","v":0},{"$f":"ROUND(E18*SUMIF(PFP!$B$8:$B$24,\"MO3\",PFP!$J$8:$J$24),2)","v":0}]
["B3","Auxílio Enfermidade",null,null,0,{"$f":"ROUND(E19*SUMIF(PFP!$B$8:$B$24,\"MO3\",PFP!$J$8:$J$24),2)","v":0}]
["B4","13º Salário",null,null,0,{"$f":"ROUND(E20*SUMIF(PFP!$B$8:$B$24,\"MO3\",PFP!$J$8:$J$24),2)","v":0}]
["B5","Licença Paternidade",null,null,0,{"$f":"ROUND(E21*SUMIF(PFP!$B$8:$B$24,\"MO3\",PFP!$J$8:$J$24),2)","v":0}]
["B6","Faltas Justificadas",null,null,0,{"$f":"ROUND(E22*SUMIF(PFP!$B$8:$B$24,\"MO3\",PFP!$J$8:$J$24),2)","v":0}]
["B8","Auxílio Acidente de Trabalho",null,null,0,{"$f":"ROUND(E23*SUMIF(PFP!$B$8:$B$24,\"MO3\",PFP!$J$8:$J$24),2)","v":0}]
["B9","Férias Gozadas",null,null,0,{"$f":"ROUND(E24*SUMIF(PFP!$B$8:$B$24,\"MO3\",PFP!$J$8:$J$24),2)","v":0}]
["B10","Salário Maternidade",null,null,0,{"$f":"ROUND(E25*SUMIF(PFP!$B$8:$B$24,\"MO3\",PFP!$J$8:$J$24),2)","v":0}]
["C"," ENCARGOS SOCIAIS QUE NÃO RECEBEM INCIDÊNCIA DE \"A\"",null,null,{"$f":"ROUND(SUM(E27:E31),4)","v":0},{"$f":"ROUND(E26*SUMIF(PFP!$B$8:$B$24,\"MO3\",PFP!$J$8:$J$24),2)","v":0}]
["C1","Aviso Prévio Indenizado",null,null,0,{"$f":"ROUND(E27*SUMIF(PFP!$B$8:$B$24,\"MO3\",PFP!$J$8:$J$24),2)","v":0}]
["C2","Aviso Prévio Trabalhado",null,null,0,{"$f":"ROUND(E28*SUMIF(PFP!$B$8:$B$24,\"MO3\",PFP!$J$8:$J$24),2)","v":0}]
["C3","Férias Indenizadas",null,null,0,{"$f":"ROUND(E29*SUMIF(PFP!$B$8:$B$24,\"MO3\",PFP!$J$8:$J$24),2)","v":0}]
["C4","Depósito Rescisão Sem Justa Causa",null,null,0,{"$f":"ROUND(E30*SUMIF(PFP!$B$8:$B$24,\"MO3\",PFP!$J$8:$J$24),2)","v":0}]
["C5","Indenização Adicional",null,null,0,{"$f":"ROUND(E31*SUMIF(PFP!$B$8:$B$24,\"MO3\",PFP!$J$8:$J$24),2)","v":0}]
["D"," REINCIDÊNCIAS",null,null,{"$f":"ROUND(SUM(E33:E34),4)","v":0},{"$f":"ROUND(E32*SUMIF(PFP!$B$8:$B$24,\"MO3\",PFP!$J$8:$J$24),2)","v":0}]
["D1","Reincidência de \"A\" sobre \"B\"",null,null,{"$f":"ROUND(E8*E18,4)","v":0},{"$f":"ROUND(E33*SUMIF(PFP!$B$8:$B$24,\"MO3\",PFP!$J$8:$J$24),2)","v":0}]
["D2","Reincidência de \"A\" sobre Aviso Prévio Trabalhado e reincidência do FGTS sobre Aviso Prévio Indenizado",null,null,{"$f":"ROUND(E8*E28,4)+ROUND(E27*E11,4)","v":0},{"$f":"ROUND(E34*SUMIF(PFP!$B$8:$B$24,\"MO3\",PFP!$J$8:$J$24),2)","v":0}]
["K1c","ENCARGOS SOCIAIS",null,null,{"$f":"ROUND(E8+E18+E26+E32,4)","v":0},{"$f":"ROUND(E35*SUMIF(PFP!$B$8:$B$24,\"MO3\",PFP!$J$8:$J$24),2)","v":0}]
["Kc","TAXA DE RESSARCIMENTO DE DESPESAS E ENCARGOS SOBRE MO3",null,null,{"$f":"ROUND((1+E35+PFP3_FatorKd!E13)*(1+PFP3_FatorKd!E12)*(1+PFP3_FatorKd!E8),4)","v":1.4440999999999999}]
["OBSERVAÇÃO: SOCIETÁRIOS E EQUIVALENTES"]
["1 - DISCRIMINAR OS ENCARGOS SOCIAIS COM SEUS RESPECTIVOS PERCENTUAS TOTALIZANDO OS MESMOS. "]
["2 - APLICAR O % TOTAL P/ CALCULAR OS E. SOCIAIS INCIDENTES NA MÃO-DE-OBRA DE SOCIETÁRIOS"]
["Kc - Taxa de Ressarcimento de Despesas e Encargos sobre a Mão de Obra SOCIETÁRIA (incide apenas no Insumo Codigo MO3)"]
["Kc = (1 + K1 + K2) x (1 + K3) x (1 + K4)"]

{"sheet":"PFP3_FatorKd","index":6,"n_rows":35,"n_cols":6,"rows_kept":35,"cut":false,"hidden":false,"merged":[[33,0,33,5],[34,0,34,5],[16,1,16,3],[13,1,13,3],[14,1,14,3],[15,1,15,3],[21,0,21,5],[26,0,26,5],[27,0,27,5],[22,0,22,5],[23,0,23,5],[24,0,24,5],[28,0,28,5],[29,0,29,5],[30,0,30,5],[31,0,31,5],[7,1,7,2],[25,0,25,5],[6,1,6,2],[0,0,1,4],[2,0,2,5],[5,0,5,1],[5,2,5,4],[4,2,4,4],[3,0,3,5],[32,0,32,5],[12,1,12,3],[11,1,11,3],[8,1,8,2],[9,1,9,2],[10,1,10,2]]}
["DESPESAS FISCAIS E CUSTOS DIVERSOS: Kc",{"$nulls":4},"CODIGO:"]
[{"$nulls":5},"PFP-3"]
["NOME DA CONSULTORA:"]
[]
["PROJETO:",null,"CONTRATANTE:",null,null,{"$f":"PFP2.3_FatorKc!F5","v":"BASE: Ago/2021"}]
[{"$f":"PFP!A6","v":"Estudos e Projeto Básico do Canal do Sertão Baiano (CSB)"},null,"CODEVASF (SEDE)",null,null,{"$f":"PFP2.3_FatorKc!F6","v":"SINAPI/BA: Ago/2021"}]
["Cod","DESCRIÇÃO1",null,"% preço2","% custo4","R$"]
["K4","TRIBUTOS",null,{"$f":"ROUND(D9+D10+D11,4)","v":0.124},{"$f":"ROUND(E9+E10+E11,4)","v":0.1416},{"$f":"E8*SUM(SUMIF(PFP!$B$8:$B$24,\"MO1\",PFP!$J$8:$J$24)*(1+PFP2.1_FatorKa!$E$34)+SUMIF(PFP!$B$8:$B$24,\"MO2\",PFP!$J$8:$J$24)*(1+PFP2.2_FatorKb!$E$35)+SUMIF(PFP!$B$8:$B$24,\"<>MO*\",PFP!$J$8:$J$24)+$F$13+$F$12)","v":1538237.1761853304}]
["K4.1","ISS",null,0.05,{"$f":"ROUND((1/(1-$D$8))*D9,4)","v":5.7099999999999998E-2},{"$f":"E9*SUM(SUMIF(PFP!$B$8:$B$24,\"MO1\",PFP!$J$8:$J$24)*(1+PFP2.1_FatorKa!$E$34)+SUMIF(PFP!$B$8:$B$24,\"MO2\",PFP!$J$8:$J$24)*(1+PFP2.2_FatorKb!$E$35)+SUMIF(PFP!$B$8:$B$24,\"<>MO*\",PFP!$J$8:$J$24)+$F$13+$F$12)","v":620291.96864535566}]
["K4.2","PIS3 - aliquota efetiva aplicavel percentual-desconto",null,{"$f":"ROUND(1.65%*0.8,4)","v":1.32E-2},{"$f":"ROUND((1/(1-$D$8))*D10,4)","v":1.5100000000000001E-2},{"$f":"E10*SUM(SUMIF(PFP!$B$8:$B$24,\"MO1\",PFP!$J$8:$J$24)*(1+PFP2.1_FatorKa!$E$34)+SUMIF(PFP!$B$8:$B$24,\"MO2\",PFP!$J$8:$J$24)*(1+PFP2.2_FatorKb!$E$35)+SUMIF(PFP!$B$8:$B$24,\"<>MO*\",PFP!$J$8:$J$24)+$F$13+$F$12)","v":164035.1790988594}]
["K4.3","COFINS3 - aliquota efetiva aplicavel percentual-desconto",null,{"$f":"ROUND(7.6%*0.8,4)","v":6.08E-2},{"$f":"ROUND((1/(1-$D$8))*D11,4)","v":6.9400000000000003E-2},{"$f":"E11*SUM(SUMIF(PFP!$B$8:$B$24,\"MO1\",PFP!$J$8:$J$24)*(1+PFP2.1_FatorKa!$E$34)+SUMIF(PFP!$B$8:$B$24,\"MO2\",PFP!$J$8:$J$24)*(1+PFP2.2_FatorKb!$E$35)+SUMIF(PFP!$B$8:$B$24,\"<>MO*\",PFP!$J$8:$J$24)+$F$13+$F$12)","v":753910.0284411154}]
["K3","REMUNERAÇÃO DA EMPRESA (LUCRO)",null,null,0.1,{"$f":"E12*SUM(SUMIF(PFP!$B$8:$B$24,\"MO1\",PFP!$J$8:$J$24)*(1+PFP2.1_FatorKa!$E$34)+SUMIF(PFP!$B$8:$B$24,\"MO2\",PFP!$J$8:$J$24)*(1+PFP2.2_FatorKb!$E$35)+SUMIF(PFP!$B$8:$B$24,\"<>MO*\",PFP!$J$8:$J$24)+$F$13)","v":987568.8085421999}]
["K2","CUSTOS DA ADMINISTRAÇÃO CENTRAL",null,null,{"$f":"ROUND(SUM(E14:E16),4)","v":0.15},{"$f":"ROUND(E13*SUMIF(PFP!$B$8:$B$24,\"MO*\",PFP!$J$8:$J$24),2)","v":786412.95}]
["K2.1","Custos da administração central da empresa (diretoria, pessoal técnico de apoio e pessoal administrativo não diretamente vinculado à prestação dos serviços)",null,null,0.1,{"$f":"ROUND(E14*SUMIF(PFP!$B$8:$B$24,\"MO*\",PFP!$J$8:$J$24),2)","v":524275.3}]
["K2.2","Outras despesas que afetam o custo de produção como treinamento, biblioteca, programa de qualidade, programa de benefícios, auditoria interna e externa",null,null,0.03,{"$f":"ROUND(E15*SUMIF(PFP!$B$8:$B$24,\"MO*\",PFP!$J$8:$J$24),2)","v":157282.59}]
["K2.3","Despesas fixas e variaveis com patrimônio, aluguéis, comunicação, manutenção e transporte não diretamente relacionados com o custo direto dos serviços",null,null,0.02,{"$f":"ROUND(E16*SUMIF(PFP!$B$8:$B$24,\"MO*\",PFP!$J$8:$J$24),2)","v":104855.06}]
["Kd","TAXA RESSARCIMENTO DE DESPESAS SOBRE CUSTOS DIVERSOS",null,null,{"$f":"ROUND((1+E12)*(1+E8),4)","v":1.2558}]
["NOME DO INFORMANTE:",null,null,null,"QUALIFICAÇÃO:"]
[]
["ASSINATURA:",null,null,null,"DATA:"]
[]
["Observação:"]
["1 - RELACIONAR OS CUSTOS DE ADMINISTRAÇÃO COM RESPECTIVOS PERCENTUAIS INCIDENTES NA MÃO -DE-OBRA"]
["1 - DISCRIMINAR OS TRIBUTOS QUE INCIDEM SOBRE OS CUSTOS DA PRESTAÇÃO DOS SERVIÇOS"]
["2 - K4 = INDICAR % DE CADA TRIBUTO E A SOMA DOS MESMOS (ex: ISS 5% + PIS 1,65% + COFINS 7,60% = 14,25%)"]
["3 - PIS e COFINS, Regime de Incidencia Acumulativa (0,65% e 3,00% - sem percentual de desconto) ou em Regime de Incidencia Não Acumulativa (1,65% e 7,60% - aplicável percentual de desconto) de acordo com a forma de apuração do lucro no IRPJ. APRESENTAR COMPROVANTES de aproveitamento de créditos tributários dos últimos 12 meses em caso de aplicação de \"percentual de desconto\"."]
["4 - AS DESPESAS FISCAIS (K4) INCIDEM SOBRE O TOTAL DA FATURA E NÃO SOBRE OS CUSTOS INCORRIDOS, "]
["     DEVENDO SER CALCULADO O K4' APLICANDO-SE A SEGUINTE FÓRMULA:"]
["     K4' = { [ 1 / ( 1 - K4) ] - 1 } x 100"]
[{"$f":"CONCATENATE(\"     K4' = { [ 1 / ( 1 - \",D8,\" ) ] - 1 } x 100\")","v":"     K4' = { [ 1 / ( 1 - 0,124 ) ] - 1 } x 100"}]
["Kc - Taxa de Ressarcimento de Despesas sobre Custos Diversos (incide sobre os Insumos Codigo DP e EM)"]
["Kc = (1 + K3) x (1 + K4)"]
["K2 - Incide sobre o Custo Total (CT) da Mão de Obra (MO* = MO1 + MO2)"]
["K3 - Incide sobre o Custo Total (CT) Mão de Obra com encargos (MO1 x Ka ou MO2 x Kb), demais Custos (DP e EM), e Custos da Administração Central (K2)"]
["K4 -  Incide sobre o Custo Total (CT) Mão de Obra com encargos (MO1 x Ka ou MO2 x Kb), demais Custos (DP e EM), e Custos da Administração Central (K2) e Lucro (K3)"]

{"sheet":"CRO1_Ins-Pro","index":7,"n_rows":25,"n_cols":16,"rows_kept":25,"cut":false,"hidden":false,"merged":[[0,13,0,15],[1,13,1,15],[40,7,40,13],[40,14,40,15],[21,0,22,0],[21,1,22,1],[23,0,24,0],[0,0,1,12]]}
["INSUMOS POR ETAPA/PRODUTO",{"$nulls":12},"CODIGO:"]
[{"$nulls":13},"CRO-1"]
["Cod.","Categoria / Insumo","Uni","Qde","CUD","PU","FatorK","E1. EV PIS","E2. PB PIS","E3. EB","E4. T1.1","E5. T1.2","E6. T2","E7. T3","E8. T4","E9. T5"]
[{"$nulls":6},"Meses",{"$f":"COUNTA('CRO2_Ins-Mes'!F80:AO80)-COUNTIF('CRO2_Ins-Mes'!F80:AO80,0)","v":4},{"$f":"COUNTA('CRO2_Ins-Mes'!F95:AO95)-COUNTIF('CRO2_Ins-Mes'!F95:AO95,0)","v":8},{"$f":"COUNTA('CRO2_Ins-Mes'!F110:AO110)-COUNTIF('CRO2_Ins-Mes'!F110:AO110,0)","v":14},{"$f":"COUNTA('CRO2_Ins-Mes'!F125:AO125)-COUNTIF('CRO2_Ins-Mes'!F125:AO125,0)","v":6},{"$f":"COUNTA('CRO2_Ins-Mes'!F140:AO140)-COUNTIF('CRO2_Ins-Mes'!F140:AO140,0)","v":6},{"$f":"COUNTA('CRO2_Ins-Mes'!F155:AO155)-COUNTIF('CRO2_Ins-Mes'!F155:AO155,0)","v":4},{"$f":"COUNTA('CRO2_Ins-Mes'!F170:AO170)-COUNTIF('CRO2_Ins-Mes'!F170:AO170,0)","v":4},{"$f":"COUNTA('CRO2_Ins-Mes'!F185:AO185)-COUNTIF('CRO2_Ins-Mes'!F185:AO185,0)","v":4},{"$f":"COUNTA('CRO2_Ins-Mes'!F200:AO200)-COUNTIF('CRO2_Ins-Mes'!F200:AO200,0)","v":4}]
[{"$f":"PFP!C8","v":"P0"},{"$f":"PFP!D8","v":"Engenheiro coordenador (P8061)"},"mês",{"$f":"SUM(H5:P5)","v":18},{"$f":"PFP!G8","v":16003.36},{"$f":"PFP!H8","v":23110.45},{"$f":"PFP!I8","v":1.4440999999999999},{"$f":"'CRO2_Ins-Mes'!E66","v":1},{"$f":"'CRO2_Ins-Mes'!E96","v":4},{"$f":"'CRO2_Ins-Mes'!E111","v":2.25},{"$f":"'CRO2_Ins-Mes'!E111","v":2.25},{"$f":"'CRO2_Ins-Mes'!E126","v":2.25},{"$f":"'CRO2_Ins-Mes'!E141","v":1.5},{"$f":"'CRO2_Ins-Mes'!E156","v":1.5},{"$f":"'CRO2_Ins-Mes'!E171","v":1.5},{"$f":"'CRO2_Ins-Mes'!E186","v":1.75}]
[{"$f":"PFP!C9","v":"P1"},{"$f":"PFP!D9","v":"Engenheiro sênior (P8067)"},"mês",66,{"$f":"PFP!G9","v":13560.49},{"$f":"PFP!H9","v":22989.1},{"$f":"PFP!I9","v":1.6953},{"$f":"'CRO2_Ins-Mes'!E67","v":5.5},{"$f":"'CRO2_Ins-Mes'!E97","v":12},{"$f":"'CRO2_Ins-Mes'!E112","v":7.5},{"$f":"'CRO2_Ins-Mes'!E112","v":7.5},{"$f":"'CRO2_Ins-Mes'!E127","v":7.5},{"$f":"'CRO2_Ins-Mes'!E142","v":6.5},{"$f":"'CRO2_Ins-Mes'!E157","v":6.5},{"$f":"'CRO2_Ins-Mes'!E172","v":6.5},{"$f":"'CRO2_Ins-Mes'!E187","v":6.5}]
[{"$f":"PFP!C10","v":"P2"},{"$f":"PFP!D10","v":"Engenheiro pleno (P8066)"},"mês",222,{"$f":"PFP!G10","v":10307.290000000001},{"$f":"PFP!H10","v":24047.94},{"$f":"PFP!I10","v":2.3331},{"$f":"'CRO2_Ins-Mes'!E68","v":22},{"$f":"'CRO2_Ins-Mes'!E98","v":12},{"$f":"'CRO2_Ins-Mes'!E113","v":30},{"$f":"'CRO2_Ins-Mes'!E113","v":30},{"$f":"'CRO2_Ins-Mes'!E128","v":30},{"$f":"'CRO2_Ins-Mes'!E143","v":24},{"$f":"'CRO2_Ins-Mes'!E158","v":24},{"$f":"'CRO2_Ins-Mes'!E173","v":24},{"$f":"'CRO2_Ins-Mes'!E188","v":26}]
[{"$f":"PFP!C11","v":"P3"},{"$f":"PFP!D11","v":"Engenheiro júnior (P8065)"},"mês",117,{"$f":"PFP!G11","v":9350},{"$f":"PFP!H11","v":21814.49},{"$f":"PFP!I11","v":2.3331},{"$f":"'CRO2_Ins-Mes'!E69","v":11},{"$f":"'CRO2_Ins-Mes'!E99","v":12},{"$f":"'CRO2_Ins-Mes'!E114","v":15},{"$f":"'CRO2_Ins-Mes'!E114","v":15},{"$f":"'CRO2_Ins-Mes'!E129","v":15},{"$f":"'CRO2_Ins-Mes'!E144","v":12},{"$f":"'CRO2_Ins-Mes'!E159","v":12},{"$f":"'CRO2_Ins-Mes'!E174","v":12},{"$f":"'CRO2_Ins-Mes'!E189","v":13}]
[{"$f":"PFP!C12","v":"T1"},{"$f":"PFP!D12","v":"Técnico de projetos/obra (P8147)"},"mês",142,{"$f":"PFP!G12","v":2894.21},{"$f":"PFP!H12","v":6752.48},{"$f":"PFP!I12","v":2.3331},{"$f":"'CRO2_Ins-Mes'!E70","v":11},{"$f":"'CRO2_Ins-Mes'!E100","v":37},{"$f":"'CRO2_Ins-Mes'!E115","v":15},{"$f":"'CRO2_Ins-Mes'!E115","v":15},{"$f":"'CRO2_Ins-Mes'!E130","v":15},{"$f":"'CRO2_Ins-Mes'!E145","v":12},{"$f":"'CRO2_Ins-Mes'!E160","v":12},{"$f":"'CRO2_Ins-Mes'!E175","v":12},{"$f":"'CRO2_Ins-Mes'!E190","v":13}]
[{"$f":"PFP!C13","v":"D"},{"$f":"PFP!D13","v":"Desenhista (P9848)"},"mês",70,{"$f":"PFP!G13","v":2673.95},{"$f":"PFP!H13","v":6238.59},{"$f":"PFP!I13","v":2.3331},{"$f":"'CRO2_Ins-Mes'!E71","v":6},{"$f":"'CRO2_Ins-Mes'!E101","v":9},{"$f":"'CRO2_Ins-Mes'!E116","v":9},{"$f":"'CRO2_Ins-Mes'!E116","v":9},{"$f":"'CRO2_Ins-Mes'!E131","v":9},{"$f":"'CRO2_Ins-Mes'!E146","v":7},{"$f":"'CRO2_Ins-Mes'!E161","v":7},{"$f":"'CRO2_Ins-Mes'!E176","v":7},{"$f":"'CRO2_Ins-Mes'!E191","v":7}]
[{"$f":"PFP!C14","v":"A1"},{"$f":"PFP!D14","v":"Secretária (P8135)"},"mês",36,{"$f":"PFP!G14","v":2204.9299999999998},{"$f":"PFP!H14","v":5144.32},{"$f":"PFP!I14","v":2.3331},{"$f":"'CRO2_Ins-Mes'!E72","v":2},{"$f":"'CRO2_Ins-Mes'!E102","v":8},{"$f":"'CRO2_Ins-Mes'!E117","v":4.5},{"$f":"'CRO2_Ins-Mes'!E117","v":4.5},{"$f":"'CRO2_Ins-Mes'!E132","v":4.5},{"$f":"'CRO2_Ins-Mes'!E147","v":3},{"$f":"'CRO2_Ins-Mes'!E162","v":3},{"$f":"'CRO2_Ins-Mes'!E177","v":3},{"$f":"'CRO2_Ins-Mes'!E192","v":3.5}]
[{"$f":"PFP!C15","v":"ECA"},{"$f":"PFP!D15","v":"Encargos Comp. e Adicionais"},"mês",671,{"$f":"PFP!G15","v":815.05},{"$f":"PFP!H15","v":1023.54},{"$f":"PFP!I15","v":1.2558},{"$f":"SUM(H5:H11)","v":58.5},{"$f":"SUM(I5:I11)","v":94},{"$f":"SUM(J5:J11)","v":83.25},{"$f":"SUM(K5:K11)","v":83.25},{"$f":"SUM(L5:L11)","v":83.25},{"$f":"SUM(M5:M11)","v":66},{"$f":"SUM(N5:N11)","v":66},{"$f":"SUM(O5:O11)","v":66},{"$f":"SUM(P5:P11)","v":70.75}]
[{"$f":"PFP!C16","v":"AT2"},{"$f":"PFP!D16","v":"Auxilio Transporte Técnicos"},"mês",142,{"$f":"PFP!G16","v":0},{"$f":"PFP!H16","v":0},{"$f":"PFP!I16","v":1.2558},{"$f":"H9","v":11},{"$f":"I9","v":37},15,15,15,12,12,12,13]
[{"$f":"PFP!C17","v":"AT3"},{"$f":"PFP!D17","v":"Auxilio Transporte Secretária"},"mês",36,{"$f":"PFP!G17","v":12.983080000000001},{"$f":"PFP!H17","v":16.3},{"$f":"PFP!I17","v":1.2558},{"$f":"H11","v":2},{"$f":"I11","v":8},4.5,4.5,4.5,3,3,3,3.5]
[{"$f":"PFP!C18","v":"V1"},{"$f":"PFP!D18","v":"Diárias"},"dia",908,{"$f":"PFP!G18","v":239},{"$f":"PFP!H18","v":300.14},{"$f":"PFP!I18","v":1.2558},{"$f":"'CRO2_Ins-Mes'!E73","v":102},{"$f":"'CRO2_Ins-Mes'!E88","v":54},{"$f":"'CRO2_Ins-Mes'!E103","v":364},{"$f":"'CRO2_Ins-Mes'!E118","v":84},{"$f":"'CRO2_Ins-Mes'!E133","v":84},{"$f":"'CRO2_Ins-Mes'!E163","v":64},{"$f":"'CRO2_Ins-Mes'!E163","v":64},{"$f":"'CRO2_Ins-Mes'!E178","v":28},{"$f":"'CRO2_Ins-Mes'!E193","v":64}]
[{"$f":"PFP!C19","v":"V2"},{"$f":"PFP!D19","v":"Pick-up Cab.dupla 2.8 4x4 Diesel"},"un",225,{"$f":"PFP!G19","v":464.91},{"$f":"PFP!H19","v":583.83000000000004},{"$f":"PFP!I19","v":1.2558},{"$f":"'CRO2_Ins-Mes'!E74","v":25},{"$f":"'CRO2_Ins-Mes'!E89","v":10},{"$f":"'CRO2_Ins-Mes'!E104","v":90},{"$f":"'CRO2_Ins-Mes'!E119","v":20},{"$f":"'CRO2_Ins-Mes'!E134","v":20},{"$f":"'CRO2_Ins-Mes'!E164","v":15},{"$f":"'CRO2_Ins-Mes'!E164","v":15},{"$f":"'CRO2_Ins-Mes'!E179","v":15},{"$f":"'CRO2_Ins-Mes'!E194","v":15}]
[{"$f":"PFP!C20","v":"V3"},{"$f":"PFP!D20","v":"Passagens Aéreas (ida e volta)"},"un",74,{"$f":"PFP!G20","v":2213},{"$f":"PFP!H20","v":2779.09},{"$f":"PFP!I20","v":1.2558},{"$f":"'CRO2_Ins-Mes'!E75","v":5},{"$f":"'CRO2_Ins-Mes'!E90","v":9},{"$f":"'CRO2_Ins-Mes'!E105","v":14},{"$f":"'CRO2_Ins-Mes'!E120","v":9},{"$f":"'CRO2_Ins-Mes'!E135","v":9},{"$f":"'CRO2_Ins-Mes'!E165","v":7},{"$f":"'CRO2_Ins-Mes'!E165","v":7},{"$f":"'CRO2_Ins-Mes'!E180","v":7},{"$f":"'CRO2_Ins-Mes'!E195","v":7}]
[{"$f":"PFP!C21","v":"M1"},{"$f":"PFP!D21","v":"Relatório Parcial"},"un",93,{"$f":"PFP!G21","v":34.412458175142888},{"$f":"PFP!H21","v":43.22},{"$f":"PFP!I21","v":1.2558},{"$f":"'CRO2_Ins-Mes'!E76","v":7},{"$f":"'CRO2_Ins-Mes'!E91","v":15},{"$f":"'CRO2_Ins-Mes'!E106","v":29},{"$f":"'CRO2_Ins-Mes'!E121","v":11},{"$f":"'CRO2_Ins-Mes'!E136","v":11},{"$f":"'CRO2_Ins-Mes'!E166","v":5},{"$f":"'CRO2_Ins-Mes'!E166","v":5},{"$f":"'CRO2_Ins-Mes'!E181","v":5},{"$f":"'CRO2_Ins-Mes'!E196","v":5}]
[{"$f":"PFP!C22","v":"M2"},{"$f":"PFP!D22","v":"Relatório Final"},"un",30,{"$f":"PFP!G22","v":1525.9113388126327},{"$f":"PFP!H22","v":1916.24},{"$f":"PFP!I22","v":1.2558},{"$f":"'CRO2_Ins-Mes'!E77","v":3},{"$f":"'CRO2_Ins-Mes'!E92","v":3},{"$f":"'CRO2_Ins-Mes'!E107","v":6},{"$f":"'CRO2_Ins-Mes'!E122","v":3},{"$f":"'CRO2_Ins-Mes'!E137","v":3},{"$f":"'CRO2_Ins-Mes'!E167","v":3},{"$f":"'CRO2_Ins-Mes'!E167","v":3},{"$f":"'CRO2_Ins-Mes'!E182","v":3},{"$f":"'CRO2_Ins-Mes'!E197","v":3}]
[{"$f":"PFP!C23","v":"TOP"},{"$f":"PFP!D23","v":"Total Serviços Cartográficos"},"un",1,{"$f":"PFP!G23","v":"-"},{"$f":"PFP!H23","v":1882138.36},{"$f":"PFP!I23","v":"-"},{"$f":"'CRO2_Ins-Mes'!E78","v":0},{"$f":"'CRO2_Ins-Mes'!E93","v":0},{"$f":"'CRO2_Ins-Mes'!E108","v":1},{"$f":"'CRO2_Ins-Mes'!E123","v":0},{"$f":"'CRO2_Ins-Mes'!E138","v":0},{"$f":"'CRO2_Ins-Mes'!E168","v":0},{"$f":"'CRO2_Ins-Mes'!E168","v":0},{"$f":"'CRO2_Ins-Mes'!E183","v":0},{"$f":"'CRO2_Ins-Mes'!E198","v":0}]
[{"$f":"PFP!C24","v":"GEO"},{"$f":"PFP!D24","v":"Total Serviços Geotécnicos"},"un",1,{"$f":"PFP!G24","v":"-"},{"$f":"PFP!H24","v":3648693.9099999997},{"$f":"PFP!I24","v":"-"},{"$f":"'CRO2_Ins-Mes'!E79","v":0},{"$f":"'CRO2_Ins-Mes'!E94","v":0},{"$f":"'CRO2_Ins-Mes'!E109","v":1},{"$f":"'CRO2_Ins-Mes'!E124","v":0},{"$f":"'CRO2_Ins-Mes'!E139","v":0},{"$f":"'CRO2_Ins-Mes'!E169","v":0},{"$f":"'CRO2_Ins-Mes'!E169","v":0},{"$f":"'CRO2_Ins-Mes'!E184","v":0},{"$f":"'CRO2_Ins-Mes'!E199","v":0}]
["TOTAL","VALOR TOTAL POR PRODUTO","R$",18294218.289999995,null,null,null,{"$f":"SUM(H5:H21*$F$5:$F$21)","v":1165628.4600000002},{"$f":"SUM(I5:I21*$F$5:$F$21)","v":1415601.6400000001},{"$f":"SUM(J5:J21*$F$5:$F$21)","v":7283225.3274999997},{"$f":"SUM(K5:K21*$F$5:$F$21)","v":1607063.6275000002},{"$f":"SUM(L5:L21*$F$5:$F$21)","v":1607063.6275000002},{"$f":"SUM(M5:M21*$F$5:$F$21)","v":1284139.5149999994},{"$f":"SUM(N5:N21*$F$5:$F$21)","v":1284139.5149999994},{"$f":"SUM(O5:O21*$F$5:$F$21)","v":1273334.4749999994},{"$f":"SUM(P5:P21*$F$5:$F$21)","v":1374022.1025000003}]
[null,null,"%",1.0000099999999998,null,null,null,{"$f":"ROUND(H22/$D$22,5)","v":6.3719999999999999E-2},{"$f":"ROUND(I22/$D$22,5)","v":7.7380000000000004E-2},0.39811999999999997,8.7849999999999998E-2,8.7849999999999998E-2,7.0190000000000002E-2,7.0190000000000002E-2,6.9599999999999995E-2,7.5109999999999996E-2]
["TOTAL","VALOR DOS SUBPRODUTOS","R$",14635374.632000001,null,null,null,{"$f":"H22*0.8","v":932502.76800000016},{"$f":"I22*0.8","v":1132481.3120000002},5826580.2620000001,1285650.9020000002,1285650.9020000002,1027311.6119999996,1027311.6119999996,1018667.5799999996,1099217.6820000003]
[null,"VALOR DO PRODUTO CONSOLIDADO","R$",3658843.6580000003,null,null,null,{"$f":"H22*0.2","v":233125.69200000004},{"$f":"I22*0.2","v":283120.32800000004},1456645.0655,321412.72550000006,321412.72550000006,256827.9029999999,256827.9029999999,254666.8949999999,274804.42050000007]

{"sheet":"CRO2_Ins-Mes","index":8,"n_rows":201,"n_cols":41,"rows_kept":201,"cut":false,"hidden":false,"merged":[[0,0,1,40],[224,5,224,40]]}
["CRONOGRAMA SIMPLIFICADO"]
[]
["Cod1","Cod2","Produtos","Uni","Qde",1,2,3,4,5,6,7,8,9,10,11,12,13,14,15,16,17,18,19,20,21,22,23,24,25,26,27,28,29,30,31,32,33,34,35,36]
["1","1.1","Análise e Avaliação das Áreas Irrigáveis do PIS","mês",{"$f":"SUM(F4:AO4)","v":3},1,1,1]
["1","1.2","Determinação da Vazão Necessária em Cada Mancha de Solo Irrigável do PIS","mês",2,null,1,1]
["1","1.3","Determinação da Vazão Necessária nas Estruturas do PIS","mês",3,null,1,1,1]
["1","1.4","Disponibilidade hídrica para o CSB","mês",2,null,1,1]
["1","1.5","Determinação da Vazão Necessária nas Estruturas do PIS para Atendimento Conjunto com o CSB","mês",2,null,null,1,1]
["1","1","Atualização EV PIS RC.500 a RC800","mês",4,{"$f":"SUBTOTAL(4,F4:F8)","v":1},1,1,1,0,0,0,0,0,0,0,0,0,0,0,0,0,0,0,0,0,0,0,0,0,0,0,0,0,0,0,0,0,0,0,0]
["2","2.1","Projeto Geométrico e Hidráulico","mês",3,{"$nulls":4},1,1,1]
["2","2.2","Projeto Civil e Terraplanagem","mês",1,{"$nulls":4},1]
["2","2.3","Projeto Eletromecânico e Automação","mês",1,{"$nulls":4},1]
["2","2.4","Peças Complementares","mês",7,{"$nulls":5},1,1,1,1,1,1,1]
["2","2","PB PIS RC.500 a RC800","mês",8,{"$f":"SUBTOTAL(4,F10:F13)","v":0},{"$f":"SUBTOTAL(4,G10:G13)","v":0},{"$f":"SUBTOTAL(4,H10:H13)","v":0},{"$f":"SUBTOTAL(4,I10:I13)","v":0},{"$f":"SUBTOTAL(4,J10:J13)","v":1},{"$f":"SUBTOTAL(4,K10:K13)","v":1},{"$f":"SUBTOTAL(4,L10:L13)","v":1},{"$f":"SUBTOTAL(4,M10:M13)","v":1},{"$f":"SUBTOTAL(4,N10:N13)","v":1},{"$f":"SUBTOTAL(4,O10:O13)","v":1},{"$f":"SUBTOTAL(4,P10:P13)","v":1},{"$f":"SUBTOTAL(4,Q10:Q13)","v":1},{"$f":"SUBTOTAL(4,R10:R13)","v":0},{"$f":"SUBTOTAL(4,S10:S13)","v":0},{"$f":"SUBTOTAL(4,T10:T13)","v":0},{"$f":"SUBTOTAL(4,U10:U13)","v":0},{"$f":"SUBTOTAL(4,V10:V13)","v":0},{"$f":"SUBTOTAL(4,W10:W13)","v":0},{"$f":"SUBTOTAL(4,X10:X13)","v":0},{"$f":"SUBTOTAL(4,Y10:Y13)","v":0},{"$f":"SUBTOTAL(4,Z10:Z13)","v":0},{"$f":"SUBTOTAL(4,AA10:AA13)","v":0},{"$f":"SUBTOTAL(4,AB10:AB13)","v":0},{"$f":"SUBTOTAL(4,AC10:AC13)","v":0},{"$f":"SUBTOTAL(4,AD10:AD13)","v":0},{"$f":"SUBTOTAL(4,AE10:AE13)","v":0},{"$f":"SUBTOTAL(4,AF10:AF13)","v":0},{"$f":"SUBTOTAL(4,AG10:AG13)","v":0},{"$f":"SUBTOTAL(4,AH10:AH13)","v":0},{"$f":"SUBTOTAL(4,AI10:AI13)","v":0},{"$f":"SUBTOTAL(4,AJ10:AJ13)","v":0},{"$f":"SUBTOTAL(4,AK10:AK13)","v":0},{"$f":"SUBTOTAL(4,AL10:AL13)","v":0},{"$f":"SUBTOTAL(4,AM10:AM13)","v":0},{"$f":"SUBTOTAL(4,AN10:AN13)","v":0},{"$f":"SUBTOTAL(4,AO10:AO13)","v":0}]
["3","3.1","Estudos Topográficos","mês",5,{"$nulls":5},1,1,1,1,1]
["3","3.2","Estudo Geológico/Geotécnico","mês",5,{"$nulls":6},1,1,1,1,1]
["3","3.3","Estudo Hidrológico","mês",2,{"$nulls":7},1,1]
["3","3.4","Estudos de Transientes Hidráulicos","mês",2,{"$nulls":9},1,1]
["3","3.5","Estudo de Inserção Regional","mês",{"$f":"SUM(F19:AO19)","v":4},1,1,1,1]
["3","3.6","Modelo de Gestão","mês",4,{"$nulls":11},1,1,1,1]
["3","3","Estudos Básicos","mês",14,{"$f":"SUBTOTAL(4,F15:F20)","v":1},{"$f":"SUBTOTAL(4,G15:G20)","v":1},1,1,0,1,1,1,1,1,1,1,1,1,1,0,0,0,0,0,0,0,0,0,0,0,0,0,0,0,0,0,0,0,0,0]
["4","4.1","Projeto Geométrico e Hidráulico","mês",3,{"$nulls":14},1,1,1]
["4","4.2","Projeto Civil e Terraplanagem","mês",5,{"$nulls":15},1,1,1,1,1]
["4","4.3","Projeto Eletromecânico e Automação","mês",3,{"$nulls":15},1,1,1]
["4","4.4","Projeto Viário e Drenagem","mês",2,{"$nulls":15},1,1]
["4","4.5","Projeto de Desapropriação","mês",2,{"$nulls":15},1,1]
["4","4.6","Peças Complementares","mês",2,{"$nulls":18},1,1]
["4","4","CSB Trecho 1.1","mês",6,{"$f":"SUBTOTAL(4,F22:F27)","v":0},0,0,0,0,0,0,0,0,0,0,0,0,0,1,1,1,1,1,1,0,0,0,0,0,0,0,0,0,0,0,0,0,0,0,0]
["5","5.1","Projeto Geométrico e Hidráulico","mês",3,{"$nulls":18},1,1,1]
["5","5.2","Projeto Civil e Terraplanagem","mês",5,{"$nulls":19},1,1,1,1,1]
["5","5.3","Projeto Eletromecânico e Automação","mês",3,{"$nulls":19},1,1,1]
["5","5.4","Projeto Viário e Drenagem","mês",2,{"$nulls":19},1,1]
["5","5.5","Projeto de Desapropriação","mês",2,{"$nulls":19},1,1]
["5","5.6","Plano de Execução da Obra","mês",2,{"$nulls":22},1,1]
["5","5","CSB Trecho 1.2","mês",6,{"$f":"SUBTOTAL(4,F29:F34)","v":0},0,0,0,0,0,0,0,0,0,0,0,0,0,0,0,0,0,1,1,1,1,1,1,0,0,0,0,0,0,0,0,0,0,0,0]
["6","6.1","Projeto Geométrico e Hidráulico","mês",2,{"$nulls":23},1,1]
["6","6.2","Projeto Civil e Terraplanagem","mês",3,{"$nulls":24},1,1,1]
["6","6.3","Projeto Eletromecânico e Automação","mês",2,{"$nulls":24},1,1]
["6","6.4","Projeto Viário e Drenagem","mês",2,{"$nulls":24},1,1]
["6","6.5","Projeto de Desapropriação","mês",2,{"$nulls":24},1,1]
["6","6.6","Plano de Execução da Obra","mês",2,{"$nulls":25},1,1]
["6","6","CSB Trecho 2","mês",4,{"$f":"SUBTOTAL(4,F36:F41)","v":0},0,0,0,0,0,0,0,0,0,0,0,0,0,0,0,0,0,0,0,0,0,0,1,1,1,1,0,0,0,0,0,0,0,0,0]
["7","7.1","Projeto Geométrico e Hidráulico","mês",2,{"$nulls":26},1,1]
["7","7.2","Projeto Civil e Terraplanagem","mês",3,{"$nulls":27},1,1,1]
["7","7.3","Projeto Eletromecânico e Automação","mês",2,{"$nulls":27},1,1]
["7","7.4","Projeto Viário e Drenagem","mês",2,{"$nulls":27},1,1]
["7","7.5","Projeto de Desapropriação","mês",2,{"$nulls":27},1,1]
["7","7.6","Plano de Execução da Obra","mês",2,{"$nulls":28},1,1]
["7","7","CSB Trecho 3","mês",4,{"$f":"SUBTOTAL(4,F43:F48)","v":0},0,0,0,0,0,0,0,0,0,0,0,0,0,0,0,0,0,0,0,0,0,0,0,0,0,1,1,1,1,0,0,0,0,0,0]
["8","8.1","Projeto Geométrico e Hidráulico","mês",2,{"$nulls":29},1,1]
["8","8.2","Projeto Civil e Terraplanagem","mês",3,{"$nulls":30},1,1,1]
["8","8.3","Projeto Eletromecânico e Automação","mês",2,{"$nulls":30},1,1]
["8","8.4","Projeto Viário e Drenagem","mês",2,{"$nulls":30},1,1]
["8","8.5","Projeto de Desapropriação","mês",2,{"$nulls":30},1,1]
["8","8.6","Plano de Execução da Obra","mês",2,{"$nulls":31},1,1]
["8","8","CSB Trecho 4","mês",4,{"$f":"SUBTOTAL(4,F50:F55)","v":0},0,0,0,0,0,0,0,0,0,0,0,0,0,0,0,0,0,0,0,0,0,0,0,0,0,0,0,0,1,1,1,1,0,0,0]
["9","9.1","Projeto Geométrico e Hidráulico","mês",2,{"$nulls":32},1,1]
["9","9.2","Projeto Civil e Terraplanagem","mês",{"$f":"SUM(F58:AO58)","v":3},{"$nulls":33},1,1,1]
["9","9.3","Projeto Eletromecânico e Automação","mês",2,{"$nulls":33},1,1]
["9","9.4","Projeto Viário e Drenagem","mês",2,{"$nulls":33},1,1]
["9","9.5","Projeto de Desapropriação","mês",2,{"$nulls":33},1,1]
["9","9.6","Plano de Execução da Obra","mês",2,{"$nulls":34},1,1]
["9","9","CSB Trecho 5","mês",4,{"$f":"SUBTOTAL(4,F57:F62)","v":0},0,0,0,0,0,0,0,0,0,0,0,0,0,0,0,0,0,0,0,0,0,0,0,0,0,0,0,0,0,0,0,1,1,1,1]
["Total","Total","Balanço Temporal","mês",36,{"$f":"SUBTOTAL(4,F4:F62)","v":1},1,1,1,1,1,1,1,1,1,1,1,1,1,1,1,1,1,1,1,1,1,1,1,1,1,1,1,1,1,1,1,1,1,1,1]
["Cod1","Cod2","Insumos","Uni","Qde",1,2,3,4,5,6,7,8,9,10,11,12,13,14,15,16,17,18,19,20,21,22,23,24,25,26,27,28,29,30,31,32,33,34,35,36]
[1,{"$f":"PFP!C8","v":"P0"},{"$f":"PFP!D8","v":"Engenheiro coordenador (P8061)"},{"$f":"PFP!E8","v":"mês"},{"$f":"SUM(F66:AO66)","v":1},0.25,0.25,0.25,0.25]
[1,{"$f":"PFP!C9","v":"P1"},{"$f":"PFP!D9","v":"Engenheiro sênior (P8067)"},{"$f":"PFP!E9","v":"mês"},5.5,0.5,2,2.5,0.5]
[1,{"$f":"PFP!C10","v":"P2"},{"$f":"PFP!D10","v":"Engenheiro pleno (P8066)"},{"$f":"PFP!E10","v":"mês"},22,2,8,10,2]
[1,{"$f":"PFP!C11","v":"P3"},{"$f":"PFP!D11","v":"Engenheiro júnior (P8065)"},{"$f":"PFP!E11","v":"mês"},11,1,4,5,1]
[1,{"$f":"PFP!C12","v":"T1"},{"$f":"PFP!D12","v":"Técnico de projetos/obra (P8147)"},{"$f":"PFP!E12","v":"mês"},11,1,4,5,1]
[1,{"$f":"PFP!C13","v":"D"},{"$f":"PFP!D13","v":"Desenhista (P9848)"},{"$f":"PFP!E13","v":"mês"},6,null,2,2,2]
[1,"A1",{"$f":"PFP!D14","v":"Secretária (P8135)"},"mês",2,0.5,0.5,0.5,0.5]
[1,{"$f":"PFP!C18","v":"V1"},{"$f":"PFP!D18","v":"Diárias"},{"$f":"PFP!E18","v":"dia"},102,20,40,40,2]
[1,{"$f":"PFP!C19","v":"V2"},{"$f":"PFP!D19","v":"Pick-up Cab.dupla 2.8 4x4 Diesel"},{"$f":"PFP!E19","v":"dia"},25,5,10,10]
[1,{"$f":"PFP!C20","v":"V3"},{"$f":"PFP!D20","v":"Passagens Aéreas (ida e volta)"},{"$f":"PFP!E20","v":"un"},5,2,1,1,1]
[1,{"$f":"PFP!C21","v":"M1"},{"$f":"PFP!D21","v":"Relatório Parcial"},{"$f":"PFP!E21","v":"un"},7,2,2,2,1]
[1,{"$f":"PFP!C22","v":"M2"},{"$f":"PFP!D22","v":"Relatório Final"},{"$f":"PFP!E22","v":"un"},3,null,null,null,3]
[1,{"$f":"PFP!C23","v":"TOP"},{"$f":"PFP!D23","v":"Total Serviços Cartográficos"},{"$f":"PFP!E23","v":"un"},0]
[1,{"$f":"PFP!C24","v":"GEO"},{"$f":"PFP!D24","v":"Total Serviços Geotécnicos"},{"$f":"PFP!E24","v":"un"},0]
["1",null,"Atualização EV PIS RC.500 a RC800",null,null,{"$f":"SUBTOTAL(5,F66:F79)","v":0.25},{"$f":"SUBTOTAL(5,G66:G79)","v":0.25},0.25,0.25,0,0,0,0,0,0,0,0,0,0,0,0,0,0,0,0,0,0,0,0,0,0,0,0,0,0,0,0,0,0,0,0]
[2,{"$f":"PFP!C8","v":"P0"},{"$f":"PFP!D8","v":"Engenheiro coordenador (P8061)"},{"$f":"PFP!E8","v":"mês"},2.25,{"$nulls":4},0.5,0.25,0.25,0.25,0.25,0.25,0.25,0.25]
[2,{"$f":"PFP!C9","v":"P1"},{"$f":"PFP!D9","v":"Engenheiro sênior (P8067)"},{"$f":"PFP!E9","v":"mês"},6,{"$nulls":4},1.5,1,1,0.5,0.5,0.5,0.5,0.5]
[2,{"$f":"PFP!C10","v":"P2"},{"$f":"PFP!D10","v":"Engenheiro pleno (P8066)"},{"$f":"PFP!E10","v":"mês"},24,{"$nulls":4},6,4,4,2,2,2,2,2]
[2,{"$f":"PFP!C11","v":"P3"},{"$f":"PFP!D11","v":"Engenheiro júnior (P8065)"},{"$f":"PFP!E11","v":"mês"},12,{"$nulls":4},3,2,2,1,1,1,1,1]
[2,{"$f":"PFP!C12","v":"T1"},{"$f":"PFP!D12","v":"Técnico de projetos/obra (P8147)"},{"$f":"PFP!E12","v":"mês"},12,{"$nulls":4},3,2,2,1,1,1,1,1]
[2,{"$f":"PFP!C13","v":"D"},{"$f":"PFP!D13","v":"Desenhista (P9848)"},{"$f":"PFP!E13","v":"mês"},10,{"$nulls":4},2,1,1,1,1,1,1,2]
[2,{"$f":"PFP!C14","v":"A1"},{"$f":"PFP!D14","v":"Secretária (P8135)"},{"$f":"PFP!E14","v":"mês"},4.5,{"$nulls":4},1,0.5,0.5,0.5,0.5,0.5,0.5,0.5]
[2,{"$f":"PFP!C18","v":"V1"},{"$f":"PFP!D18","v":"Diárias"},{"$f":"PFP!E18","v":"dia"},54,{"$nulls":4},4,2,20,20,2,2,2,2]
[2,{"$f":"PFP!C19","v":"V2"},{"$f":"PFP!D19","v":"Pick-up Cab.dupla 2.8 4x4 Diesel"},{"$f":"PFP!E19","v":"dia"},10,{"$nulls":6},5,5]
[2,{"$f":"PFP!C20","v":"V3"},{"$f":"PFP!D20","v":"Passagens Aéreas (ida e volta)"},{"$f":"PFP!E20","v":"un"},9,{"$nulls":4},2,1,1,1,1,1,1,1]
[2,{"$f":"PFP!C21","v":"M1"},{"$f":"PFP!D21","v":"Relatório Parcial"},{"$f":"PFP!E21","v":"un"},15,{"$nulls":4},2,2,2,2,2,2,2,1]
[2,{"$f":"PFP!C22","v":"M2"},{"$f":"PFP!D22","v":"Relatório Final"},{"$f":"PFP!E22","v":"un"},3,{"$nulls":11},3]
[2,{"$f":"PFP!C23","v":"TOP"},{"$f":"PFP!D23","v":"Total Serviços Cartográficos"},{"$f":"PFP!E23","v":"un"},0]
[2,{"$f":"PFP!C24","v":"GEO"},{"$f":"PFP!D24","v":"Total Serviços Geotécnicos"},{"$f":"PFP!E24","v":"un"},0]
[2,null,"PB PIS RC.500 a RC800",null,null,{"$f":"SUBTOTAL(5,F81:F94)","v":0},0,0,0,0.5,0.25,0.25,0.25,0.25,0.25,0.25,0.25,0,0,0,0,0,0,0,0,0,0,0,0,0,0,0,0,0,0,0,0,0,0,0,0]
[3,{"$f":"PFP!C8","v":"P0"},{"$f":"PFP!D8","v":"Engenheiro coordenador (P8061)"},{"$f":"PFP!E8","v":"mês"},4,0.25,0.25,0.25,0.25,null,0.25,0.25,0.25,0.25,0.25,0.25,0.25,0.5,0.5,0.25]
[3,{"$f":"PFP!C9","v":"P1"},{"$f":"PFP!D9","v":"Engenheiro sênior (P8067)"},{"$f":"PFP!E9","v":"mês"},12,1,1,1,1,null,1,1,1,1,1,1,1,1]
[3,{"$f":"PFP!C10","v":"P2"},{"$f":"PFP!D10","v":"Engenheiro pleno (P8066)"},{"$f":"PFP!E10","v":"mês"},12,1,1,1,1,null,1,1,1,1,1,1,1,1]
[3,{"$f":"PFP!C11","v":"P3"},{"$f":"PFP!D11","v":"Engenheiro júnior (P8065)"},{"$f":"PFP!E11","v":"mês"},12,1,1,1,1,null,1,1,1,1,1,1,1,1]
[3,{"$f":"PFP!C12","v":"T1"},{"$f":"PFP!D12","v":"Técnico de projetos/obra (P8147)"},{"$f":"PFP!E12","v":"mês"},37,null,null,1,1,null,4,5,5,5,5,5,2,2,1,1]
[3,{"$f":"PFP!C13","v":"D"},{"$f":"PFP!D13","v":"Desenhista (P9848)"},{"$f":"PFP!E13","v":"mês"},9,1,1,1,1,{"$nulls":7},1,1,1,2]
[3,{"$f":"PFP!C14","v":"A1"},{"$f":"PFP!D14","v":"Secretária (P8135)"},{"$f":"PFP!E14","v":"mês"},8,0.5,0.5,0.5,0.5,null,0.5,0.5,0.5,0.5,0.5,0.5,0.5,1,1,0.5]
[3,{"$f":"PFP!C18","v":"V1"},{"$f":"PFP!D18","v":"Diárias"},{"$f":"PFP!E18","v":"dia"},364,2,2,20,20,null,40,40,40,40,40,40,20,20,20,20]
[3,{"$f":"PFP!C19","v":"V2"},{"$f":"PFP!D19","v":"Pick-up Cab.dupla 2.8 4x4 Diesel"},{"$f":"PFP!E19","v":"dia"},90,null,null,5,5,null,10,10,10,10,10,10,5,5,5,5]
[3,{"$f":"PFP!C20","v":"V3"},{"$f":"PFP!D20","v":"Passagens Aéreas (ida e volta)"},{"$f":"PFP!E20","v":"un"},14,1,1,1,1,null,1,1,1,1,1,1,1,1,1,1]
[3,{"$f":"PFP!C21","v":"M1"},{"$f":"PFP!D21","v":"Relatório Parcial"},{"$f":"PFP!E21","v":"un"},29,1,1,1,null,null,2,null,null,null,4,4,4,4,4,4]
[3,{"$f":"PFP!C22","v":"M2"},{"$f":"PFP!D22","v":"Relatório Final"},{"$f":"PFP!E22","v":"un"},6,null,null,null,1,{"$nulls":5},1,1,null,null,null,3]
[3,{"$f":"PFP!C23","v":"TOP"},{"$f":"PFP!D23","v":"Total Serviços Cartográficos"},{"$f":"PFP!E23","v":"un"},1,{"$nulls":5},0.2,0.2,0.2,0.2,0.2]
[3,{"$f":"PFP!C24","v":"GEO"},{"$f":"PFP!D24","v":"Total Serviços Geotécnicos"},{"$f":"PFP!E24","v":"un"},1,{"$nulls":6},0.2,0.2,0.2,0.2,0.2]
[3,null,"Estudos Básicos",null,null,{"$f":"SUBTOTAL(5,F96:F109)","v":0.25},0.25,0.25,0.25,0,0.2,0.2,0.2,0.2,0.2,0.2,0.25,0.5,0.5,0.25,0,0,0,0,0,0,0,0,0,0,0,0,0,0,0,0,0,0,0,0,0]
[5,{"$f":"PFP!C8","v":"P0"},{"$f":"PFP!D8","v":"Engenheiro coordenador (P8061)"},{"$f":"PFP!E8","v":"mês"},{"$f":"SUM(F111:AO111)","v":2.25},{"$nulls":14},0.25,0.5,0.5,0.5,0.25,0.25]
[5,{"$f":"PFP!C9","v":"P1"},{"$f":"PFP!D9","v":"Engenheiro sênior (P8067)"},{"$f":"PFP!E9","v":"mês"},7.5,{"$nulls":14},0.5,2.5,2.5,1,0.5,0.5]
[5,{"$f":"PFP!C10","v":"P2"},{"$f":"PFP!D10","v":"Engenheiro pleno (P8066)"},{"$f":"PFP!E10","v":"mês"},30,{"$nulls":14},2,10,10,4,2,2]
[5,{"$f":"PFP!C11","v":"P3"},{"$f":"PFP!D11","v":"Engenheiro júnior (P8065)"},{"$f":"PFP!E11","v":"mês"},15,{"$nulls":14},1,5,5,2,1,1]
[5,{"$f":"PFP!C12","v":"T1"},{"$f":"PFP!D12","v":"Técnico de projetos/obra (P8147)"},{"$f":"PFP!E12","v":"mês"},15,{"$nulls":14},1,5,5,2,1,1]
[5,{"$f":"PFP!C13","v":"D"},{"$f":"PFP!D13","v":"Desenhista (P9848)"},{"$f":"PFP!E13","v":"mês"},9,{"$nulls":14},1,2,2,1,1,2]
[5,{"$f":"PFP!C14","v":"A1"},{"$f":"PFP!D14","v":"Secretária (P8135)"},{"$f":"PFP!E14","v":"mês"},4.5,{"$nulls":14},0.5,1,1,1,0.5,0.5]
[5,{"$f":"PFP!C18","v":"V1"},{"$f":"PFP!D18","v":"Diárias"},{"$f":"PFP!E18","v":"dia"},84,{"$nulls":14},2,20,20,20,20,2]
[5,{"$f":"PFP!C19","v":"V2"},{"$f":"PFP!D19","v":"Pick-up Cab.dupla 2.8 4x4 Diesel"},{"$f":"PFP!E19","v":"dia"},20,{"$nulls":15},5,5,5,5]
[5,{"$f":"PFP!C20","v":"V3"},{"$f":"PFP!D20","v":"Passagens Aéreas (ida e volta)"},{"$f":"PFP!E20","v":"un"},9,{"$nulls":14},1,1,2,2,2,1]
[5,{"$f":"PFP!C21","v":"M1"},{"$f":"PFP!D21","v":"Relatório Parcial"},{"$f":"PFP!E21","v":"un"},11,{"$nulls":14},2,2,2,2,2,1]
[5,{"$f":"PFP!C22","v":"M2"},{"$f":"PFP!D22","v":"Relatório Final"},{"$f":"PFP!E22","v":"un"},3,{"$nulls":19},3]
[5,{"$f":"PFP!C23","v":"TOP"},{"$f":"PFP!D23","v":"Total Serviços Cartográficos"},{"$f":"PFP!E23","v":"un"},0]
[5,{"$f":"PFP!C24","v":"GEO"},{"$f":"PFP!D24","v":"Total Serviços Geotécnicos"},{"$f":"PFP!E24","v":"un"},0]
[5,null,"CSB Trecho 1.1",null,null,{"$f":"SUBTOTAL(5,F111:F124)","v":0},0,0,0,0,0,0,0,0,0,0,0,0,0,0.25,0.5,0.5,0.5,0.25,0.25,0,0,0,0,0,0,0,0,0,0,0,0,0,0,0,0]
[6,{"$f":"PFP!C8","v":"P0"},{"$f":"PFP!D8","v":"Engenheiro coordenador (P8061)"},{"$f":"PFP!E8","v":"mês"},2.25,{"$nulls":18},0.25,0.25,0.5,0.5,0.5,0.25]
[6,{"$f":"PFP!C9","v":"P1"},{"$f":"PFP!D9","v":"Engenheiro sênior (P8067)"},{"$f":"PFP!E9","v":"mês"},7.5,{"$nulls":18},0.5,2.5,2.5,1,0.5,0.5]
[6,{"$f":"PFP!C10","v":"P2"},{"$f":"PFP!D10","v":"Engenheiro pleno (P8066)"},{"$f":"PFP!E10","v":"mês"},30,{"$nulls":18},2,10,10,4,2,2]
[6,{"$f":"PFP!C11","v":"P3"},{"$f":"PFP!D11","v":"Engenheiro júnior (P8065)"},{"$f":"PFP!E11","v":"mês"},15,{"$nulls":18},1,5,5,2,1,1]
[6,{"$f":"PFP!C12","v":"T1"},{"$f":"PFP!D12","v":"Técnico de projetos/obra (P8147)"},{"$f":"PFP!E12","v":"mês"},15,{"$nulls":18},1,5,5,2,1,1]
[6,{"$f":"PFP!C13","v":"D"},{"$f":"PFP!D13","v":"Desenhista (P9848)"},{"$f":"PFP!E13","v":"mês"},9,{"$nulls":18},1,2,2,1,1,2]
[6,{"$f":"PFP!C14","v":"A1"},{"$f":"PFP!D14","v":"Secretária (P8135)"},{"$f":"PFP!E14","v":"mês"},4.5,{"$nulls":18},0.5,0.5,1,1,1,0.5]
[6,{"$f":"PFP!C18","v":"V1"},{"$f":"PFP!D18","v":"Diárias"},{"$f":"PFP!E18","v":"dia"},84,{"$nulls":18},2,20,20,20,20,2]
[6,{"$f":"PFP!C19","v":"V2"},{"$f":"PFP!D19","v":"Pick-up Cab.dupla 2.8 4x4 Diesel"},{"$f":"PFP!E19","v":"dia"},20,{"$nulls":19},5,5,5,5]
[6,{"$f":"PFP!C20","v":"V3"},{"$f":"PFP!D20","v":"Passagens Aéreas (ida e volta)"},{"$f":"PFP!E20","v":"un"},9,{"$nulls":18},1,1,2,2,2,1]
[6,{"$f":"PFP!C21","v":"M1"},{"$f":"PFP!D21","v":"Relatório Parcial"},{"$f":"PFP!E21","v":"un"},11,{"$nulls":18},2,2,2,2,2,1]
[6,{"$f":"PFP!C22","v":"M2"},{"$f":"PFP!D22","v":"Relatório Final"},{"$f":"PFP!E22","v":"un"},3,{"$nulls":23},3]
[6,{"$f":"PFP!C23","v":"TOP"},{"$f":"PFP!D23","v":"Total Serviços Cartográficos"},{"$f":"PFP!E23","v":"un"},0]
[6,{"$f":"PFP!C24","v":"GEO"},{"$f":"PFP!D24","v":"Total Serviços Geotécnicos"},{"$f":"PFP!E24","v":"un"},0]
[6,null,"CSB Trecho 1.2",null,null,{"$f":"SUBTOTAL(5,F126:F139)","v":0},0,0,0,0,0,0,0,0,0,0,0,0,0,0,0,0,0,0.25,0.25,0.5,0.5,0.5,0.25,0,0,0,0,0,0,0,0,0,0,0,0]
[7,{"$f":"PFP!C8","v":"P0"},{"$f":"PFP!D8","v":"Engenheiro coordenador (P8061)"},{"$f":"PFP!E8","v":"mês"},1.5,{"$nulls":23},0.25,0.5,0.5,0.25]
[7,{"$f":"PFP!C9","v":"P1"},{"$f":"PFP!D9","v":"Engenheiro sênior (P8067)"},{"$f":"PFP!E9","v":"mês"},6.5,{"$nulls":23},0.5,2.5,2.5,1]
[7,{"$f":"PFP!C10","v":"P2"},{"$f":"PFP!D10","v":"Engenheiro pleno (P8066)"},{"$f":"PFP!E10","v":"mês"},24,{"$nulls":23},2,10,10,2]
[7,{"$f":"PFP!C11","v":"P3"},{"$f":"PFP!D11","v":"Engenheiro júnior (P8065)"},{"$f":"PFP!E11","v":"mês"},12,{"$nulls":23},1,5,5,1]
[7,{"$f":"PFP!C12","v":"T1"},{"$f":"PFP!D12","v":"Técnico de projetos/obra (P8147)"},{"$f":"PFP!E12","v":"mês"},12,{"$nulls":23},1,5,5,1]
[7,{"$f":"PFP!C13","v":"D"},{"$f":"PFP!D13","v":"Desenhista (P9848)"},{"$f":"PFP!E13","v":"mês"},7,{"$nulls":23},1,2,2,2]
[7,{"$f":"PFP!C14","v":"A1"},{"$f":"PFP!D14","v":"Secretária (P8135)"},{"$f":"PFP!E14","v":"mês"},3,{"$nulls":23},0.5,1,1,0.5]
[7,{"$f":"PFP!C18","v":"V1"},{"$f":"PFP!D18","v":"Diárias"},{"$f":"PFP!E18","v":"dia"},64,{"$nulls":23},20,20,20,4]
[7,{"$f":"PFP!C19","v":"V2"},{"$f":"PFP!D19","v":"Pick-up Cab.dupla 2.8 4x4 Diesel"},{"$f":"PFP!E19","v":"dia"},15,{"$nulls":23},5,5,5]
[7,{"$f":"PFP!C20","v":"V3"},{"$f":"PFP!D20","v":"Passagens Aéreas (ida e volta)"},{"$f":"PFP!E20","v":"un"},7,{"$nulls":23},1,2,2,2]
[7,{"$f":"PFP!C21","v":"M1"},{"$f":"PFP!D21","v":"Relatório Parcial"},{"$f":"PFP!E21","v":"un"},5,{"$nulls":23},"2.",2,2,1]
[7,{"$f":"PFP!C22","v":"M2"},{"$f":"PFP!D22","v":"Relatório Final"},{"$f":"PFP!E22","v":"un"},3,{"$nulls":26},3]
[7,{"$f":"PFP!C23","v":"TOP"},{"$f":"PFP!D23","v":"Total Serviços Cartográficos"},{"$f":"PFP!E23","v":"un"},0]
[7,{"$f":"PFP!C24","v":"GEO"},{"$f":"PFP!D24","v":"Total Serviços Geotécnicos"},{"$f":"PFP!E24","v":"un"},0]
[7,null,"CSB Trecho 2",null,null,{"$f":"SUBTOTAL(5,F141:F154)","v":0},0,0,0,0,0,0,0,0,0,0,0,0,0,0,0,0,0,0,0,0,0,0,0.25,0.5,0.5,0.25,0,0,0,0,0,0,0,0,0]
[8,{"$f":"PFP!C8","v":"P0"},{"$f":"PFP!D8","v":"Engenheiro coordenador (P8061)"},{"$f":"PFP!E8","v":"mês"},{"$f":"SUM(F156:AO156)","v":1.5},{"$nulls":26},0.25,0.5,0.5,0.25]
[8,{"$f":"PFP!C9","v":"P1"},{"$f":"PFP!D9","v":"Engenheiro sênior (P8067)"},{"$f":"PFP!E9","v":"mês"},6.5,{"$nulls":26},0.5,2.5,2.5,1]
[8,{"$f":"PFP!C10","v":"P2"},{"$f":"PFP!D10","v":"Engenheiro pleno (P8066)"},{"$f":"PFP!E10","v":"mês"},24,{"$nulls":26},2,10,10,2]
[8,{"$f":"PFP!C11","v":"P3"},{"$f":"PFP!D11","v":"Engenheiro júnior (P8065)"},{"$f":"PFP!E11","v":"mês"},12,{"$nulls":26},1,5,5,1]
[8,{"$f":"PFP!C12","v":"T1"},{"$f":"PFP!D12","v":"Técnico de projetos/obra (P8147)"},{"$f":"PFP!E12","v":"mês"},12,{"$nulls":26},1,5,5,1]
[8,{"$f":"PFP!C13","v":"D"},{"$f":"PFP!D13","v":"Desenhista (P9848)"},{"$f":"PFP!E13","v":"mês"},7,{"$nulls":26},1,2,2,2]
[8,{"$f":"PFP!C14","v":"A1"},{"$f":"PFP!D14","v":"Secretária (P8135)"},{"$f":"PFP!E14","v":"mês"},3,{"$nulls":26},0.5,1,1,0.5]
[8,{"$f":"PFP!C18","v":"V1"},{"$f":"PFP!D18","v":"Diárias"},{"$f":"PFP!E18","v":"dia"},64,{"$nulls":26},20,20,20,4]
[8,{"$f":"PFP!C19","v":"V2"},{"$f":"PFP!D19","v":"Pick-up Cab.dupla 2.8 4x4 Diesel"},{"$f":"PFP!E19","v":"dia"},15,{"$nulls":26},5,5,5]
[8,{"$f":"PFP!C20","v":"V3"},{"$f":"PFP!D20","v":"Passagens Aéreas (ida e volta)"},{"$f":"PFP!E20","v":"un"},7,{"$nulls":26},1,2,2,2]
[8,{"$f":"PFP!C21","v":"M1"},{"$f":"PFP!D21","v":"Relatório Parcial"},{"$f":"PFP!E21","v":"un"},5,{"$nulls":26},"2.",2,2,1]
[8,{"$f":"PFP!C22","v":"M2"},{"$f":"PFP!D22","v":"Relatório Final"},{"$f":"PFP!E22","v":"un"},3,{"$nulls":29},3]
[8,{"$f":"PFP!C23","v":"TOP"},{"$f":"PFP!D23","v":"Total Serviços Cartográficos"},{"$f":"PFP!E23","v":"un"},0]
[8,{"$f":"PFP!C24","v":"GEO"},{"$f":"PFP!D24","v":"Total Serviços Geotécnicos"},{"$f":"PFP!E24","v":"un"},0]
[8,null,"CSB Trecho 3",null,null,{"$f":"SUBTOTAL(5,F156:F169)","v":0},0,0,0,0,0,0,0,0,0,0,0,0,0,0,0,0,0,0,0,0,0,0,0,0,0,0.25,0.5,0.5,0.25,0,0,0,0,0,0]
[9,{"$f":"PFP!C8","v":"P0"},{"$f":"PFP!D8","v":"Engenheiro coordenador (P8061)"},{"$f":"PFP!E8","v":"mês"},1.5,{"$nulls":29},0.25,0.5,0.5,0.25]
[9,{"$f":"PFP!C9","v":"P1"},{"$f":"PFP!D9","v":"Engenheiro sênior (P8067)"},{"$f":"PFP!E9","v":"mês"},6.5,{"$nulls":29},0.5,2.5,2.5,1]
[9,{"$f":"PFP!C10","v":"P2"},{"$f":"PFP!D10","v":"Engenheiro pleno (P8066)"},{"$f":"PFP!E10","v":"mês"},24,{"$nulls":29},2,10,10,2]
[9,{"$f":"PFP!C11","v":"P3"},{"$f":"PFP!D11","v":"Engenheiro júnior (P8065)"},{"$f":"PFP!E11","v":"mês"},12,{"$nulls":29},1,5,5,1]
[9,{"$f":"PFP!C12","v":"T1"},{"$f":"PFP!D12","v":"Técnico de projetos/obra (P8147)"},{"$f":"PFP!E12","v":"mês"},12,{"$nulls":29},1,5,5,1]
[9,{"$f":"PFP!C13","v":"D"},{"$f":"PFP!D13","v":"Desenhista (P9848)"},{"$f":"PFP!E13","v":"mês"},7,{"$nulls":29},1,2,2,2]
[9,{"$f":"PFP!C14","v":"A1"},{"$f":"PFP!D14","v":"Secretária (P8135)"},{"$f":"PFP!E14","v":"mês"},3,{"$nulls":29},0.5,1,1,0.5]
[9,{"$f":"PFP!C18","v":"V1"},{"$f":"PFP!D18","v":"Diárias"},{"$f":"PFP!E18","v":"dia"},28,{"$nulls":29},4,10,10,4]
[9,{"$f":"PFP!C19","v":"V2"},{"$f":"PFP!D19","v":"Pick-up Cab.dupla 2.8 4x4 Diesel"},{"$f":"PFP!E19","v":"dia"},15,{"$nulls":29},5,5,5]
[9,{"$f":"PFP!C20","v":"V3"},{"$f":"PFP!D20","v":"Passagens Aéreas (ida e volta)"},{"$f":"PFP!E20","v":"un"},7,{"$nulls":29},1,2,2,2]
[9,{"$f":"PFP!C21","v":"M1"},{"$f":"PFP!D21","v":"Relatório Parcial"},{"$f":"PFP!E21","v":"un"},5,{"$nulls":29},"2.",2,2,1]
[9,{"$f":"PFP!C22","v":"M2"},{"$f":"PFP!D22","v":"Relatório Final"},{"$f":"PFP!E22","v":"un"},3,{"$nulls":32},3]
[9,{"$f":"PFP!C23","v":"TOP"},{"$f":"PFP!D23","v":"Total Serviços Cartográficos"},{"$f":"PFP!E23","v":"un"},0]
[9,{"$f":"PFP!C24","v":"GEO"},{"$f":"PFP!D24","v":"Total Serviços Geotécnicos"},{"$f":"PFP!E24","v":"un"},0]
[9,null,"CSB Trecho 4",null,null,{"$f":"SUBTOTAL(5,F171:F184)","v":0},0,0,0,0,0,0,0,0,0,0,0,0,0,0,0,0,0,0,0,0,0,0,0,0,0,0,0,0,0.25,0.5,0.5,0.25,0,0,0]
[10,{"$f":"PFP!C8","v":"P0"},{"$f":"PFP!D8","v":"Engenheiro coordenador (P8061)"},{"$f":"PFP!E8","v":"mês"},1.75,{"$nulls":32},0.25,0.5,0.5,0.5]
[10,{"$f":"PFP!C9","v":"P1"},{"$f":"PFP!D9","v":"Engenheiro sênior (P8067)"},{"$f":"PFP!E9","v":"mês"},6.5,{"$nulls":32},0.5,2.5,2.5,1]
[10,{"$f":"PFP!C10","v":"P2"},{"$f":"PFP!D10","v":"Engenheiro pleno (P8066)"},{"$f":"PFP!E10","v":"mês"},26,{"$nulls":32},2,10,10,4]
[10,{"$f":"PFP!C11","v":"P3"},{"$f":"PFP!D11","v":"Engenheiro júnior (P8065)"},{"$f":"PFP!E11","v":"mês"},13,{"$nulls":32},1,5,5,2]
[10,{"$f":"PFP!C12","v":"T1"},{"$f":"PFP!D12","v":"Técnico de projetos/obra (P8147)"},{"$f":"PFP!E12","v":"mês"},13,{"$nulls":32},1,5,5,2]
[10,{"$f":"PFP!C13","v":"D"},{"$f":"PFP!D13","v":"Desenhista (P9848)"},{"$f":"PFP!E13","v":"mês"},7,{"$nulls":32},1,1,2,3]
[10,{"$f":"PFP!C14","v":"A1"},{"$f":"PFP!D14","v":"Secretária (P8135)"},{"$f":"PFP!E14","v":"mês"},3.5,{"$nulls":32},0.5,1,1,1]
[10,{"$f":"PFP!C18","v":"V1"},{"$f":"PFP!D18","v":"Diárias"},{"$f":"PFP!E18","v":"dia"},64,{"$nulls":32},20,20,20,4]
[10,{"$f":"PFP!C19","v":"V2"},{"$f":"PFP!D19","v":"Pick-up Cab.dupla 2.8 4x4 Diesel"},{"$f":"PFP!E19","v":"dia"},15,{"$nulls":32},5,5,5]
[10,{"$f":"PFP!C20","v":"V3"},{"$f":"PFP!D20","v":"Passagens Aéreas (ida e volta)"},{"$f":"PFP!E20","v":"un"},7,{"$nulls":32},1,2,2,2]
[10,{"$f":"PFP!C21","v":"M1"},{"$f":"PFP!D21","v":"Relatório Parcial"},{"$f":"PFP!E21","v":"un"},5,{"$nulls":32},"2.",2,2,1]
[10,{"$f":"PFP!C22","v":"M2"},{"$f":"PFP!D22","v":"Relatório Final"},{"$f":"PFP!E22","v":"un"},{"$f":"SUM(F197:AO197)","v":3},{"$nulls":35},3]
[10,{"$f":"PFP!C23","v":"TOP"},{"$f":"PFP!D23","v":"Total Serviços Cartográficos"},{"$f":"PFP!E23","v":"un"},0]
[10,{"$f":"PFP!C24","v":"GEO"},{"$f":"PFP!D24","v":"Total Serviços Geotécnicos"},{"$f":"PFP!E24","v":"un"},0]
[10,null,"CSB Trecho 5",null,null,{"$f":"SUBTOTAL(5,F186:F199)","v":0},0,0,0,0,0,0,0,0,0,0,0,0,0,0,0,0,0,0,0,0,0,0,0,0,0,0,0,0,0,0,0,0.25,0.5,0.5,0.5]
["Total",null,"Balanço de Insumos",null,null,{"$f":"SUBTOTAL(2,F66:F199)","v":19},20,22,22,10,21,22,22,21,23,22,22,11,8,19,11,11,11,21,22,11,11,11,21,11,11,21,11,11,21,11,11,21,11,11,11]