{"text_format":"2","workbook":"xlsx","n_sheets":9,"sheets":["PFP","PFP1.1_Topo","PFP1.2_Geo","PFP1.3_Amb","PFP2.1_FatorKa","PFP2.2_FatorKb","PFP2.3_FatorKc","PFP3_FatorKd","CRO1_Ins-Pro"],"not_rendered":{"charts":0,"images":0,"macros":0,"external_links":0,"defined_names":5,"comments":0,"pivot_tables":0},"unopened":[],"bounds":{"document_bytes":16777216,"sheet_cells":100000,"run_cost":"one","rows_first":2000,"rows_last":500,"rows_between":2000,"halvings":0,"cell_chars":16384,"cell_head_chars":4096},"cells_cut":0,"cells_raw":0,"read":"whole","date_system":"1900"}

{"sheet":"PFP","index":0,"n_rows":46,"n_cols":11,"rows_kept":46,"cut":false,"hidden":false,"merged":[[31,7,31,10],[31,0,31,6],[30,7,30,10],[30,0,30,6],[37,0,37,10],[32,0,32,6],[32,7,32,10],[34,0,34,10],[45,0,45,10],[38,0,38,10],[40,0,40,10],[33,0,33,10],[39,0,39,10],[35,0,35,10],[41,0,41,10],[42,0,42,10],[43,0,43,10],[44,0,44,10],[36,0,36,10],[0,0,1,8],[4,5,4,8],[0,9,0,10],[1,9,1,10],[4,9,4,10],[2,0,2,10],[3,0,3,10],[4,0,4,4],[5,9,5,10],[5,5,5,8],[29,0,29,6],[29,7,29,10],[5,0,5,4],[28,0,28,6],[28,7,28,10]]}
["PROPOSTA FINANCEIRA DO PROJETO",{"$nulls":8},"CODIGO:"]
[{"$nulls":9},"PFP"]
["NOME DA CONSULTORA:"]
[]
["PROJETO:",{"$nulls":4},"CONTRATANTE:",null,null,null,"BASE: Nov/2021"]
["Estudos e Projeto Básico e Executivo do Sistema de Abastecimento de Água de Morro Cabeça no Tempo/PI",{"$nulls":4},"CODEVASF (SEDE)",null,null,null,"PROP: Nov/2021\nSINAPI/DF: Maio/2021\nSICRO/NA: Jan/2021"]
["Base","Cod2","Cod3","Categoria / Insumo","Uni","Qde","CUD","PU","FatorK","CT","PT"]
["SICRO","MO3","P0","Engenheiro coordenador (P8061)","mês",{"$f":"'CRO1_Ins-Pro'!D5","v":1},16003.36,{"$f":"ROUND(I8*G8,2)","v":23110.45},{"$f":"PFP2.3_FatorKc!E36","v":1.4440999999999999},{"$f":"ROUND(F8*G8,2)","v":16003.36},{"$f":"ROUND(F8*H8,2)","v":23110.45}]
["SICRO","MO2","P1","Engenheiro sênior (P8067)","mês",{"$f":"'CRO1_Ins-Pro'!D6","v":2},13560.49,22989.1,{"$f":"PFP2.2_FatorKb!$E$36","v":1.6953},27120.98,45978.2]
["SICRO","MO1","P2","Engenheiro pleno (P8066)","mês",{"$f":"'CRO1_Ins-Pro'!D7","v":3},10307.290000000001,{"$f":"ROUND(I10*G10,2)","v":24341.7},{"$f":"PFP2.1_FatorKa!$E$36","v":2.3616000000000001},{"$f":"ROUND(F10*G10,2)","v":30921.87},73025.100000000006]
["SICRO","MO1","P3","Engenheiro júnior (P8065)","mês",{"$f":"'CRO1_Ins-Pro'!D8","v":1},9350,{"$f":"ROUND(I11*G11,2)","v":22080.959999999999},{"$f":"PFP2.1_FatorKa!$E$36","v":2.3616000000000001},{"$f":"ROUND(F11*G11,2)","v":9350},22080.959999999999]
["SICRO","MO1","T1","Técnico de projetos/obra (P8147)","mês",{"$f":"'CRO1_Ins-Pro'!D9","v":3},2894.21,6834.97,{"$f":"PFP2.1_FatorKa!$E$36","v":2.3616000000000001},8682.6299999999992,20504.91]
["SICRO","MO1","A1","Secretária (P8135)","mês",{"$f":"'CRO1_Ins-Pro'!D10","v":1},2204.9299999999998,{"$f":"ROUND(I13*G13,2)","v":5207.16},{"$f":"PFP2.1_FatorKa!$E$36","v":2.3616000000000001},{"$f":"ROUND(F13*G13,2)","v":2204.9299999999998},{"$f":"ROUND(F13*H13,2)","v":5207.16}]
["PROP","MO1","S1","Analista sênior","mês",{"$f":"'CRO1_Ins-Pro'!D11","v":0.5},6247.13,14753.22,{"$f":"PFP2.1_FatorKa!$E$36","v":2.3616000000000001},3123.57,7376.61]
["PROP","MO1","S2","Analista pleno","mês",{"$f":"'CRO1_Ins-Pro'!D12","v":0.5},3784.58,8937.66,{"$f":"PFP2.1_FatorKa!$E$36","v":2.3616000000000001},1892.29,4468.83]
["PROP","MO1","S3","Analista júnior","mês",{"$f":"'CRO1_Ins-Pro'!D13","v":1},3104.97,7332.7,{"$f":"PFP2.1_FatorKa!$E$36","v":2.3616000000000001},3104.97,7332.7]
["SICRO","EC","ECA","Encargos Comp. e Adicionais","mês",{"$f":"'CRO1_Ins-Pro'!D14","v":11},815.05,1023.54,{"$f":"PFP3_FatorKd!$E$17","v":1.2558},{"$f":"ROUND(F17*G17,2)","v":8965.5499999999993},{"$f":"ROUND(F17*H17,2)","v":11258.94}]
["PROP","EC","AT1","Auxilio Transporte Analista junior","mês",{"$f":"F16","v":1},{"$f":"IF((22*5)-(G16*0.06*22/30)>0,(22*5)-(G16*0.06*22/30),0)","v":0},{"$f":"ROUND(I18*G18,2)","v":0},{"$f":"PFP3_FatorKd!$E$17","v":1.2558},{"$f":"ROUND(F18*G18,2)","v":0},{"$f":"ROUND(F18*H18,2)","v":0}]
["PROP","EC","AT2","Auxilio Transporte Técnicos","mês",{"$f":"'CRO1_Ins-Pro'!D16","v":2},{"$f":"IF((22*5)-(G12*0.06*22/30)>0,(22*5)-(G12*0.06*22/30),0)","v":0},{"$f":"ROUND(I19*G19,2)","v":0},{"$f":"PFP3_FatorKd!$E$17","v":1.2558},{"$f":"ROUND(F19*G19,2)","v":0},{"$f":"ROUND(F19*H19,2)","v":0}]
["PROP","EC","AT3","Auxilio Transporte Secretária","mês",{"$f":"'CRO1_Ins-Pro'!D17","v":1},{"$f":"IF((22*5)-(G13*0.06*22/30)>0,(22*5)-(G13*0.06*22/30),0)","v":12.983080000000001},16.3,{"$f":"PFP3_FatorKd!$E$17","v":1.2558},12.98,16.3]
["CODE","LO","V1","Diárias","dia",{"$f":"'CRO1_Ins-Pro'!D18","v":28},239,300.14,{"$f":"PFP3_FatorKd!$E$17","v":1.2558},6692,8403.92]
["PROP","LO","V2","Pick-up Cab.dupla 2.0 Flex","dia",{"$f":"'CRO1_Ins-Pro'!D19","v":14},534.65,671.41,{"$f":"PFP3_FatorKd!$E$17","v":1.2558},7485.1,9399.74]
["PROP","LO","V3","Passagens Aéreas (ida e volta)","un",{"$f":"'CRO1_Ins-Pro'!D20","v":4},1346.75,1691.25,{"$f":"PFP3_FatorKd!$E$17","v":1.2558},5387,6765]
["CODE","EM","M1","Relatório Parcial","un",{"$f":"'CRO1_Ins-Pro'!D21","v":9},34.412458175142888,43.22,{"$f":"PFP3_FatorKd!$E$17","v":1.2558},309.70999999999998,{"$f":"ROUND(F24*H24,2)","v":388.98}]
["CODE","EM","M2","Relatório Final","un",{"$f":"'CRO1_Ins-Pro'!D22","v":9},1525.9113388126327,1916.24,{"$f":"PFP3_FatorKd!$E$17","v":1.2558},13733.2,{"$f":"ROUND(F25*H25,2)","v":17246.16}]
["CODE","SU","TOP","Total Serviços Cartográficos","un",{"$f":"'CRO1_Ins-Pro'!D23","v":1},"-",{"$f":"PFP1.1_Topo!G23","v":97246.14999999998},"-","-",{"$f":"ROUND(F26*H26,2)","v":97246.15}]
["CODE","SU","GEO","Total Serviços Geotécnicos","un",{"$f":"'CRO1_Ins-Pro'!D24","v":1},"-",{"$f":"PFP1.2_Geo!G34","v":77913.39},"-","-",{"$f":"ROUND(F27*H27,2)","v":77913.39}]
["CODE","SU","AMB","Total Serviços Ambientais","un",{"$f":"'CRO1_Ins-Pro'!D25","v":1},"-",{"$f":"PFP1.3_Amb!G29","v":3333.2400000000002},"-","-",{"$f":"ROUND(F28*H28,2)","v":3333.24}]
["TOTAL DOS CUSTOS DIRETOS",{"$nulls":6},{"$f":"SUM(J8:J28)","v":144990.14000000001}]
["TOTAL DOS ENCARGOS E DISPESAS DIVERSAS",{"$nulls":6},{"$f":"H31-H29","v":117573.81999999995}]
["TOTAL DA PROPOSTA A PREÇO GLOBAL",{"$nulls":6},{"$f":"SUM(K8:K25)","v":262563.95999999996}]
["TOTAL DA PROPOSTA A PREÇO UNITÁRIO",{"$nulls":6},{"$f":"SUM(K26:K28)","v":178492.77999999997}]
["TOTAL DA PROPOSTA",{"$nulls":6},{"$f":"SUM(K8:K28)","v":441056.74}]
["OBSERVAÇÃO:"]
["Alocar os Insumos MO, com respectivo FatorK, dentro da categoria de vínculo contratual (celetista, autonomo, societario)"]
["Uni - unidade de medição do insumo;"]
["Qde - Quantidade do Insumo (não pode ocorrer alteração pela Licitante)"]
["CUD - Custo Unitário Direto do Insumo (sem encargos, taxas e impostos, valor não pode ser maior que o Orçado pela Codevasf)"]
["CT - Custo Total (sem encargos, taxas e impostos) - CT = Qde x CUD"]
["FatorK - Taxa de Ressarcimento de Despesas e Encargos (detalhar composição nas Planilhas \"PFP2.1\", \"PFP2.2\", \"PFP3\")"]
["PU - Preço Unitário do Insumo (incluído encargos, taxas e impostos) - PU = CUD x FatorK"]
["PT - Preço Total do Insumo (incluído encargos, taxas e impostos) - PT = Qde x PU"]
["P - Profissionais nível superior nas áreas de Engenharia, Química, Arquitetura, Agronomia e Veterinária, conforme disposições da Lei 4.950-A/66"]
["S - Profissionais de nível superior nas demais áreas de atuação, incluindo Arqueólogo, Biólogo, Geógrafo e Sociólogo"]
["T - Profissionais de nível médio técnico nas diversas áreas de atuação"]
["A - Profissionais de nível médio de apoio técnico-administrativo"]

{"sheet":"PFP1.1_Topo","index":1,"n_rows":28,"n_cols":7,"rows_kept":28,"cut":false,"hidden":false,"merged":[[26,0,26,6],[27,0,27,6],[23,0,23,6],[24,0,24,6],[25,0,25,6],[4,0,4,3],[2,0,2,6],[3,0,3,6],[22,0,22,5],[0,0,1,5],[5,0,5,3],[4,4,4,5],[5,4,5,5]]}
["SERVIÇOS TOPOGRÁFICOS/CARTOGRÁFICOS",{"$nulls":5},"CODIGO:"]
[{"$nulls":6},"PFP-1.1"]
["NOME DA EMPRESA:"]
[]
["PROJETO:",null,null,null,"CONTRATANTE:",null,"BASE: Nov/2021"]
[{"$f":"PFP!A6","v":"Estudos e Projeto Básico e Executivo do Sistema de Abastecimento de Água de Morro Cabeça no Tempo/PI"},null,null,null,"CODEVASF (SEDE)",null,"CODE: Ago/2021"]
["Cod.","Base","Insumos","Uni","Qde","Preço Unitário (PU)","Preço Total (PT)"]
["TP08","CODE","Nivelamento Geométrico classe IIN","km",20,788.72,{"$f":"ROUND(F8*E8,2)","v":15774.4}]
["TP09","CODE","Nivelamento Geométrico classe IIN (Secções)","km",20,788.72,15774.4]
["TP16.1","CODE","Poligonal Classe IIP (Locação)","km",20,1774.07,35481.4]
["TP19","CODE","Pontos GPS de dupla frequencia (L1/L2)","km",8,981.07,7848.56]
["TP21","CODE","Levantamento Topobatimétrico","km",1,1260.83,1260.83]
["TP23","CODE","Cadastro Físico (Faixa domínio e instalações)","ha ",20,17.86,357.2]
["TP24","CODE","Cadastro Agrícola (Faixa domínio e instalações)","ha ",20,5.95,119]
["TP25","CODE","Cadastro Jurídico (Faixa domínio e instalações)","ha ",20,11.91,238.2]
["TP26","CODE","Cadastro Socioeconomico (Faixa domínio e instalações)","ha ",20,3.97,79.400000000000006]
["TP27","CODE","Marco de Concreto (12x18x60cm)","un",8,53.89,431.12]
["TP28","CODE","Estaca Testemunha de Madeira (2x4x70cm)","un",100,14.46,1446]
["TP29","CODE","Piquetes de Madeira (2x2x20cm)","un",1000,2.41,2410]
["TP30","CODE","Imagem de Satelite de Alta Definição 0,5 M","km²",100,105.76,10576]
["PD06","CODE","Picada Manual p/ levantamento TP","km",10,194.88,1948.8]
["PD08","CODE","Picada c/ Trator de Esteira","un",4,875.21,3500.84]
["TOTAL SERVIÇOS TOPOGRÁFICOS",{"$nulls":5},{"$f":"SUM(G8:G22)","v":97246.14999999998}]
["OBSERVAÇÃO:"]
["Uni - unidade de medição do insumo;"]
["Qde - Quantidade do Insumo (não pode ocorrer alteração pela Licitante)"]
["PU - Preço Unitário (composições padrão da Codevasf, já incluso o FatorK)"]
["PT - Preço Total (incluído encargos, taxas e impostos) - PT = Qde x PU"]

{"sheet":"PFP1.2_Geo","index":2,"n_rows":39,"n_cols":7,"rows_kept":39,"cut":false,"hidden":false,"merged":[[33,0,33,5],[37,0,37,6],[5,0,5,3],[5,4,5,5],[38,0,38,6],[34,0,34,6],[35,0,35,6],[36,0,36,6],[4,0,4,3],[4,4,4,5],[2,0,2,6],[3,0,3,6],[0,0,1,5]]}
["SERVIÇOS GEOLÓGICOS/GEOTÉCNICOS",{"$nulls":5},"CODIGO:"]
[{"$nulls":6},"PFP-1.2"]
["NOME DA EMPRESA:"]
[]
["PROJETO:",null,null,null,"CONTRATANTE:",null,"BASE: Nov/2021"]
[{"$f":"PFP!A6","v":"Estudos e Projeto Básico e Executivo do Sistema de Abastecimento de Água de Morro Cabeça no Tempo/PI"},null,null,null,"CODEVASF (SEDE)",null,"CODE: Ago/2021"]
["Cod.","Base","Insumos","Uni","Qde","Preço Unitário (PU)","Preço Total (PT)"]
["GT07","CODE","Sondagem Percussão: (Des)Mobilização","un",2,926.31,{"$f":"ROUND(F8*E8,2)","v":1852.62}]
["GT08","CODE","Sondagem Percursão: com SPT","m",24,81.23,1949.52]
["GT09","CODE","Sondagem Percursão: Desloc/Instalação 0-200 m","un",4,721.44,2885.76]
["GT10","CODE","Sondagem Percursão: Desloc/Instalação 201-500 m","un",2,1055.73,2111.46]
["GT11","CODE","Sondagem Percursão: Desloc/Instalação >500 m","un",10,1390.03,13900.3]
["GT13","CODE","Sondagem Trado 4''","m",10,68.44,684.4]
["GT14","CODE","Poço de Inspeção","m",60,200.96,12057.6]
["GT15","CODE","Ensaio: Umidade Natural ","un",4,89.04,356.16]
["GT16","CODE","Ensaio: Densidade Natural","un",4,89.04,356.16]
["GT17","CODE","Ensaio: Limite de Liquidez","un",4,123.31,493.24]
["GT18","CODE","Ensaio: Limite de Plasticidade","un",4,123.31,493.24]
["GT19","CODE","Ensaio: Granulometria por Peneiramento","un",4,129.99,519.96]
["GT20","CODE","Ensaio: Granulometria por Sedimentação","un",4,403.42,1613.68]
["GT21","CODE","Ensaio: Compactação Proctor Normal","un",4,169.06,676.24]
["GT22","CODE","Ensaio: Massa Especifica Real dos Grãos","un",4,109.89,439.56]
["GT23","CODE","Ensaio: Adensamento Oedométrico","un",4,298.85000000000002,1195.4000000000001]
["GT28","CODE","Ensaio: Dispersão Granulometria Comparativa","un",4,240.82,963.28]
["GT29","CODE","Ensaio: Dispersão Crumb Test","un",4,89.22,356.88]
["GT30","CODE","Ensaio: Infiltração","un",4,240.82,963.28]
["GT32","CODE","Ensaio: Análise Quimica da Areia","un",2,484.6,969.2]
["GT33","CODE","Ensaio: Mineralogia da Areia","un",2,557.72,1115.44]
["GT34","CODE","Ensaio: Análise Petrográfica/Mineralogia","un",2,557.72,1115.44]
["GT35","CODE","Ensaio: Abrasão Los Angeles","un",2,436.51,873.02]
["GT36","CODE","Ensaio: Reatividade Potencial","un",2,1457.19,2914.38]
["GT38","CODE","Ensaio: Retirada de Amostra Indeformada","un",2,728.59,{"$f":"ROUND(F32*E32,2)","v":1457.18}]
["GT99","PROP","Levantamento geofísico por eletroressistividade","un",3,8533.33,{"$f":"ROUND(F33*E33,2)","v":25599.99}]
["TOTAL SERVIÇOS GEOTÉCNICOS",{"$nulls":5},{"$f":"SUM(G8:G33)","v":77913.39}]
["LEGENDA:"]
["Uni - unidade de medição do insumo;"]
["Qde - Quantidade do Insumo (não pode ocorrer alteração pela Licitante)"]
["PU - Preço Unitário (composições padrão da Codevasf, já incluso o FatorK)"]
["PT - Preço Total (incluído encargos, taxas e impostos) - PT = Qde x PU"]

{"sheet":"PFP1.3_Amb","index":3,"n_rows":34,"n_cols":7,"rows_kept":34,"cut":false,"hidden":false,"merged":[[33,0,33,6],[0,0,1,5],[2,0,2,6],[3,0,3,6],[4,0,4,3],[4,4,4,5],[5,0,5,3],[5,4,5,5],[28,0,28,5],[29,0,29,6],[30,0,30,6],[31,0,31,6],[32,0,32,6]]}
["SERVIÇOS ANÁLISE AMBIENTAL",{"$nulls":5},"CODIGO:"]
[{"$nulls":6},"PFP-1.3"]
["NOME DA EMPRESA:"]
[]
["PROJETO:",null,null,null,"CONTRATANTE:",null,"BASE: Nov/2021"]
[{"$f":"PFP!A6","v":"Estudos e Projeto Básico e Executivo do Sistema de Abastecimento de Água de Morro Cabeça no Tempo/PI"},null,null,null,"CODEVASF (SEDE)",null,"CODE: Ago/2021"]
["Cod.","Base","Insumos","Uni","Qde","Preço Unitário (PU)","Preço Total (PT)"]
["AM01","PROP","Alcalinidade Total","un",3,41.49,{"$f":"ROUND(E8*F8,2)","v":124.47}]
["AM02","PROP","Condutividade","un",3,42.18,{"$f":"ROUND(E9*F9,2)","v":126.54}]
["AM03","PROP","DBO","un",3,40.67,122.01]
["AM04","PROP","DQO","un",3,49.55,148.65]
["AM05","PROP","Salinidade","un",3,46.69,140.07]
["AM06","PROP","Sólidos Dissolvidos Totais","un",3,34.51,103.53]
["AM07","PROP","Sólidos Suspensos","un",3,37.67,113.01]
["AM08","PROP","Sólidos Totais","un",3,34.51,103.53]
["AM09","PROP","Turbidez","un",3,25.7,77.099999999999994]
["AM10","PROP","Oxigênio Dissolvido","un",3,40.68,122.04]
["AM11","PROP","pH","un",3,23.93,71.790000000000006]
["AM12","PROP","Temperatura","un",3,23.8,71.400000000000006]
["AM13","PROP","Fósforo Total","un",3,45.97,137.91]
["AM14","PROP","Nitrogênio Amoniacal","un",3,48.76,146.28]
["AM15","PROP","Nitrogênio Nitrato","un",3,36.26,108.78]
["AM16","PROP","Nitrogênio Total","un",3,42.56,127.68]
["AM17","PROP","Clorofila A","un",3,121.32,363.96]
["AM18","PROP","Coliformes Termotolerantes","un",3,34.130000000000003,102.39]
["AM19","PROP","Metais Pesados","un",3,169.87,509.61]
["AM20","PROP","Organoclorados","un",3,90.57,271.70999999999998]
["AM21","PROP","Organofosforado","un",3,80.260000000000005,{"$f":"ROUND(E28*F28,2)","v":240.78}]
["TOTAL SERVIÇOS GEOTÉCNICOS",{"$nulls":5},{"$f":"SUM(G8:G28)","v":3333.2400000000002}]
["LEGENDA:"]
["Uni - unidade de medição do insumo;"]
["Qde - Quantidade do Insumo (não pode ocorrer alteração pela Licitante)"]
["PU - Preço Unitário (composições padrão da Codevasf, já incluso o FatorK)"]
["PT - Preço Total (incluído encargos, taxas e impostos) - PT = Qde x PU"]

{"sheet":"PFP2.1_FatorKa","index":4,"n_rows":41,"n_cols":6,"rows_kept":41,"cut":false,"hidden":false,"merged":[[40,0,40,5],[39,0,39,5],[38,0,38,5],[37,0,37,5],[22,1,22,3],[29,1,29,3],[30,1,30,3],[28,1,28,3],[25,1,25,3],[26,1,26,3],[27,1,27,3],[33,1,33,3],[31,1,31,3],[16,1,16,3],[9,1,9,3],[10,1,10,3],[11,1,11,3],[12,1,12,3],[0,0,1,4],[2,0,2,5],[5,0,5,1],[5,2,5,4],[4,2,4,4],[3,0,3,5],[6,1,6,3],[32,1,32,3],[34,1,34,3],[35,1,35,3],[18,1,18,3],[19,1,19,3],[20,1,20,3],[21,1,21,3],[23,1,23,3],[24,1,24,3],[7,1,7,3],[17,1,17,3],[8,1,8,3],[13,1,13,3],[14,1,14,3],[15,1,15,3]]}
["DETALHAMENTO DOS ENCARGOS SOCIAIS: Ka",{"$nulls":4},"CODIGO:"]
[{"$nulls":5},"PFP-2.1"]
["NOME DA CONSULTORA:"]
[]
["PROJETO:",null,"CONTRATANTE:",null,null,"BASE: Nov/2021"]
[{"$f":"PFP!A6","v":"Estudos e Projeto Básico e Executivo do Sistema de Abastecimento de Água de Morro Cabeça no Tempo/PI"},null,"CODEVASF (SEDE)",null,null,"SINAPI/DF: Mai/2021"]
["Cod","DESCRIÇÃO",null,null,"%","R$"]
["A","ENCARGOS SOCIAIS BÁSICOS",null,null,{"$f":"ROUND(SUM(E9:E17),4)","v":0.378},{"$f":"ROUND(E8*SUMIF(PFP!$B$8:$B$27,\"MO1\",PFP!$J$8:$J$27),2)","v":22407.94}]
["A1","INSS",null,null,0.2,{"$f":"ROUND(E9*SUMIF(PFP!$B$8:$B$27,\"MO1\",PFP!$J$8:$J$27),2)","v":11856.05}]
["A2","SESI",null,null,1.4999999999999999E-2,{"$f":"ROUND(E10*SUMIF(PFP!$B$8:$B$27,\"MO1\",PFP!$J$8:$J$27),2)","v":889.2}]
["A3","SENAI",null,null,0.01,{"$f":"ROUND(E11*SUMIF(PFP!$B$8:$B$27,\"MO1\",PFP!$J$8:$J$27),2)","v":592.79999999999995}]
["A4","INCRA",null,null,2E-3,{"$f":"ROUND(E12*SUMIF(PFP!$B$8:$B$27,\"MO1\",PFP!$J$8:$J$27),2)","v":118.56}]
["A5","SEBRAE",null,null,6.0000000000000001E-3,{"$f":"ROUND(E13*SUMIF(PFP!$B$8:$B$27,\"MO1\",PFP!$J$8:$J$27),2)","v":355.68}]
["A6","Salário Educação",null,null,2.5000000000000001E-2,{"$f":"ROUND(E14*SUMIF(PFP!$B$8:$B$27,\"MO1\",PFP!$J$8:$J$27),2)","v":1482.01}]
["A7","Seguro Contra Acidentes de Trabalho",null,null,0.03,{"$f":"ROUND(E15*SUMIF(PFP!$B$8:$B$27,\"MO1\",PFP!$J$8:$J$27),2)","v":1778.41}]
["A8","FGTS",null,null,0.08,{"$f":"ROUND(E16*SUMIF(PFP!$B$8:$B$27,\"MO1\",PFP!$J$8:$J$27),2)","v":4742.42}]
["A9","SECONCI",null,null,0.01,{"$f":"ROUND(E17*SUMIF(PFP!$B$8:$B$27,\"MO1\",PFP!$J$8:$J$27),2)","v":592.79999999999995}]
["B"," ENCARGOS SOCIAIS QUE RECEBEM INCIDÊNCIA DE \"A\"",null,null,{"$f":"ROUND(SUM(E19:E25),4)","v":0.2036},{"$f":"ROUND(E18*SUMIF(PFP!$B$8:$B$27,\"MO1\",PFP!$J$8:$J$27),2)","v":12069.46}]
["B3","Auxílio Enfermidade",null,null,6.7000000000000002E-3,{"$f":"ROUND(E19*SUMIF(PFP!$B$8:$B$27,\"MO1\",PFP!$J$8:$J$27),2)","v":397.18}]
["B4","13º Salário",null,null,8.3299999999999999E-2,{"$f":"ROUND(E20*SUMIF(PFP!$B$8:$B$27,\"MO1\",PFP!$J$8:$J$27),2)","v":4938.05}]
["B5","Licença Paternidade",null,null,5.9999999999999995E-4,{"$f":"ROUND(E21*SUMIF(PFP!$B$8:$B$27,\"MO1\",PFP!$J$8:$J$27),2)","v":35.57}]
["B6","Faltas Justificadas",null,null,5.5999999999999999E-3,{"$f":"ROUND(E22*SUMIF(PFP!$B$8:$B$27,\"MO1\",PFP!$J$8:$J$27),2)","v":331.97}]
["B8","Auxílio Acidente de Trabalho",null,null,8.0000000000000004E-4,{"$f":"ROUND(E23*SUMIF(PFP!$B$8:$B$27,\"MO1\",PFP!$J$8:$J$27),2)","v":47.42}]
["B9","Férias Gozadas",null,null,0.10630000000000001,{"$f":"ROUND(E24*SUMIF(PFP!$B$8:$B$27,\"MO1\",PFP!$J$8:$J$27),2)","v":6301.49}]
["B10","Salário Maternidade",null,null,2.9999999999999997E-4,{"$f":"ROUND(E25*SUMIF(PFP!$B$8:$B$27,\"MO1\",PFP!$J$8:$J$27),2)","v":17.78}]
["C"," ENCARGOS SOCIAIS QUE NÃO RECEBEM INCIDÊNCIA DE \"A\"",null,null,{"$f":"ROUND(SUM(E27:E31),4)","v":6.9099999999999995E-2},{"$f":"ROUND(E26*SUMIF(PFP!$B$8:$B$27,\"MO1\",PFP!$J$8:$J$27),2)","v":4096.2700000000004}]
["C1","Aviso Prévio Indenizado",null,null,3.2399999999999998E-2,{"$f":"ROUND(E27*SUMIF(PFP!$B$8:$B$27,\"MO1\",PFP!$J$8:$J$27),2)","v":1920.68}]
["C2","Aviso Prévio Trabalhado",null,null,8.0000000000000004E-4,{"$f":"ROUND(E28*SUMIF(PFP!$B$8:$B$27,\"MO1\",PFP!$J$8:$J$27),2)","v":47.42}]
["C3","Férias Indenizadas",null,null,3.5999999999999999E-3,{"$f":"ROUND(E29*SUMIF(PFP!$B$8:$B$27,\"MO1\",PFP!$J$8:$J$27),2)","v":213.41}]
["C4","Depósito Rescisão Sem Justa Causa",null,null,2.9600000000000001E-2,{"$f":"ROUND(E30*SUMIF(PFP!$B$8:$B$27,\"MO1\",PFP!$J$8:$J$27),2)","v":1754.7}]
["C5","Indenização Adicional",null,null,2.7000000000000001E-3,{"$f":"ROUND(E31*SUMIF(PFP!$B$8:$B$27,\"MO1\",PFP!$J$8:$J$27),2)","v":160.06}]
["D"," REINCIDÊNCIAS",null,null,{"$f":"ROUND(SUM(E33:E34),4)","v":7.9899999999999999E-2},{"$f":"ROUND(E32*SUMIF(PFP!$B$8:$B$27,\"MO1\",PFP!$J$8:$J$27),2)","v":4736.49}]
["D1","Reincidência de \"A\" sobre \"B\"",null,null,{"$f":"ROUND(E8*E18,4)","v":7.6999999999999999E-2},{"$f":"ROUND(E33*SUMIF(PFP!$B$8:$B$27,\"MO1\",PFP!$J$8:$J$27),2)","v":4564.58}]
["D2","Reincidência de \"A\" sobre Aviso Prévio Trabalhado e reincidência do FGTS sobre Aviso Prévio Indenizado",null,null,{"$f":"ROUND((E28*E8)+(E27*E16),4)","v":2.8999999999999998E-3},{"$f":"ROUND(E34*SUMIF(PFP!$B$8:$B$27,\"MO1\",PFP!$J$8:$J$27),2)","v":171.91}]
["K1a","ENCARGOS SOCIAIS",null,null,{"$f":"ROUND(E8+E18+E26+E32,4)","v":0.73060000000000003},{"$f":"ROUND(E35*SUMIF(PFP!$B$8:$B$27,\"MO1\",PFP!$J$8:$J$27),2)","v":43310.16}]
["Ka","TAXA DE RESSARCIMENTO DE DESPESAS E ENCARGOS SOBRE MO1",null,null,{"$f":"ROUND((1+E35+PFP3_FatorKd!E13)*(1+PFP3_FatorKd!E12)*(1+PFP3_FatorKd!E8),4)","v":2.3616000000000001}]
["OBSERVAÇÃO: CELETISTAS E EQUIVALENTES"]
["1 - DISCRIMINAR OS ENCARGOS SOCIAIS COM SEUS RESPECTIVOS PERCENTUAS TOTALIZANDO OS MESMOS. "]
["2 - APLICAR O  % TOTAL P/ CALCULAR OS E. SOCIAIS INCIDENTES NA MÃO-DE-OBRA CELETISTAS"]
["Ka - Taxa de Ressarcimento de Despesas e Encargos sobre a Mão de Obra CELETISTA (incide apenas no Insumo Codigo MO1)"]
["Ka = (1 + K1 + K2) x (1 + K3) x (1 + K4)"]

{"sheet":"PFP2.2_FatorKb","index":5,"n_rows":41,"n_cols":6,"rows_kept":41,"cut":false,"hidden":false,"merged":[[13,1,13,3],[14,1,14,3],[15,1,15,3],[11,1,11,3],[31,1,31,3],[20,1,20,3],[21,1,21,3],[22,1,22,3],[23,1,23,3],[24,1,24,3],[25,1,25,3],[26,1,26,3],[27,1,27,3],[28,1,28,3],[29,1,29,3],[30,1,30,3],[40,0,40,5],[37,0,37,5],[38,0,38,5],[39,0,39,5],[32,1,32,3],[33,1,33,3],[34,1,34,3],[35,1,35,3],[19,1,19,3],[0,0,1,4],[2,0,2,5],[3,0,3,5],[4,2,4,4],[5,0,5,1],[5,2,5,4],[7,1,7,3],[17,1,17,3],[18,1,18,3],[8,1,8,3],[9,1,9,3],[10,1,10,3],[16,1,16,3],[6,1,6,3],[12,1,12,3]]}
["DETALHAMENTO DOS ENCARGOS SOCIAIS: Kb",{"$nulls":4},"CODIGO:"]
[{"$nulls":5},"PFP-2.2"]
["NOME DA CONSULTORA:"]
[]
["PROJETO:",null,"CONTRATANTE:",null,null,"BASE: Nov/2021"]
[{"$f":"PFP!A6","v":"Estudos e Projeto Básico e Executivo do Sistema de Abastecimento de Água de Morro Cabeça no Tempo/PI"},null,"CODEVASF (SEDE)",null,null,"SINAPI/DF: Mai/2021"]
["Cod","DESCRIÇÃO",null,null,"%","R$"]
["A","ENCARGOS SOCIAIS BÁSICOS",null,null,{"$f":"ROUND(SUM(E9:E17),4)","v":0.2},{"$f":"ROUND(E8*SUMIF(PFP!$B$8:$B$27,\"MO2\",PFP!$J$8:$J$27),2)","v":5424.2}]
["A1","INSS",null,null,0.2,{"$f":"ROUND(E9*SUMIF(PFP!$B$8:$B$27,\"MO2\",PFP!$J$8:$J$27),2)","v":5424.2}]
["A2","SESI",null,null,0,{"$f":"ROUND(E10*SUMIF(PFP!$B$8:$B$27,\"MO2\",PFP!$J$8:$J$27),2)","v":0}]
["A3","SENAI",null,null,0,{"$f":"ROUND(E11*SUMIF(PFP!$B$8:$B$27,\"MO2\",PFP!$J$8:$J$27),2)","v":0}]
["A4","INCRA",null,null,0,{"$f":"ROUND(E12*SUMIF(PFP!$B$8:$B$27,\"MO2\",PFP!$J$8:$J$27),2)","v":0}]
["A5","SEBRAE",null,null,0,{"$f":"ROUND(E13*SUMIF(PFP!$B$8:$B$27,\"MO2\",PFP!$J$8:$J$27),2)","v":0}]
["A6","Salário Educação",null,null,0,{"$f":"ROUND(E14*SUMIF(PFP!$B$8:$B$27,\"MO2\",PFP!$J$8:$J$27),2)","v":0}]
["A7","Seguro Contra Acidentes de Trabalho",null,null,0,{"$f":"ROUND(E15*SUMIF(PFP!$B$8:$B$27,\"MO2\",PFP!$J$8:$J$27),2)","v":0}]
["A8","FGTS",null,null,0,{"$f":"ROUND(E16*SUMIF(PFP!$B$8:$B$27,\"MO2\",PFP!$J$8:$J$27),2)","v":0}]
["A9","SECONCI",null,null,0,{"$f":"ROUND(E17*SUMIF(PFP!$B$8:$B$27,\"MO2\",PFP!$J$8:$J$27),2)","v":0}]
["B"," ENCARGOS SOCIAIS QUE RECEBEM INCIDÊNCIA DE \"A\"",null,null,{"$f":"ROUND(SUM(E19:E25),4)","v":0},{"$f":"ROUND(E18*SUMIF(PFP!$B$8:$B$27,\"MO2\",PFP!$J$8:$J$27),2)","v":0}]
["B3","Auxílio Enfermidade",null,null,0,{"$f":"ROUND(E19*SUMIF(PFP!$B$8:$B$27,\"MO2\",PFP!$J$8:$J$27),2)","v":0}]
["B4","13º Salário",null,null,0,{"$f":"ROUND(E20*SUMIF(PFP!$B$8:$B$27,\"MO2\",PFP!$J$8:$J$27),2)","v":0}]
["B5","Licença Paternidade",null,null,0,{"$f":"ROUND(E21*SUMIF(PFP!$B$8:$B$27,\"MO2\",PFP!$J$8:$J$27),2)","v":0}]
["B6","Faltas Justificadas",null,null,0,{"$f":"ROUND(E22*SUMIF(PFP!$B$8:$B$27,\"MO2\",PFP!$J$8:$J$27),2)","v":0}]
["B8","Auxílio Acidente de Trabalho",null,null,0,{"$f":"ROUND(E23*SUMIF(PFP!$B$8:$B$27,\"MO2\",PFP!$J$8:$J$27),2)","v":0}]
["B9","Férias Gozadas",null,null,0,{"$f":"ROUND(E24*SUMIF(PFP!$B$8:$B$27,\"MO2\",PFP!$J$8:$J$27),2)","v":0}]
["B10","Salário Maternidade",null,null,0,{"$f":"ROUND(E25*SUMIF(PFP!$B$8:$B$27,\"MO2\",PFP!$J$8:$J$27),2)","v":0}]
["C"," ENCARGOS SOCIAIS QUE NÃO RECEBEM INCIDÊNCIA DE \"A\"",null,null,{"$f":"ROUND(SUM(E27:E31),4)","v":0},{"$f":"ROUND(E26*SUMIF(PFP!$B$8:$B$27,\"MO2\",PFP!$J$8:$J$27),2)","v":0}]
["C1","Aviso Prévio Indenizado",null,null,0,{"$f":"ROUND(E27*SUMIF(PFP!$B$8:$B$27,\"MO2\",PFP!$J$8:$J$27),2)","v":0}]
["C2","Aviso Prévio Trabalhado",null,null,0,{"$f":"ROUND(E28*SUMIF(PFP!$B$8:$B$27,\"MO2\",PFP!$J$8:$J$27),2)","v":0}]
["C3","Férias Indenizadas",null,null,0,{"$f":"ROUND(E29*SUMIF(PFP!$B$8:$B$27,\"MO2\",PFP!$J$8:$J$27),2)","v":0}]
["C4","Depósito Rescisão Sem Justa Causa",null,null,0,{"$f":"ROUND(E30*SUMIF(PFP!$B$8:$B$27,\"MO2\",PFP!$J$8:$J$27),2)","v":0}]
["C5","Indenização Adicional",null,null,0,{"$f":"ROUND(E31*SUMIF(PFP!$B$8:$B$27,\"MO2\",PFP!$J$8:$J$27),2)","v":0}]
["D"," REINCIDÊNCIAS",null,null,{"$f":"ROUND(SUM(E33:E34),4)","v":0},{"$f":"ROUND(E32*SUMIF(PFP!$B$8:$B$27,\"MO2\",PFP!$J$8:$J$27),2)","v":0}]
["D1","Reincidência de \"A\" sobre \"B\"",null,null,{"$f":"ROUND(E8*E18,4)","v":0},{"$f":"ROUND(E33*SUMIF(PFP!$B$8:$B$27,\"MO2\",PFP!$J$8:$J$27),2)","v":0}]
["D2","Reincidência de \"A\" sobre Aviso Prévio Trabalhado e reincidência do FGTS sobre Aviso Prévio Indenizado",null,null,{"$f":"ROUND(E8*E28,4)+ROUND(E27*E11,4)","v":0},{"$f":"ROUND(E34*SUMIF(PFP!$B$8:$B$27,\"MO2\",PFP!$J$8:$J$27),2)","v":0}]
["K1b","ENCARGOS SOCIAIS",null,null,{"$f":"ROUND(E8+E18+E26+E32,4)","v":0.2},{"$f":"ROUND(E35*SUMIF(PFP!$B$8:$B$27,\"MO2\",PFP!$J$8:$J$27),2)","v":5424.2}]
["Kb","TAXA DE RESSARCIMENTO DE DESPESAS E ENCARGOS SOBRE MO2",null,null,{"$f":"ROUND((1+E35+PFP3_FatorKd!E13)*(1+PFP3_FatorKd!E12)*(1+PFP3_FatorKd!E8),4)","v":1.6953}]
["OBSERVAÇÃO: AUTÔNOMOS E EQUIVALENTES"]
["1 - DISCRIMINAR OS ENCARGOS SOCIAIS COM SEUS RESPECTIVOS PERCENTUAS TOTALIZANDO OS MESMOS. "]
["2 - APLICAR O % TOTAL P/ CALCULAR OS E. SOCIAIS INCIDENTES NA MÃO-DE-OBRA AUTONÔMOS"]
["Kb - Taxa de Ressarcimento de Despesas e Encargos sobre a Mão de Obra AUTONÔMA (incide apenas no Insumo Codigo MO2)"]
["Kb = (1 + K1 + K2) x (1 + K3) x (1 + K4)"]

{"sheet":"PFP2.3_FatorKc","index":6,"n_rows":41,"n_cols":6,"rows_kept":41,"cut":false,"hidden":false,"merged":[[0,0,1,4],[2,0,2,5],[3,0,3,5],[4,2,4,4],[5,0,5,1],[5,2,5,4],[17,1,17,3],[6,1,6,3],[7,1,7,3],[8,1,8,3],[9,1,9,3],[10,1,10,3],[11,1,11,3],[12,1,12,3],[13,1,13,3],[14,1,14,3],[15,1,15,3],[16,1,16,3],[29,1,29,3],[18,1,18,3],[19,1,19,3],[20,1,20,3],[21,1,21,3],[22,1,22,3],[23,1,23,3],[24,1,24,3],[25,1,25,3],[26,1,26,3],[27,1,27,3],[28,1,28,3],[37,0,37,5],[38,0,38,5],[39,0,39,5],[40,0,40,5],[30,1,30,3],[31,1,31,3],[32,1,32,3],[33,1,33,3],[34,1,34,3],[35,1,35,3]]}
["DETALHAMENTO DOS ENCARGOS SOCIAIS: Kc",{"$nulls":4},"CODIGO:"]
[{"$nulls":5},"PFP-2.3"]
["NOME DA CONSULTORA:"]
[]
["PROJETO:",null,"CONTRATANTE:",null,null,"BASE: Nov/2021"]
[{"$f":"PFP!A6","v":"Estudos e Projeto Básico e Executivo do Sistema de Abastecimento de Água de Morro Cabeça no Tempo/PI"},null,"CODEVASF (SEDE)",null,null,"SINAPI/DF: Mai/2021"]
["Cod","DESCRIÇÃO",null,null,"%","R$"]
["A","ENCARGOS SOCIAIS BÁSICOS",null,null,{"$f":"SUM(E9:E17)","v":0},{"$f":"ROUND(E8*SUMIF(PFP!$B$8:$B$27,\"MO3\",PFP!$J$8:$J$27),2)","v":0}]
["A1","INSS",null,null,0,{"$f":"ROUND(E9*SUMIF(PFP!$B$8:$B$27,\"MO3\",PFP!$J$8:$J$27),2)","v":0}]
["A2","SESI",null,null,0,{"$f":"ROUND(E10*SUMIF(PFP!$B$8:$B$27,\"MO3\",PFP!$J$8:$J$27),2)","v":0}]
["A3","SENAI",null,null,0,{"$f":"ROUND(E11*SUMIF(PFP!$B$8:$B$27,\"MO3\",PFP!$J$8:$J$27),2)","v":0}]
["A4","INCRA",null,null,0,{"$f":"ROUND(E12*SUMIF(PFP!$B$8:$B$27,\"MO3\",PFP!$J$8:$J$27),2)","v":0}]
["A5","SEBRAE",null,null,0,{"$f":"ROUND(E13*SUMIF(PFP!$B$8:$B$27,\"MO3\",PFP!$J$8:$J$27),2)","v":0}]
["A6","Salário Educação",null,null,0,{"$f":"ROUND(E14*SUMIF(PFP!$B$8:$B$27,\"MO3\",PFP!$J$8:$J$27),2)","v":0}]
["A7","Seguro Contra Acidentes de Trabalho",null,null,0,{"$f":"ROUND(E15*SUMIF(PFP!$B$8:$B$27,\"MO3\",PFP!$J$8:$J$27),2)","v":0}]
["A8","FGTS",null,null,0,{"$f":"ROUND(E16*SUMIF(PFP!$B$8:$B$27,\"MO3\",PFP!$J$8:$J$27),2)","v":0}]
["A9","SECONCI",null,null,0,{"$f":"ROUND(E17*SUMIF(PFP!$B$8:$B$27,\"MO3\",PFP!$J$8:$J$27),2)","v":0}]
["B"," ENCARGOS SOCIAIS QUE RECEBEM INCIDÊNCIA DE \"A\"",null,null,{"$f":"ROUND(SUM(E19:E25),4)","v":0},{"$f":"ROUND(E18*SUMIF(PFP!$B$8:$B$27,\"MO3\",PFP!$J$8:$J$27),2)","v":0}]
["B3","Auxílio Enfermidade",null,null,0,{"$f":"ROUND(E19*SUMIF(PFP!$B$8:$B$27,\"MO3\",PFP!$J$8:$J$27),2)","v":0}]
["B4","13º Salário",null,null,0,{"$f":"ROUND(E20*SUMIF(PFP!$B$8:$B$27,\"MO3\",PFP!$J$8:$J$27),2)","v":0}]
["B5","Licença Paternidade",null,null,0,{"$f":"ROUND(E21*SUMIF(PFP!$B$8:$B$27,\"MO3\",PFP!$J$8:$J$27),2)","v":0}]
["B6","Faltas Justificadas",null,null,0,{"$f":"ROUND(E22*SUMIF(PFP!$B$8:$B$27,\"MO3\",PFP!$J$8:$J$27),2)","v":0}]
["B8","Auxílio Acidente de Trabalho",null,null,0,{"$f":"ROUND(E23*SUMIF(PFP!$B$8:$B$27,\"MO3\",PFP!$J$8:$J$27),2)","v":0}]
["B9","Férias Gozadas",null,null,0,{"$f":"ROUND(E24*SUMIF(PFP!$B$8:$B$27,\"MO3\",PFP!$J$8:$J$27),2)","v":0}]
["B10","Salário Maternidade",null,null,0,{"$f":"ROUND(E25*SUMIF(PFP!$B$8:$B$27,\"MO3\",PFP!$J$8:$J$27),2)","v":0}]
["C"," ENCARGOS SOCIAIS QUE NÃO RECEBEM INCIDÊNCIA DE \"A\"",null,null,{"$f":"ROUND(SUM(E27:E31),4)","v":0},{"$f":"ROUND(E26*SUMIF(PFP!$B$8:$B$27,\"MO3\",PFP!$J$8:$J$27),2)","v":0}]
["C1","Aviso Prévio Indenizado",null,null,0,{"$f":"ROUND(E27*SUMIF(PFP!$B$8:$B$27,\"MO3\",PFP!$J$8:$J$27),2)","v":0}]
["C2","Aviso Prévio Trabalhado",null,null,0,{"$f":"ROUND(E28*SUMIF(PFP!$B$8:$B$27,\"MO3\",PFP!$J$8:$J$27),2)","v":0}]
["C3","Férias Indenizadas",null,null,0,{"$f":"ROUND(E29*SUMIF(PFP!$B$8:$B$27,\"MO3\",PFP!$J$8:$J$27),2)","v":0}]
["C4","Depósito Rescisão Sem Justa Causa",null,null,0,{"$f":"ROUND(E30*SUMIF(PFP!$B$8:$B$27,\"MO3\",PFP!$J$8:$J$27),2)","v":0}]
["C5","Indenização Adicional",null,null,0,{"$f":"ROUND(E31*SUMIF(PFP!$B$8:$B$27,\"MO3\",PFP!$J$8:$J$27),2)","v":0}]
["D"," REINCIDÊNCIAS",null,null,{"$f":"ROUND(SUM(E33:E34),4)","v":0},{"$f":"ROUND(E32*SUMIF(PFP!$B$8:$B$27,\"MO3\",PFP!$J$8:$J$27),2)","v":0}]
["D1","Reincidência de \"A\" sobre \"B\"",null,null,{"$f":"ROUND(E8*E18,4)","v":0},{"$f":"ROUND(E33*SUMIF(PFP!$B$8:$B$27,\"MO3\",PFP!$J$8:$J$27),2)","v":0}]
["D2","Reincidência de \"A\" sobre Aviso Prévio Trabalhado e reincidência do FGTS sobre Aviso Prévio Indenizado",null,null,{"$f":"ROUND(E8*E28,4)+ROUND(E27*E11,4)","v":0},{"$f":"ROUND(E34*SUMIF(PFP!$B$8:$B$27,\"MO3\",PFP!$J$8:$J$27),2)","v":0}]
["K1c","ENCARGOS SOCIAIS",null,null,{"$f":"ROUND(E8+E18+E26+E32,4)","v":0},{"$f":"ROUND(E35*SUMIF(PFP!$B$8:$B$27,\"MO3\",PFP!$J$8:$J$27),2)","v":0}]
["Kc","TAXA DE RESSARCIMENTO DE DESPESAS E ENCARGOS SOBRE MO3",null,null,{"$f":"ROUND((1+E35+PFP3_FatorKd!E13)*(1+PFP3_FatorKd!E12)*(1+PFP3_FatorKd!E8),4)","v":1.4440999999999999}]
["OBSERVAÇÃO: SOCIETÁRIOS E EQUIVALENTES"]
["1 - DISCRIMINAR OS ENCARGOS SOCIAIS COM SEUS RESPECTIVOS PERCENTUAS TOTALIZANDO OS MESMOS. "]
["2 - APLICAR O % TOTAL P/ CALCULAR OS E. SOCIAIS INCIDENTES NA MÃO-DE-OBRA DE SOCIETÁRIOS"]
["Kc - Taxa de Ressarcimento de Despesas e Encargos sobre a Mão de Obra SOCIETÁRIA (incide apenas no Insumo Codigo MO3)"]
["Kc = (1 + K1 + K2) x (1 + K3) x (1 + K4)"]

{"sheet":"PFP3_FatorKd","index":7,"n_rows":35,"n_cols":6,"rows_kept":35,"cut":false,"hidden":false,"merged":[[32,0,32,5],[12,1,12,3],[11,1,11,3],[8,1,8,2],[9,1,9,2],[10,1,10,2],[7,1,7,2],[25,0,25,5],[6,1,6,2],[0,0,1,4],[2,0,2,5],[5,0,5,1],[5,2,5,4],[4,2,4,4],[3,0,3,5],[33,0,33,5],[34,0,34,5],[16,1,16,3],[13,1,13,3],[14,1,14,3],[15,1,15,3],[21,0,21,5],[26,0,26,5],[27,0,27,5],[22,0,22,5],[23,0,23,5],[24,0,24,5],[28,0,28,5],[29,0,29,5],[30,0,30,5],[31,0,31,5]]}
["DESPESAS FISCAIS E CUSTOS DIVERSOS: Kc",{"$nulls":4},"CODIGO:"]
[{"$nulls":5},"PFP-3"]
["NOME DA CONSULTORA:"]
[]
["PROJETO:",null,"CONTRATANTE:",null,null,"BASE: Nov/2021"]
[{"$f":"PFP!A6","v":"Estudos e Projeto Básico e Executivo do Sistema de Abastecimento de Água de Morro Cabeça no Tempo/PI"},null,"CODEVASF (SEDE)",null,null,"PROP: Jul/2021"]
["Cod","DESCRIÇÃO1",null,"% preço2","% custo4","R$"]
["K4","TRIBUTOS",null,{"$f":"ROUND(D9+D10+D11,4)","v":0.124},{"$f":"ROUND(E9+E10+E11,4)","v":0.1416},{"$f":"E8*SUM(SUMIF(PFP!$B$8:$B$27,\"MO1\",PFP!$J$8:$J$27)*(1+PFP2.1_FatorKa!$E$35)+SUMIF(PFP!$B$8:$B$27,\"MO2\",PFP!$J$8:$J$27)*(1+PFP2.2_FatorKb!$E$35)+SUMIF(PFP!$B$8:$B$27,\"<>MO*\",PFP!$J$8:$J$27)+$F$13+$F$12)","v":30074.424899386555}]
["K4.1","ISS",null,0.05,{"$f":"ROUND((1/(1-$D$8))*D9,4)","v":5.7099999999999998E-2},{"$f":"E9*SUM(SUMIF(PFP!$B$8:$B$27,\"MO1\",PFP!$J$8:$J$27)*(1+PFP2.1_FatorKa!$E$35)+SUMIF(PFP!$B$8:$B$27,\"MO2\",PFP!$J$8:$J$27)*(1+PFP2.2_FatorKb!$E$35)+SUMIF(PFP!$B$8:$B$27,\"<>MO*\",PFP!$J$8:$J$27)+$F$13+$F$12)","v":12127.469362676358}]
["K4.2","PIS3 - aliquota efetiva aplicavel percentual-desconto",null,{"$f":"ROUND(1.65%*0.8,4)","v":1.32E-2},{"$f":"ROUND((1/(1-$D$8))*D10,4)","v":1.5100000000000001E-2},{"$f":"E10*SUM(SUMIF(PFP!$B$8:$B$27,\"MO1\",PFP!$J$8:$J$27)*(1+PFP2.1_FatorKa!$E$35)+SUMIF(PFP!$B$8:$B$27,\"MO2\",PFP!$J$8:$J$27)*(1+PFP2.2_FatorKb!$E$35)+SUMIF(PFP!$B$8:$B$27,\"<>MO*\",PFP!$J$8:$J$27)+$F$13+$F$12)","v":3207.0890959091594}]
["K4.3","COFINS3 - aliquota efetiva aplicavel percentual-desconto",null,{"$f":"ROUND(7.6%*0.8,4)","v":6.08E-2},{"$f":"ROUND((1/(1-$D$8))*D11,4)","v":6.9400000000000003E-2},{"$f":"E11*SUM(SUMIF(PFP!$B$8:$B$27,\"MO1\",PFP!$J$8:$J$27)*(1+PFP2.1_FatorKa!$E$35)+SUMIF(PFP!$B$8:$B$27,\"MO2\",PFP!$J$8:$J$27)*(1+PFP2.2_FatorKb!$E$35)+SUMIF(PFP!$B$8:$B$27,\"<>MO*\",PFP!$J$8:$J$27)+$F$13+$F$12)","v":14739.866440801039}]
["K3","REMUNERAÇÃO DA EMPRESA (LUCRO)",null,null,0.1,{"$f":"E12*SUM(SUMIF(PFP!$B$8:$B$27,\"MO1\",PFP!$J$8:$J$27)*(1+PFP2.1_FatorKa!$E$35)+SUMIF(PFP!$B$8:$B$27,\"MO2\",PFP!$J$8:$J$27)*(1+PFP2.2_FatorKb!$E$35)+SUMIF(PFP!$B$8:$B$27,\"<>MO*\",PFP!$J$8:$J$27)+$F$13)","v":19308.182395599997}]
["K2","CUSTOS DA ADMINISTRAÇÃO CENTRAL",null,null,{"$f":"ROUND(SUM(E14:E16),4)","v":0.15},{"$f":"ROUND(E13*SUMIF(PFP!$B$8:$B$27,\"MO*\",PFP!$J$8:$J$27),2)","v":15360.69}]
["K2.1","Custos da administração central da empresa (diretoria, pessoal técnico de apoio e pessoal administrativo não diretamente vinculado à prestação dos serviços)",null,null,0.1,{"$f":"ROUND(E14*SUMIF(PFP!$B$8:$B$27,\"MO*\",PFP!$J$8:$J$27),2)","v":10240.459999999999}]
["K2.2","Outras despesas que afetam o custo de produção como treinamento, biblioteca, programa de qualidade, programa de benefícios, auditoria interna e externa",null,null,0.03,{"$f":"ROUND(E15*SUMIF(PFP!$B$8:$B$27,\"MO*\",PFP!$J$8:$J$27),2)","v":3072.14}]
["K2.3","Despesas fixas e variaveis com patrimônio, aluguéis, comunicação, manutenção e transporte não diretamente relacionados com o custo direto dos serviços",null,null,0.02,{"$f":"ROUND(E16*SUMIF(PFP!$B$8:$B$27,\"MO*\",PFP!$J$8:$J$27),2)","v":2048.09}]
["Kd","TAXA RESSARCIMENTO DE DESPESAS SOBRE CUSTOS DIVERSOS",null,null,{"$f":"ROUND((1+E12)*(1+E8),4)","v":1.2558}]
["NOME DO INFORMANTE:",null,null,null,"QUALIFICAÇÃO:"]
[]
["ASSINATURA:",null,null,null,"DATA:"]
[]
["Observação:"]
["1 - RELACIONAR OS CUSTOS DE ADMINISTRAÇÃO COM RESPECTIVOS PERCENTUAIS INCIDENTES NA MÃO -DE-OBRA"]
["1 - DISCRIMINAR OS TRIBUTOS QUE INCIDEM SOBRE OS CUSTOS DA PRESTAÇÃO DOS SERVIÇOS"]
["2 - K4 = INDICAR % DE CADA TRIBUTO E A SOMA DOS MESMOS (ex: ISS 5% + PIS 1,65% + COFINS 7,60% = 14,25%)"]
["3 - PIS e COFINS, Regime de Incidencia Acumulativa (0,65% e 3,00% - sem percentual de desconto) ou em Regime de Incidencia Não Acumulativa (1,65% e 7,60% - aplicável percentual de desconto) de acordo com a forma de apuração do lucro no IRPJ. APRESENTAR COMPROVANTES de aproveitamento de créditos tributários dos últimos 12 meses em caso de aplicação de \"percentual de desconto\"."]
["4 - AS DESPESAS FISCAIS (K4) INCIDEM SOBRE O TOTAL DA FATURA E NÃO SOBRE OS CUSTOS INCORRIDOS, "]
["     DEVENDO SER CALCULADO O K4' APLICANDO-SE A SEGUINTE FÓRMULA:"]
["     K4' = { [ 1 / ( 1 - K4) ] - 1 } x 100"]
[{"$f":"CONCATENATE(\"     K4' = { [ 1 / ( 1 - \",D8,\" ) ] - 1 } x 100\")","v":"     K4' = { [ 1 / ( 1 - 0,124 ) ] - 1 } x 100"}]
["Kc - Taxa de Ressarcimento de Despesas sobre Custos Diversos (incide sobre os Insumos Codigo DP e EM)"]
["Kc = (1 + K3) x (1 + K4)"]
["K2 - Incide sobre o Custo Total (CT) da Mão de Obra (MO* = MO1 + MO2)"]
["K3 - Incide sobre o Custo Total (CT) Mão de Obra com encargos (MO1 x Ka ou MO2 x Kb), demais Custos (DP e EM), e Custos da Administração Central (K2)"]
["K4 -  Incide sobre o Custo Total (CT) Mão de Obra com encargos (MO1 x Ka ou MO2 x Kb), demais Custos (DP e EM), e Custos da Administração Central (K2) e Lucro (K3)"]

{"sheet":"CRO1_Ins-Pro","index":8,"n_rows":27,"n_cols":10,"rows_kept":27,"cut":false,"hidden":false,"merged":[[0,7,0,9],[1,7,1,9],[42,8,42,9],[25,0,26,0],[25,1,26,1],[0,0,1,6]]}
["INSUMOS POR ETAPA/PRODUTO",{"$nulls":6},"CODIGO:"]
[{"$nulls":7},"CRO-1"]
["Cod.","Categoria / Insumo","Uni","Qde","CUD","PU","FatorK","EB","EVA","PBE"]
[{"$nulls":6},"Meses",3,1,1]
[{"$f":"PFP!C8","v":"P0"},{"$f":"PFP!D8","v":"Engenheiro coordenador (P8061)"},"mês",{"$f":"SUM(H5:J5)","v":1},{"$f":"PFP!G8","v":16003.36},{"$f":"PFP!H8","v":23110.45},{"$f":"PFP!I8","v":1.4440999999999999},null,0.5,0.5]
[{"$f":"PFP!C9","v":"P1"},{"$f":"PFP!D9","v":"Engenheiro sênior (P8067)"},"mês",2,{"$f":"PFP!G9","v":13560.49},{"$f":"PFP!H9","v":22989.1},{"$f":"PFP!I9","v":1.6953},null,1,1]
[{"$f":"PFP!C10","v":"P2"},{"$f":"PFP!D10","v":"Engenheiro pleno (P8066)"},"mês",3,{"$f":"PFP!G10","v":10307.290000000001},{"$f":"PFP!H10","v":24341.7},{"$f":"PFP!I10","v":2.3616000000000001},1,1,1]
[{"$f":"PFP!C11","v":"P3"},{"$f":"PFP!D11","v":"Engenheiro júnior (P8065)"},"mês",1,{"$f":"PFP!G11","v":9350},{"$f":"PFP!H11","v":22080.959999999999},{"$f":"PFP!I11","v":2.3616000000000001},null,null,1]
[{"$f":"PFP!C12","v":"T1"},{"$f":"PFP!D12","v":"Técnico de projetos/obra (P8147)"},"mês",3,{"$f":"PFP!G12","v":2894.21},{"$f":"PFP!H12","v":6834.97},{"$f":"PFP!I12","v":2.3616000000000001},1,1,1]
[{"$f":"PFP!C13","v":"A1"},{"$f":"PFP!D13","v":"Secretária (P8135)"},"mês",1,{"$f":"PFP!G13","v":2204.9299999999998},{"$f":"PFP!H13","v":5207.16},{"$f":"PFP!I13","v":2.3616000000000001},null,0.5,0.5]
[{"$f":"PFP!C14","v":"S1"},{"$f":"PFP!D14","v":"Analista sênior"},"mês",0.5,{"$f":"PFP!G14","v":6247.13},{"$f":"PFP!H14","v":14753.22},{"$f":"PFP!I14","v":2.3616000000000001},null,0.5]
[{"$f":"PFP!C15","v":"S2"},{"$f":"PFP!D15","v":"Analista pleno"},"mês",0.5,{"$f":"PFP!G15","v":3784.58},{"$f":"PFP!H15","v":8937.66},{"$f":"PFP!I15","v":2.3616000000000001},null,0.5]
[{"$f":"PFP!C16","v":"S3"},{"$f":"PFP!D16","v":"Analista júnior"},"mês",1,{"$f":"PFP!G16","v":3104.97},{"$f":"PFP!H16","v":7332.7},{"$f":"PFP!I16","v":2.3616000000000001},null,null,1]
[{"$f":"PFP!C17","v":"ECA"},{"$f":"PFP!D17","v":"Encargos Comp. e Adicionais"},"mês",11,{"$f":"PFP!G17","v":815.05},{"$f":"PFP!H17","v":1023.54},{"$f":"PFP!I17","v":1.2558},null,{"$f":"SUM(I5:I13)","v":5},{"$f":"SUM(J5:J13)","v":6}]
[{"$f":"PFP!C18","v":"AT1"},{"$f":"PFP!D18","v":"Auxilio Transporte Analista junior"},"mês",1,{"$f":"PFP!G18","v":0},{"$f":"PFP!H18","v":0},{"$f":"PFP!I18","v":1.2558},null,{"$f":"I13","v":0},{"$f":"J13","v":1}]
[{"$f":"PFP!C19","v":"AT2"},{"$f":"PFP!D19","v":"Auxilio Transporte Técnicos"},"mês",2,{"$f":"PFP!G19","v":0},{"$f":"PFP!H19","v":0},{"$f":"PFP!I19","v":1.2558},null,{"$f":"I9","v":1},{"$f":"J9","v":1}]
[{"$f":"PFP!C20","v":"AT3"},{"$f":"PFP!D20","v":"Auxilio Transporte Secretária"},"mês",1,{"$f":"PFP!G20","v":12.983080000000001},{"$f":"PFP!H20","v":16.3},{"$f":"PFP!I20","v":1.2558},null,{"$f":"I10","v":0.5},{"$f":"J10","v":0.5}]
[{"$f":"PFP!C21","v":"V1"},{"$f":"PFP!D21","v":"Diárias"},"dia",28,{"$f":"PFP!G21","v":239},{"$f":"PFP!H21","v":300.14},{"$f":"PFP!I21","v":1.2558},null,{"$f":"I4*7*2","v":14},{"$f":"J4*7*2","v":14}]
[{"$f":"PFP!C22","v":"V2"},{"$f":"PFP!D22","v":"Pick-up Cab.dupla 2.0 Flex"},"un",14,{"$f":"PFP!G22","v":534.65},{"$f":"PFP!H22","v":671.41},{"$f":"PFP!I22","v":1.2558},null,{"$f":"I18/2","v":7},{"$f":"J18/2","v":7}]
[{"$f":"PFP!C23","v":"V3"},{"$f":"PFP!D23","v":"Passagens Aéreas (ida e volta)"},"un",4,{"$f":"PFP!G23","v":1346.75},{"$f":"PFP!H23","v":1691.25},{"$f":"PFP!I23","v":1.2558},null,2,2]
[{"$f":"PFP!C24","v":"M1"},{"$f":"PFP!D24","v":"Relatório Parcial"},"un",9,{"$f":"PFP!G24","v":34.412458175142888},{"$f":"PFP!H24","v":43.22},{"$f":"PFP!I24","v":1.2558},3,3,3]
[{"$f":"PFP!C25","v":"M2"},{"$f":"PFP!D25","v":"Relatório Final"},"un",9,{"$f":"PFP!G25","v":1525.9113388126327},{"$f":"PFP!H25","v":1916.24},{"$f":"PFP!I25","v":1.2558},3,3,3]
[{"$f":"PFP!C26","v":"TOP"},{"$f":"PFP!D26","v":"Total Serviços Cartográficos"},"un",1,{"$f":"PFP!G26","v":"-"},{"$f":"PFP!H26","v":97246.14999999998},{"$f":"PFP!I26","v":"-"},1]
[{"$f":"PFP!C27","v":"GEO"},{"$f":"PFP!D27","v":"Total Serviços Geotécnicos"},"un",1,{"$f":"PFP!G27","v":"-"},{"$f":"PFP!H27","v":77913.39},{"$f":"PFP!I27","v":"-"},1]
[{"$f":"PFP!C28","v":"AMB"},{"$f":"PFP!D28","v":"Total Serviços Ambientais"},"un",1,{"$f":"PFP!G28","v":"-"},{"$f":"PFP!H28","v":3333.2400000000002},{"$f":"PFP!I28","v":"-"},1]
["TOTAL","VALOR TOTAL POR PRODUTO","R$",441056.74,null,null,null,{"$f":"SUM(H5:H25*$F$5:$F$25)","v":215547.82999999996},{"$f":"SUM(I5:I25*$F$5:$F$25)","v":103458.575},{"$f":"SUM(J5:J25*$F$5:$F$25)","v":122050.33499999999}]
[null,null,"%",1,null,null,null,{"$f":"ROUND(H26/$D$26,5)","v":0.48870999999999998},{"$f":"ROUND(I26/$D$26,5)","v":0.23457},0.27672000000000002]