{"text_format":"2","workbook":"xlsx","n_sheets":25,"sheets":["Geral","1. Adm. Ger. Exec.","2.Serv. Vig","2.1.Comp. Custo Serv Vig","3.Oper.","3.1.CPU Oper.","4.Manut. ","4.1.CPU Manut.","4.1 Cons. Esp.","5. MobDesmob","6.Móv. escrit.","7. Inst. e Ferram.","8.Mat. cons.","9. Adm. Loc","10.Man. subest. ","10.1.CPU subest.","11.Man. Civ.","11.1.CPU Man. Civ.","12.Peç Repos e Mat.","13. Orçam. de Forn. Veic. e Maq","13.1.Máq.","13.2.CPU Veíc.","13.2.1 Espec. veíc.","14.Quant Pess.","15. Enc Soc"],"not_rendered":{"charts":0,"images":0,"macros":0,"external_links":0,"defined_names":71,"comments":1,"pivot_tables":0},"unopened":[],"bounds":{"document_bytes":16777216,"sheet_cells":100000,"run_cost":"one","rows_first":2000,"rows_last":500,"rows_between":2000,"halvings":0,"cell_chars":16384,"cell_head_chars":4096},"cells_cut":0,"cells_raw":0,"read":"whole","date_system":"1900"}

{"sheet":"Geral","index":0,"n_rows":50,"n_cols":10,"rows_kept":50,"cut":false,"hidden":false,"merged":[[28,0,28,7],[15,0,15,7],[16,0,16,7],[17,0,17,7],[21,0,21,7],[23,0,23,7],[24,0,24,7],[25,0,25,7],[19,0,19,7],[20,0,20,7],[26,0,26,7],[22,0,22,7],[14,0,14,7],[11,0,11,7],[18,0,18,7],[27,0,27,7],[13,0,13,7],[39,0,39,8],[30,0,30,7],[40,0,40,8],[0,0,1,8],[31,0,31,6],[6,0,6,7],[7,0,7,7],[8,0,8,7],[9,0,9,7],[10,0,10,7],[2,0,2,8],[3,0,3,8],[4,0,4,4],[5,0,5,4],[5,5,5,7],[12,0,12,7],[29,0,29,7],[35,0,35,8],[36,0,36,8],[37,0,37,8],[38,0,38,8],[50,0,50,8],[41,0,41,8],[42,0,42,8],[43,0,43,8],[44,0,44,8],[46,0,46,8],[47,0,47,8],[48,0,48,8],[49,0,49,8],[45,0,45,8]]}
["ANEXO IV\nPROPOSTA FINANCEIRA DE SERVIÇOS"]
[]
["NOME DA CONSULTORA:"]
[]
["PERÍMETRO(S):",{"$nulls":4},"OBJETO:",null,null,"EDITAL:"]
["PPBR, PROD, PGLO E PJUS"]
["SERVIÇOS PAGOS A PREÇO UNITÁRIO"]
["CUSTOS DIRETOS",{"$nulls":7},{"$f":"SUM(I10+I12+I25)","v":10449094.67}]
["MÃO-DE-OBRA",{"$nulls":7},{"$f":"I10+I12","v":5388404.4699999997}]
["A - TOTAL DE SALÁRIO DA EQUIPE",{"$nulls":7},{"$f":"SUM(I11:I11)","v":3152773.08}]
["A1 - TOTAL SALÁRIOS DA EQUIPE COM VÍNCULO (PFS-I)",{"$nulls":7},{"$f":"'1. Adm. Ger. Exec.'!G10+'2.Serv. Vig'!H7+'3.Oper.'!Q14+'4.Manut. '!Q15","v":3152773.08}]
["B - TOTAL DE ENCARGOS SOCIAIS",{"$nulls":7},{"$f":"SUM(I13:I13)","v":2235631.39}]
["B1 -  INCIDENTE SOBRE O ITEM  A1",{"$nulls":7},{"$f":"0.7091*I11","v":2235631.39}]
["OUTRAS DESPESAS"]
["C - MOBILIZAÇÃO, DESMOBILIZAÇÃO",{"$nulls":7},{"$f":"'5. MobDesmob'!H56","v":101373.66}]
["D - AQUISIÇÃO DE MÓVEIS E FERRAMENTAL",{"$nulls":7},{"$f":"'6.Móv. escrit.'!E10+'7. Inst. e Ferram.'!F82","v":297064.88}]
["E - AQUISIÇÃO DE MATERIAIS DE CONSUMO",{"$nulls":7},{"$f":"'8.Mat. cons.'!F75","v":27041.87}]
["F - ADMINISTRAÇÃO LOCAL",{"$nulls":7},{"$f":"'9. Adm. Loc'!E17","v":875823.12}]
["G - SERVIÇOS DE MANUTENÇÃO SUBESTAÇÕES",{"$nulls":7},{"$f":"'10.Man. subest. '!F14","v":129215.35}]
["H - SERVIÇOS DE MANUTENÇÃO CIVIL",{"$nulls":7},{"$f":"'11.Man. Civ.'!F23","v":191458}]
["I - CUSTO DE MATERAL E PEÇAS DE REPOSIÇÃO",{"$nulls":7},{"$f":"'12.Peç Repos e Mat.'!F707","v":1989814.64}]
["J1 - CUSTO DE VEÍCULOS e MOTOS",{"$nulls":7},{"$f":"SUM('13. Orçam. de Forn. Veic. e Maq'!F5:F7)","v":469265.28}]
["J2 - CUSTO DE EQUIPAMENTOS",{"$nulls":7},{"$f":"SUM('13. Orçam. de Forn. Veic. e Maq'!F8:F13)","v":851821.4}]
["K - CUSTO DE SERVIÇOS DE CONSULTORIA ESPECIALIZADA",{"$nulls":7},{"$f":"'4.1 Cons. Esp.'!F4","v":127812}]
["TOTAL DE OUTRAS DESPESAS",{"$nulls":7},{"$f":"SUM(I15:I24)","v":5060690.2}]
["CUSTOS INDIRETOS",{"$nulls":7},{"$f":"I27+I28+I30+I29","v":3982189}]
["R -  CUSTO DE ADMINISTRAÇÃO - (25,00% DO ITEM A)",{"$nulls":7},{"$f":"0.25*I10","v":788193.27}]
["S - REMUNERAÇÃO DA EMPRESA (LUCRO) - (10,00% DOS CUSTOS DIRETOS)",{"$nulls":7},{"$f":"0.1*(I8+I27)","v":1123728.79}]
["T - DESPESAS FISCAIS - FORNECIMENTOS (10,19% = DF' DOS ITENS D+E+I+J1+R+S)",{"$nulls":7},{"$f":"0.1019*(I16+I17+I21+I22+I27+I28)","v":478431.58}]
["U - DESPESAS FISCAIS - SERVIÇOS (16,62% = DF' DOS ITENS A+B+C+F+G+H+J2+K+R+S)",{"$nulls":7},{"$f":"0.1662*(I10+I12+I15+I18+I19+I20++I23+I24+I27+I28)","v":1591835.36}]
["TOTAL DA PROPOSTA",{"$nulls":7},{"$f":"I8+I26","v":14431283.67}]
["NOME DO INFORMANTE:",{"$nulls":6},"QUALIFICAÇÃO:"]
[]
["ASSINATURA:",{"$nulls":7},"DATA:"]
[]
["OBSERVAÇÃO:"]
["ESTE ORÇAMENTO FOI CALCULADO COM OS SEGUINTES % MÁXIMOS DE ENCARGOS SOCIAIS E CUSTOS INDIRETOS: "]
["1. ENCARGOS SOCIAIS DE AUTÔNOMOS = 20% SOBRE O SALÁRIO MENSAL"]
["2. ENCARGOS SOCIAIS DA EQUIPE COM VÍNCULO = 70,91% SOBRE O SALÁRIO MENSAL",{"$nulls":8}," "]
["3. CUSTO DE ADMINISTRAÇÃO = 25,00% SOBRE O TOTAL DE SALÁRIOS DA EQUIPE (A1 + A2)"]
["4. REMUNERAÇÃO DA EMPRESA (LUCRO) = 10,00% SOBRE OS ITENS DE CUSTOS DIRETOS + CUSTO DE ADMINISTRAÇÃO"]
["5. DF = A SOMA DOS TRIBUTOS SOBRE SERVIÇOS (EX: ISS 5,00 + PIS 1,65 + COFINS 7,60 = 14,25%)"]
["    DF' = { [ 1 / ( 1 - DF) ] - 1 } x 100"]
["    DF' = { [ 1 / ( 1 - 0,1425 ) ] - 1 } x 100"]
["    DF' = 0,1662  ou  16,62%"]
["6. DF = A SOMA DOS TRIBUTOS FORNECIMENTOS (EX: ISS 0,00 + PIS 1,65 + COFINS 7,60 = 0,0925%)"]
["    DF' = { [ 1 / ( 1 - DF) ] - 1 } x 100"]
["    DF' = { [ 1 / ( 1 - 0,0925 ) ] - 1 } x 100"]
["    DF' = 0,1019  ou 10,19%"]
["7. NÃO foram incluídos os tributos IRPJ e CSLL, em cumprimento ao Acórdão nº 325/2007 – TCU – Plenário."]

{"sheet":"1. Adm. Ger. Exec.","index":1,"n_rows":12,"n_cols":7,"rows_kept":12,"cut":false,"hidden":false,"merged":[[0,0,0,6],[1,0,1,6],[2,0,3,1],[2,2,3,2],[2,3,3,3],[2,4,3,4],[2,5,2,6],[11,0,11,6],[4,0,4,1],[5,0,5,1],[6,0,6,1],[7,0,7,1],[8,0,8,1],[9,0,9,5]]}
["PLANILHA DE ESTIMATIVA DE CUSTO ANUAL DE MÃO DE OBRA DE ADMINISTRAÇÃO DA GESTÃO DE OPERAÇÃO E MANUTENÇÃO DOS PERÍMETROS PPBR, PROD, PGLO E PJUS"]
["ADMINISTRAÇÃO E GERÊNCIA EXECUTIVA"]
["DESCRIÇÃO",null,"UNID.","QUANT.",{"$f":"NA()","v":{"$error":"#N/A"}},"PREÇOS"]
[{"$nulls":5},"UNITÁRIO","TOTAL"]
["Coordenador Geral",null,"mês",12,700,{"$f":"10800*1.1","v":11880},{"$f":"F5*D5","v":142560}]
["Gerente Executivo",null,"mês",36,700,10800,{"$f":"F6*D6","v":388800}]
["Técnico Agrícola (Apoio à Produção)",null,"mês",84,null,{"$f":"2711.1*1.3","v":3524.43},{"$f":"F7*D7","v":296052.12}]
["Auxiliar Administrativo",null,"mês",48,null,1550,{"$f":"F8*D8","v":74400}]
["Auxiliar de Serviços Gerais",null,"mês",48,1000,1320,{"$f":"F9*D9","v":63360}]
["TOTAL",{"$nulls":5},{"$f":"SUM(G5:G9)","v":965172.12}]
["MEMÓRIA DESCRITIVA"]
["1 - Os salários atribuídos às diferentes categorias profissionais tem como base o ACORDO COLETIVO DE TRABALHO 2021/2022 e CONVENÇÃO COLETIVA DE TRABALHO 2021/2022 com o SIND EMPREG EMPRESAS DE ASSES PER INF PESQ EST DA BAHIA;\n2 - Para o Técnico Agrícola de Apoio à Produção incidirá Periculosidade de 30% por se tratar de profissional que utiliza motocicleta."]

{"sheet":"2.Serv. Vig","index":2,"n_rows":7,"n_cols":8,"rows_kept":7,"cut":false,"hidden":false,"merged":[[0,0,1,7],[2,0,2,7],[3,0,4,1],[3,2,4,2],[3,3,4,3],[3,4,4,4],[3,5,4,5],[3,6,3,7],[17,0,17,1],[5,0,5,1],[6,0,6,6],[9,0,9,10],[10,0,11,1],[10,2,11,2],[10,3,11,3],[10,4,10,9],[10,10,11,10],[12,0,12,1],[13,0,13,1],[14,0,14,1],[15,0,15,1],[16,0,16,1],[18,0,18,1],[19,0,19,1],[20,0,20,1],[21,0,21,1],[22,0,22,1]]}
[" PLANILHA ESTIMATIVA DE CUSTOS E FORMAÇÃO DE PREÇOS DE SERVIÇO DE VIGIA"]
[]
["Serviço de Vigia Desarmado nos Centros Administrativos (C.A.)"]
["DESCRIÇÃO",null,"UNID","QUANT  ","Salário (R$)         ","Adicionais (R$)                  ","VALORES (R$)"]
[{"$nulls":6},"UNITÁRIO        ","TOTAL"]
["Vigia do C.A.    (2 unidades/Noturno)",null,"mês",96,{"$f":"'2.1.Comp. Custo Serv Vig'!C4","v":1320},{"$f":"'2.1.Comp. Custo Serv Vig'!K4","v":771.17},{"$f":"SUM(E6:F6)","v":2091.17},{"$f":"D6*G6","v":200752.32}]
["TOTAL",{"$nulls":6},{"$f":"SUM(H6:H6)","v":200752.32}]

{"sheet":"2.1.Comp. Custo Serv Vig","index":3,"n_rows":8,"n_cols":11,"rows_kept":8,"cut":false,"hidden":false,"merged":[[0,0,0,10],[1,0,2,1],[1,2,2,2],[1,3,2,3],[1,4,1,9],[1,10,2,10],[15,0,15,1],[3,0,3,1],[4,0,4,10],[5,0,5,9],[6,0,6,10],[7,0,7,10],[8,0,9,1],[8,2,9,2],[8,3,9,3],[8,4,8,9],[8,10,9,10],[10,0,10,1],[11,0,11,1],[12,0,12,1],[13,0,13,1],[14,0,14,1],[16,0,16,1],[17,0,17,1],[18,0,18,1],[19,0,19,1],[20,0,20,1]]}
["Planilha de Composição de Custos e Formação de Preços Mensais de Vigia Desarmado dos Centros Administrativos (C.A.)"]
["DESCRIÇÃO",null,"Salario normativo","Valor da Hora (R$)","ADICIONAIS (R$)",{"$nulls":5},"Total adicionais R$"]
[{"$nulls":4},"Adicional Noturno","Ad. Noturno de 20% de 01 hora trabalhada","Intervalo intrajornada  (150% de 1,0 hora)","Hora noturna reduzida","Risco de vida","Boa            Permanência"]
["Vigia do C.A.  (Noturno)",null,1320,{"$f":"C4/220","v":6},{"$f":"D4*0.35*106.4","v":223.44},{"$f":"D4*0.2*15.2","v":18.239999999999998},{"$f":"(D4*1.5*15.2)","v":136.80000000000001},{"$f":"D4*15.2","v":91.2},{"$f":"C4*0.18","v":237.6},{"$f":"C4*0.0484","v":63.89},{"$f":"SUM(E4:J4)","v":771.17}]
["MEMÓRIA DESCRITIVA:                                               "]
["1-O salário atribuído à categoria profissional, tem como  base o ACORDO COLETIVO DE TRABALHO 2021/2022."]
["2 - Os adicionais estão em acordo com a definição da Acordo Coletivo de Trabalho 2021/2022, cujos percentuais são a seguir enumerados: adicional noturno:35% sobre hora trabalhada; adicional noturno de 20% de 01 hora trabalhada (referente ao horário de 05:00 as 06:00 h); adicional de 150% de 1,0 hora trabalhada referente ao intervalo intrajornada; risco de vida:18% do salário; adicional de boa permanência: 4,84% do salário."]
["3- Escala de trabalho: 12 x 36 horas de Segunda-feira a Domingo; foram consideradas 8,0(oito)  horas com adicional noturno (de 22:00 as 5:00), 4,0(quatro) horas normais; o horário de 05:00 as 06:00 horas recebeu adicional noturno de 20%; foi adicionado 1,0(uma) hora noturna reduzida, por cada noite de trabalho efetivo a partir das 22:00 horas.  "]

{"sheet":"3.Oper.","index":4,"n_rows":16,"n_cols":17,"rows_kept":16,"cut":false,"hidden":false,"merged":[[0,0,0,16],[1,0,1,16],[2,4,2,16],[3,0,5,1],[3,2,5,2],[3,3,5,3],[3,4,3,12],[3,13,5,13],[4,16,5,16],[3,14,5,14],[4,10,4,11],[3,15,3,16],[4,12,5,12],[4,15,5,15],[4,4,4,5],[4,6,4,7],[4,8,4,9],[6,0,6,1],[14,0,14,16],[15,0,15,16],[7,0,7,1],[8,0,8,1],[11,0,11,1],[12,14,12,15],[13,0,13,3],[13,14,13,15],[9,0,9,1],[10,0,10,1]]}
["PLANILHA DE ESTIMATIVA DE CUSTO  DE MÂO DE OBRA DE OPERAÇÃO"]
["A - MÃO DE OBRA -  OPERAÇÃO"]
[{"$nulls":4},"VALOR CONTRATUAL"]
["DESCRIÇÃO",null,"UNID.","QUANT. (A)","HORAS EXTRAS (HE)",{"$nulls":8},"Salário      R$                ( C) ","Adicionais (R$)      (D)","Valores (R$)"]
[{"$nulls":4},"Intrajornada c/ 100% ",null,"Intrajornada c/ 70% ",null,"Intrajornada c/ 60% ",null,"Intrajornada c/ 50% ",null,"(B)= (a)+(b)+         ( c)+(d) R$",null,null,"UNITÁRIO(E)= (B)+(C)+(D)","TOTAL         (F)=(A) x (E)"]
[{"$nulls":4},"Quant.","R$    (a)","Quant.","R$        (b)","Quant.","R$       (c)","Quant.","R$                 (d)"]
["Téc. Agrícola (Coordenador de Operação)",null,"un.",4,0,{"$nulls":8},{"$f":"'3.1.CPU Oper.'!B4","v":3141.22},{"$f":"'3.1.CPU Oper.'!F4","v":0},{"$f":"SUM(M7+N7+O7)","v":3141.22},{"$f":"D7*P7","v":12564.88}]
["Inspetor de Irrigação",null,"un.",5,{"$nulls":9},{"$f":"'3.1.CPU Oper.'!B5","v":1212},{"$f":"'3.1.CPU Oper.'!F5","v":363.6},{"$f":"SUM(M8+N8+O8)","v":1575.6},7878]
["Op. de Casa de Bomba (noturno) ",null,"un.",11,0,{"$nulls":8},{"$f":"'3.1.CPU Oper.'!B6","v":1320},{"$f":"'3.1.CPU Oper.'!F6","v":543.51},1863.51,20498.61]
["Operador de Bomba Sênior (diurno)",null,"un.",2,{"$f":"((365/12)/2)-13.21","v":2},{"$f":"(N10/220)*2*E10","v":29.64},0,{"$f":"N10/210*1.7*G10","v":0},"-",null,{"$f":"((365/12)/2)-E10","v":13.2},{"$f":"(N10/220)*1.5*K10","v":146.69999999999999},{"$f":"SUM(F10+H10+J10+L10)","v":176.34},{"$f":"'3.1.CPU Oper.'!B7","v":1630},{"$f":"'3.1.CPU Oper.'!F7","v":489},2295.34,4590.68]
["Operador de Bomba Sênior (noturno)",null,"un.",2,{"$f":"((365/12)/2)-13.21","v":2},{"$f":"((N11/220)*2*E11)+((N11/220)*2*E11*0.2)","v":35.56},0,0,0,null,{"$f":"((365/12)/2)-E11","v":13.2},{"$f":"((N11/220)*1.5*K11)+((N11/220)*1.5*0.2*K11)","v":176.04},{"$f":"SUM(F11+H11+J11+L11)","v":211.6},{"$f":"'3.1.CPU Oper.'!B8","v":1630},{"$f":"'3.1.CPU Oper.'!F8","v":606.6},2448.1999999999998,4896.3999999999996]
["Operador de Bomba  Junior (diurno)",null,"un.",32,{"$f":"((365/12)/2)-13.21","v":2},{"$f":"(N12/180)*2*E12","v":29.33},0,0,0,null,{"$f":"((365/12)/2)-E12","v":13.2},{"$f":"((N12/220)*1.5*K12)","v":118.8},{"$f":"SUM(F12+H12+J12+L12)","v":148.13},{"$f":"'3.1.CPU Oper.'!B9","v":1320},{"$f":"'3.1.CPU Oper.'!F9","v":396},1864.13,59652.160000000003]
[{"$nulls":14},"Total Mensal",null,{"$f":"SUM(Q7:Q12)","v":110080.73}]
["MEMÓRIA DESCRITIVA:",{"$nulls":13},"TOTAL ANUAL",null,{"$f":"12*Q13","v":1320968.76}]
["1 - Remuneração com adicional  periculosidade de 30% e hora intra-jornada para os Operadores de Estação Bombeamento; para os operadores que trabalham à noite está incluso o adicional noturno. "]
["2 - Operador de Casa de Bomba, tem adicional noturno de 20% sem hora intra-jornada, conforme  jornada semanal descrita em Especificações Técnicas."]

{"sheet":"3.1.CPU Oper.","index":5,"n_rows":12,"n_cols":8,"rows_kept":12,"cut":false,"hidden":false,"merged":[[10,0,10,7],[11,0,11,7],[0,0,0,7],[1,0,2,0],[1,1,2,1],[1,2,1,5],[1,7,2,7],[9,0,9,7]]}
["COMPOSIÇÃO DE PREÇO UNITÁRIO DE OPERAÇÃO"]
["DESCRIÇÃO","Salário Categoria","ADICIONAIS",null,null,null,"Jornada Mensal","  Horas com adicional noturno"]
[null,null,"Periculosid.","Insalubrid.","Ad. Noturno","Total","Horas"]
["Técnico Agrícola (Coordenador de Operação)",3141.22,{"$f":"B4*0","v":0},"-","-",{"$f":"C4+0","v":0},220,"-"]
["Inspetor de Irrigação",1212,{"$f":"B5*0.3","v":363.6},"-","-",{"$f":"C5+0","v":363.6},220,"-"]
["Operador de casa de Bomba (Noturno)",1320,{"$f":"B6*0.3","v":396},"-",{"$f":"H6*0.788","v":147.51},{"$f":"C6+E6","v":543.51},220,187.2]
["Operador de Bomba Sênior (Diurno)",1630,{"$f":"B7*0.3","v":489},"-","-",{"$f":"C7+0","v":489},180,"-"]
["Operador de Bomba Sênior (Noturno)",1630,{"$f":"B8*0.3","v":489},"-",{"$f":"H8*0.98","v":117.6},{"$f":"C8+E8","v":606.6},180,120]
["Operador de Bomba Junior",1320,{"$f":"B9*0.3","v":396},"-","-",{"$f":"C9+0","v":396},180,"-"]
["MEMÓRIA DESCRITIVA:"]
["1 - Os salários atribuídos às diferentes categorias profissionais tem como base o ACORDO COLETIVO DE TRABALHO 2021/2022 e CONVENÇÃO COLETIVA DE TRABALHO 2021/2022 com o SIND EMPREG EMPRESAS DE ASSES PER INF PESQ EST DA BAHIA;\n2 - O Inspetor de Irrigação incidirá Periculosidade de 30% por se tratar de profissional que utiliza motocicleta."]
["4 - Horas com adicional noturno: a) Operador de Casa de Bomba: 39 horas x 4,2 semanas x 60 min /52,5 min=187,2 hs horas/mês;   b) Operador de EBP - Noturno: 5,0 horas por turno x 60 min / 52,5 min x 15 turnos= 120 horas/ mês).   "]

{"sheet":"4.Manut. ","index":6,"n_rows":15,"n_cols":17,"rows_kept":15,"cut":false,"hidden":false,"merged":[[2,0,2,16],[0,0,0,16],[1,0,1,16],[3,0,5,1],[3,2,5,2],[3,3,5,3],[3,4,3,12],[3,13,5,13],[3,14,5,14],[3,15,3,16],[11,0,11,1],[12,0,12,1],[13,14,13,15],[14,14,14,15],[4,16,5,16],[6,0,6,1],[7,0,7,1],[8,0,8,1],[9,0,9,1],[10,0,10,1],[4,4,4,5],[4,6,4,7],[4,8,4,9],[4,10,4,11],[4,12,5,12],[4,15,5,15]]}
["PLANILHA DE ESTIMATIVA DE CUSTO MENSAL DE MÃO DE OBRA DE MANUTENÇÃO"]
["A - MÃO DE OBRA - MANUTENÇÃO"]
["VALOR CONTRATUAL"]
["DESCRIÇÃO",null,"UNID.","QUANT. (A)","HORAS EXTRAS (HE)",{"$nulls":8},"Salário           (C)              R$","Adicionais     (R$)            (D)","Valores (R$)"]
[{"$nulls":4},1,null,0.7,null,0.6,null,0.5,null,"(B)= (a)+(b)+ (c)+(d)",null,null,"UNITÁRIO (E)= (B)+( C)+(D)","TOTAL         (F)=(A) x (E)"]
[{"$nulls":4},"Quant.","R$    (a)","Quant.","R$    (b)","Quant.","R$    (c)","Quant.","R$    (d)"]
["Técnico Eletrotécnico",null,"un.",2,10,{"$f":"(N7/210*2)*E7","v":325.70999999999998},0,0,0,{"$f":"(N7/210*1.6)*I7","v":0},10,{"$f":"(N7/210*1.5)*K7","v":244.29},{"$f":"SUM(F7+H7+J7+L7)","v":570},{"$f":"'4.1.CPU Manut.'!F4","v":3420},{"$f":"'4.1.CPU Manut.'!E4","v":1026},{"$f":"SUM(M7+N7+O7)","v":5016},{"$f":"D7*P7","v":10032}]
["Auxiliar de Eletricista",null,"un.",3,10,131.43,0,0,0,0,10,98.57,230,{"$f":"'4.1.CPU Manut.'!F5","v":1380},{"$f":"'4.1.CPU Manut.'!E5","v":414},{"$f":"SUM(M8+N8+O8)","v":2024},{"$f":"D8*P8","v":6072}]
["Mecânico",null,"un.",3,10,243.81,0,0,0,0,10,182.86,426.67,{"$f":"'4.1.CPU Manut.'!F6","v":2560},{"$f":"'4.1.CPU Manut.'!E6","v":768},3754.67,11264.01]
["Auxiliar de Mecânico",null,"un.",3,10,131.43,0,0,0,0,10,98.57,230,{"$f":"'4.1.CPU Manut.'!F7","v":1380},{"$f":"'4.1.CPU Manut.'!E7","v":414},2024,6072]
["Encanador",null,"un.",3,10,169.52,0,0,0,0,10,127.14,296.66000000000003,{"$f":"'4.1.CPU Manut.'!F8","v":1780},{"$f":"'4.1.CPU Manut.'!E8","v":0},2076.66,6229.98]
["Auxilar de Encanador",null,"un.",6,10,131.43,0,0,0,0,10,98.57,230,{"$f":"'4.1.CPU Manut.'!F9","v":1380},{"$f":"'4.1.CPU Manut.'!E9","v":0},1610,9660]
["Auxilar de Serv. Gerais",null,"un.",4,10,125.71,0,0,0,0,10,94.29,220,{"$f":"'4.1.CPU Manut.'!F10","v":1320},{"$f":"'4.1.CPU Manut.'!E10","v":0},1540,6160]
[{"$nulls":14},"Total Mensal",null,{"$f":"SUM(Q7:Q13)","v":55489.99}]
[{"$nulls":14},"TOTAL ANUAL",null,{"$f":"12*Q14","v":665879.88}]

{"sheet":"4.1.CPU Manut.","index":7,"n_rows":13,"n_cols":7,"rows_kept":13,"cut":false,"hidden":false,"merged":[[11,0,11,6],[12,0,12,6],[0,0,0,6],[1,0,2,0],[1,1,1,4],[1,5,2,5],[1,6,2,6],[10,0,10,6]]}
["COMPOSIÇÃO DE PREÇO UNITÁRIO DE MANUTENÇÃO"]
["DESCRIÇÃO","ADICIONAIS",null,null,null,"Salário Contratual","Jornada"]
[null,"Periculosid.","Insalubrid.","Ad. Noturno","Total"]
["Eletrotécnico",{"$f":"F4*0.3","v":1026},{"$f":"678*0","v":0},{"$f":"F4*0","v":0},{"$f":"SUM(B4:D4)","v":1026},3420,"220 horas"]
["Auxiliar de Eletricista",{"$f":"F5*0.3","v":414},0,0,{"$f":"SUM(B5:D5)","v":414},1380,"220 horas"]
["Mecânico",{"$f":"F6*0.3","v":768},0,0,{"$f":"SUM(B6:D6)","v":768},2560,"220 horas"]
["Auxiliar de Mecânico",{"$f":"F7*0.3","v":414},0,0,{"$f":"SUM(B7:D7)","v":414},1380,"220 horas"]
["Encanador",{"$f":"F8*0","v":0},0,0,{"$f":"F8*0","v":0},1780,"220 horas"]
["Auxilar de Encanador",{"$f":"F9*0","v":0},0,0,{"$f":"F9*0","v":0},1380,"220 horas"]
["Auxilar de Serv. Gerais",{"$f":"F10*0","v":0},0,0,{"$f":"F10*0","v":0},1320,"220 horas"]
["MEMÓRIA DESCRITIVA:"]
["1 - Os salários atribuídos às diferentes categorias profissionais tem como base o ACORDO COLETIVO DE TRABALHO 2021/2022 e CONVENÇÃO COLETIVA DE TRABALHO 2021/2022 com o SIND EMPREG EMPRESAS DE ASSES PER INF PESQ EST DA BAHIA;"]
["2- Remuneração com adicional de periculosidade de 30% para Eletrotécnico, Eletricista, Auxiliar de Eletricista, Técnico em Mecânica, Mecânico, Auxiliar de Mecânico."]

{"sheet":"4.1 Cons. Esp.","index":8,"n_rows":4,"n_cols":6,"rows_kept":4,"cut":false,"hidden":false,"merged":[[3,0,3,1],[0,0,0,5],[1,0,2,1],[1,2,2,2],[1,3,2,3],[1,4,1,5]]}
["PLANILHA DE ESTIMATIVA DE CUSTO ANUAL DE CONSULTORIA ESPECIALIZADA PARA OS PERÍMETROS PPBR, PROD, PGLO E PJUS"]
["DESCRIÇÃO",null,"UNID.","QUANT.","PREÇOS"]
[{"$nulls":4},"UNITÁRIO","TOTAL"]
["Engenheiro Consultor* (SINAPI 90778)",null,"hora",1200,106.51,{"$f":"E4*D4","v":127812}]

{"sheet":"5. MobDesmob","index":9,"n_rows":56,"n_cols":8,"rows_kept":56,"cut":false,"hidden":false,"merged":[[21,0,21,1],[21,3,21,6],[0,2,0,7],[1,0,1,5],[1,6,1,7],[2,0,2,5],[3,0,3,7],[8,0,8,6],[9,0,9,7],[13,0,13,6],[14,0,14,7],[17,0,17,6],[18,0,18,7],[41,0,41,7],[22,0,22,6],[23,2,23,6],[24,4,24,6],[26,0,26,6],[27,2,27,7],[28,0,28,5],[28,6,28,7],[29,0,29,5],[30,0,30,7],[35,0,35,6],[36,0,36,7],[40,0,40,6],[51,4,51,6],[53,0,53,6],[44,0,44,6],[45,0,45,7],[48,0,48,1],[48,3,48,6],[49,0,49,6],[50,2,50,6]]}
["CODEVASF","ITEM 1.1","COMPOSIÇÃO DE PREÇO UNITÁRIO"]
["OPERAÇÃO E MANUT. DOS PERÍMETROS PPBR, PROD, PGLO E PJUS",{"$nulls":5},"DATA: Out/2021"]
["SERVIÇO : Mobilização",{"$nulls":5},"UNIDADE:","un"]
["EQUIPAMENTO"]
["DISCRIMINAÇÃO","UNIDADE","QUANT.","PROD","IMPROD","P.UNIT. PROD","P.UNIT. IMPR","P.TOTAL"]
[]
["5824 (SINAPI) - Caminhão carroceria fixa","h",{"$f":"144*2.03","v":292.32},1,null,162.5,null,{"$f":"C7*D7*F7+C7*E7*G7","v":47502}]
[]
["SUB-TOTAL",{"$nulls":6},{"$f":"SUM(H6:H7)","v":47502}]
["MATERIAL"]
["DISCRIMINAÇÃO","UNIDADE","QUANT.",null,null,null,"P.UNIT.","P.TOTAL"]
[{"$nulls":7},{"$f":"C12*G12","v":0}]
[{"$nulls":7},{"$f":"C13*G13","v":0}]
["SUB-TOTAL",{"$nulls":6},{"$f":"SUM(H12:H13)","v":0}]
["SERVIÇOS - COMPOSIÇÕES AUXILIARES"]
["DISCRIMINAÇÃO","UNIDADE","QUANT.",null,null,null,"P.UNIT.","P.TOTAL"]
[{"$nulls":7},{"$f":"C17*G17","v":0}]
["SUB-TOTAL",{"$nulls":6},{"$f":"SUM(H17:H17)","v":0}]
["MÃO DE OBRA"]
["DISCRIMINAÇÃO","UNIDADE","QUANT.",null,null,null,"P.UNIT.","P.TOTAL"]
["88316(SINAPI) - Servente","h",{"$f":"192*2.03","v":389.76},null,null,null,18.79,{"$f":"C21*G21","v":7323.59}]
[]
["SUB-TOTAL",{"$nulls":6},{"$f":"H21+H22","v":7323.59}]
[null,null,"CUSTO",{"$nulls":4},{"$f":"H23+H18+H14+H9","v":54825.59}]
["PRODUÇÃO DA EQUIPE",1,null,null,"CUSTO UNITÁRIO DO SERVIÇO",null,null,{"$f":"H24/B25","v":54825.59}]
["BDI",null,0,{"$nulls":4},{"$f":"ROUND((H25*C26),2)","v":0}]
["TOTAL DO SERVIÇO - R$",{"$nulls":6},{"$f":"ROUND((H25+H26),2)","v":54825.59}]
["CODEVASF","ITEM 1.2","COMPOSIÇÃO DE PREÇO UNITÁRIO"]
["OPERAÇÃO E MANUT. DOS PERÍMETROS PPBR, PROD, PGLO E PJUS",{"$nulls":5},"DATA: Out/2021"]
["SERVIÇO : Desmobilização",{"$nulls":5},"UNIDADE:","un"]
["EQUIPAMENTO"]
["DISCRIMINAÇÃO","UNIDADE","QUANT.","PROD","IMPROD","P.UNIT. PROD","P.UNIT. IMPR","P.TOTAL"]
[]
["5824 (SINAPI) Caminhão carroceria fixa","h",{"$f":"108*2.03","v":219.24},1,null,162.5,null,{"$f":"C34*D34*F34+C34*E34*G34","v":35626.5}]
[]
["SUB-TOTAL",{"$nulls":6},{"$f":"SUM(H33:H34)","v":35626.5}]
["MATERIAL"]
["DISCRIMINAÇÃO","UNIDADE","QUANT.",null,null,null,"P.UNIT.","P.TOTAL"]
[{"$nulls":7},{"$f":"C39*G39","v":0}]
[{"$nulls":7},{"$f":"C40*G40","v":0}]
["SUB-TOTAL",{"$nulls":6},{"$f":"SUM(H39:H40)","v":0}]
["SERVIÇOS - COMPOSIÇÕES AUXILIARES"]
["DISCRIMINAÇÃO","UNIDADE","QUANT.",null,null,null,"P.UNIT.","P.TOTAL"]
["97622 (SINAPI) Demolição de alvenaria","m3",{"$f":"72*2.03","v":146.16},null,null,null,49.67,{"$f":"C44*G44","v":7259.77}]
["SUB-TOTAL",{"$nulls":6},{"$f":"SUM(H44:H44)","v":7259.77}]
["MÃO DE OBRA"]
["DISCRIMINAÇÃO","UNIDADE","QUANT.",null,null,null,"P.UNIT.","P.TOTAL"]
["88316(SINAPI) - Servente","h",{"$f":"96*2.03","v":194.88},null,null,null,18.79,{"$f":"C48*G48","v":3661.8}]
[]
["SUB-TOTAL",{"$nulls":6},{"$f":"H48+H49","v":3661.8}]
[null,null,"CUSTO",{"$nulls":4},{"$f":"H50+H45+H41+H36","v":46548.07}]
["PRODUÇÃO DA EQUIPE",1,null,null,"CUSTO UNITÁRIO DO SERVIÇO",null,null,{"$f":"H51/B52","v":46548.07}]
["BDI",null,0,{"$nulls":4},{"$f":"ROUND((H52*C53),2)","v":0}]
["TOTAL DO SERVIÇO - R$",{"$nulls":6},{"$f":"ROUND((H52+H53),2)","v":46548.07}]
[]
[{"$nulls":6},"TOTAL",{"$f":"H54+H27","v":101373.66}]

{"sheet":"6.Móv. escrit.","index":10,"n_rows":11,"n_cols":5,"rows_kept":11,"cut":false,"hidden":false,"merged":[[10,0,11,4],[0,0,1,4],[2,0,3,0],[2,1,3,1],[2,2,3,2],[9,0,9,3]]}
["MÓVEIS, MÁQUINAS E EQUIPAMENTOS DE ESCRITÓRIO"]
[]
["ITEM","DESCRIÇÃO","QUANT.","VALOR","VALOR"]
[null,null,null,"UNIT. (R$)","TOTAL (R$)"]
[1,"Bebedouro elétrico de coluna p/ garrafão 20 litros",4,567.15,{"$f":"C5*D5","v":2268.6}]
[2,"Computador Desktop completo Intel Core i7 8GB SSD 240GB Monitor LED 19.5\"",8,2837.99,{"$f":"C6*D6","v":22703.919999999998}]
[3,"Notebook Intel Core I7, 8 GB SSD",1,3869.1,{"$f":"C7*D7","v":3869.1}]
[4,"Notebook Intel Core I7, 8 GB SSD (Fiscalização)",1,3869.1,{"$f":"C8*D8","v":3869.1}]
[5,"Kit Vigilância CFTV, câmeras infra DVR 8 canais, acesso remoto",16,1662.52,{"$f":"C9*D9","v":26600.32}]
["TOTAL",null,null,null,{"$f":"SUM(E5:E9)","v":59311.040000000001}]
["Obs. Todos os itens relacionados serão, após a colocação nos Perímetros, transferidos para o patrimônio da Codevasf."]

{"sheet":"7. Inst. e Ferram.","index":11,"n_rows":83,"n_cols":6,"rows_kept":83,"cut":false,"hidden":false,"merged":[[81,0,81,4],[82,3,82,4],[0,0,1,5],[2,0,3,0],[2,1,3,1],[2,2,3,2],[2,3,3,3],[2,4,2,5]]}
[" VALOR ANUAL DE FERRAMENTAL, INSTRUMENTAÇÃO E EQUIPAMENTOS DE OFICINA"]
[]
["ITEM","DESCRIÇÃO","UNID.","QUANT.","PREÇO R$"]
[{"$nulls":4},"UNIT.","TOTAL"]
[1,"Alicate amperímetro 1000 amperes AC/DC","un",4,289.89999999999998,{"$f":"D5*E5","v":1159.5999999999999}]
[2,"Aferidor de manômetro de 0 a 150 bar","un",1,1344.37,1344.37]
[3,"Alavanca","un",4,132.47999999999999,529.91999999999996]
[5,"Alicate de pressão","un",4,32.25,129]
[6,"Aquecedor indutivo TIH 030M/230V","un",2,12039.55,24079.1]
[7,"Aspirador de pó capac. 20 l","un",4,368.53,1474.12]
[8,"Bainha para tesoura de poda","un",4,20.9,83.6]
[9,"Balde de 12L","un",12,5.5,66]
[10,"Bancada com injetor de corrente","un",4,723.7,2894.8]
[11,"Bancada para oficina - 1,2 x 2,5 m","un",4,1216.47,4865.88]
[12,"Base Magnética p/ relógio comparador","un",4,155.99,623.96]
[13,"Bastão de Manobra - 6 m","un",4,548.5,2194]
[14,"Bomba com motor a gasolina, auto-escorvante, 3,5 hp ","un",4,1338.89,5355.56]
[15,"Bomba de graxa 5kg","un",4,187.88,751.52]
[16,"Cabo para chibanca e picareta","un",12,10.99,131.88]
[17,"Cabo para enxada","un",12,13.49,161.88]
[18,"Cabo para rastelo","un",12,14.72,176.64]
[19,"Calibrador de folgas de 0,03 mm - 0,50 mm","un",4,45.9,183.6]
[20,"Canivete para enxertia","un",8,43.51,348.08]
[21,"Carro de Mão","un",4,150,600]
[22,"Chibanca","un",4,39.89,159.56]
[23,"Compressor de ar de 100 l, - 9,30 Kgf / cm²","un",3,2000,6000]
[24,"Condutivímetro","un",4,341,1364]
[25,"Conjunto de chaves básicas para eletricista","un",4,525.9,2103.6]
[26,"Conjunto de chaves básicas para mecânico","un",4,138,552]
[27,"Conjunto ferramentas básicas para encanador","un",4,422.9,1691.6]
[28,"Eletrodo de CuSO4 (Proteção Catódica)","un",4,24.76,99.04]
[29,"Enxada","un",8,24,192]
[32,"Escada metálica de 05 degraus","un",4,145.83000000000001,583.32000000000005]
[33,"Escada metálica de 12 degraus","un",4,390.51,1562.04]
[34,"Escada para eletricista","un",4,214.94,859.76]
[35,"Estetoscópio Kent","un",4,23.12,92.48]
[36,"Foice","un",4,15,60]
[37,"Fumigador p/ apicultura","un",4,120,480]
[38,"Furadeira de bancada - Prof.110mm - 1/2 cv - mandril 5/8\"","un",4,1029,4116]
[39,"Furadeira Manual 650W 1050-1450 RPM 220V Ø 13mm","un",4,230,920]
[40,"Indutor elétr. para aquecimento de rolamentos (JM 50D)","un",2,14149.4,{"$f":"D41*E41","v":28298.799999999999}]
[41,"Kit Maçarico","un",2,2799.9,5599.8]
[42,"Lixadeira Manual p/ disco de 7\"","un",4,385,1540]
[43,"Lupa de bolso, 25 x aumento","un",8,22.41,{"$f":"D44*E44","v":179.28}]
[44,"Macaco tipo elevador capacidade de 2 t","un",4,1169.9000000000001,4679.6000000000004]
[45,"00037459 (SINAPI) MANGUEIRA CRISTAL, LISA, PVC TRANSPARENTE, 3/4\" X 2 MM","m",140,6.53,{"$f":"D46*E46","v":914.2}]
[46,"Máquina de solda de 250A - Com Kit","un",4,1900.79,7603.16]
[47,"Marreta 2Kg","un",4,29.89,119.56]
[48,"Medidor/Analisador de vibrações, visor cristal liquido 2 linhas x 8 caracteres, leitura simultânea, velocidade e aceleração, acelerômetro piezoelétrico, bateria de cádimo recaregável, saída para interface FFP e PC, sintonia de frequencia, software aplicativo para instalação em PC.","un",2,4608.12,9216.24]
[49,"Megômetro eletrônico Tensão de teste até 5 kV","un",3,3174,9522]
[50,"Micrômetro externo 0 - 100 mm","un",3,1284.01,3852.03]
[51,"Micrômetro interno 50 - 800mm","un",2,3587.99,7175.98]
[52,"Morsa p/ bancada nº 08","un",4,324,1296]
[53,"Motoesmeril de 1cv - 3.500 RPM","un",4,1119,4476]
[54,"Multiteste escala de 0 - 1000 VCA ( 79/26 ) Cat. 3","un",4,321.7,1286.8]
[55,"Navegador GPS","un",4,1240,4960]
[56,"Nível c/ bolha ajustável de inclinação, bolha fixa e prumo - 250 mm","un",2,1283.8900000000001,2567.7800000000002]
[57,"Pá","un",4,13.5,54]
[58,"Pá de bico com cabo","un",8,15,120]
[59,"Paquímetro Digital 0-150mm/0,01mm","un",3,161,483]
[60,"Paquímetro universal 0 - 650mm/0,02mm","un",2,133.12,266.24]
[61,"Picareta","un",8,39,312]
[62,"Pistolas P/ Pintura","un",4,22,88]
[63,"Pulverizador costal 20 l","un",4,155,620]
[64,"Guindaste girafa de 2 t para oficina","un",4,3619.74,14478.96]
[65,"Rádio Estação repetidora","un",2,6700,13400]
[66,"Rádio retransmissor (base fixa)","un",4,1699.99,6799.96]
[67,"Rádio retransmissor (base móvel)","un",4,1380,5520]
[68,"Rádio retransmissor (portátil) PRO-3150 ou equivalente","un",8,2270,18160]
[69,"Rastelo","un",8,11.67,93.36]
[70,"Rastelo (ancinho)12 dentes","un",8,16.989999999999998,135.91999999999999]
[71,"Relógio Comparador 0-10/0,01mm","un",2,112.9,225.8]
[72,"Serrote de poda, lâmina de 12 \"","un",8,22.5,180]
[73,"Tacômetro digital 0,1 - 1,0 RPM DT - 2234 A ou equivalente","un",4,1296.75,5187]
[74,"Talha capacidade 3 Ton.","un",2,966,1932]
[75,"Tensiômetro (Conjunto) com vacuômetro de cápsula porosa em cerâmica e vacuômetro com caixa de aço inoxidável","un",4,122.4,489.6]
[76,"Termômetro mira laser escala de -20 a 500ºc","un",4,57.99,231.96]
[77,"Tesoura de poda profissional com bainha","un",8,70.900000000000006,567.20000000000005]
[79,"Torquimetro c/ relógio 4506 - R350 0 047 260 OF ou equivalente","un",3,1004.8,3014.4]
[80,"Torquímetro de estalo 50 - 400 Nm","un",3,1288.9000000000001,3866.7]
[81,"Trado","un",4,62.9,251.6]
["TOTAL ",{"$nulls":4},{"$f":"SUM(F5:F81)","v":237753.84}]
[null,null,null,"Valor Anual",null,{"$f":"F82","v":237753.84}]

{"sheet":"8.Mat. cons.","index":12,"n_rows":86,"n_cols":6,"rows_kept":86,"cut":false,"hidden":false,"merged":[[73,0,73,4],[74,3,74,4],[76,2,76,3],[0,0,1,5],[2,0,3,0],[2,1,3,1],[2,2,3,2],[2,3,3,3],[2,4,2,5]]}
["PLANILHA DE ORÇAMENTO ANUAL DE MATERIAIS DE CONSUMO"]
[]
["ITEM","DESCRIÇÃO","UNID.","QUANT.","PREÇO R$"]
[{"$nulls":4},"UNIT.","TOTAL"]
[1,"Açúcar","kg",400,2.97,{"$f":"D5*E5","v":1188}]
[2,"Água Mineral (20 litros)","garrafão",400,4.41,1764]
[3,"Água Sanitária 1000 ml","un",360,0.95,342]
[4,"Álcool 500ml","un",140,3.84,537.6]
[5,"Bateria de 1,5Vcc (pequena)","un",48,0.44,21.12]
[6,"Bom Ar","un",96,6.4,614.4]
[7,"Borracha","un",40,0.13,5.2]
[8,"Caderno de anotações","un",24,1,24]
[9,"Café torrado e moído (500g)","um",400,5,2000]
[10,"Caneta esfereográfica Azul","un",200,23,4600]
[11,"Capa para encadernação Azul","un",300,0.35,105]
[12,"Capa para encadernação Transparente","un",300,0.35,105]
[13,"Cartucho colorido para impressora","un",60,41.74,2504.4]
[14,"Cartucho preto para impressora ","un",60,41.74,2504.4]
[15,"CD RW","un",120,2.9,348]
[16,"Cera líquida 1000 ml","un",80,3.2,256]
[17,"Cesto de lixo","un",40,1.79,71.599999999999994]
[18,"Classificador elástico","un",73,0.79,57.67]
[19,"Clips nº 00","cx",16,0.24,3.84]
[20,"Clips nº 02","cx",18,0.6,10.8]
[21,"Clips nº 04","cx",12,0.9,10.8]
[22,"Clips nº 06","cx",12,1,12]
[23,"Clips nº 08","cx",12,2.23,26.76]
[24,"Cola bastão","un",20,0.48,9.6]
[25,"Cola do tipo líquida","un",20,0.05,1]
[26,"Copo descartável 200 ml","Cento",1440,1.2,1728]
[27,"Copo descartável 50 ml","Cento",1440,0.9,1296]
[28,"Corretivo a base d'agua 18 ml","un",24,0.78,18.72]
[29,"Desinfetante","un",200,1.3,260]
[30,"Detergente 500ml","un",120,0.99,118.8]
[31,"Envelope de papel tamanho grande - 40 cm","un",240,0.21,50.4]
[32,"Envelope de papel tamanho médio - 35 cm","un",240,0.11,26.4]
[33,"Envelope de papel tamanho pequeno - 30 cm","un",240,0.11,26.4]
[34,"Espanador","un",20,8.5,170]
[35,"Espiral 7mm","un",200,6.5,1300]
[36,"Espiral 9mm","un",100,0.2,20]
[37,"Esponja de prato","un",120,0.2,24]
[38,"Estilete","un",20,0.7,14]
[39,"Fita adesiva (estreita tipo durex)","un",20,0.42,8.4]
[40,"Fita adesiva transparente (larga)","un",30,2.1,63]
[41,"Fita Crepe branca 45mm x 50m","un",40,3.1,124]
[42,"Flanela","un",80,1.2,96]
[43,"Grampo 26/6","cx",24,3.15,75.599999999999994]
[44,"Grampo tipo trilho ","cx",20,3.91,78.2]
[45,"Lápis grafite","dz",16,0.13,2.08]
[46,"Livro de ata com 100 páginas numeradas","un",2,8.99,17.98]
[47,"Livro de ocorrência 50 páginas (três vias)","un",46,0.39,17.940000000000001]
[48,"Marca texto","un",20,0.75,15]
[49,"Mina grafite 05mm c 12 unidades","um",16,0.7,11.2]
[50,"Mina grafite 07mm c 12 unidades","cx",16,0.75,12]
[51,"Multi inseticida","un",24,5.3,127.2]
[52,"Pacote de lã de aço 60 g","un",200,0.52,104]
[53,"Pano de chão","un",300,1.45,435]
[54,"Pano de prato","un",60,1,60]
[55,"Papel toalha","un",200,3.29,658]
[56,"Pasta arquivo","un",80,0.8,64]
[57,"Pasta suspensa","un",160,1.72,275.2]
[58,"Pastilha sanitária","un",360,1,360]
[59,"Polidor de alumínio","un",72,1.19,85.68]
[60,"Refil para filtro de bebedouro industrial","un",6,25.9,155.4]
[61,"Régua 30 cm","un",9,0.48,4.32]
[62,"Resma papel A4","resma",80,8,640]
[63,"Rolo de papel higiênico","rolo",2400,0.37,888]
[64,"Sabão em pó 500g","un",314,1.1399999999999999,357.96]
[65,"Sabonetes 90 g","un",100,0.2,20]
[66,"Saco de lixo 30 kg","pç",240,0.13,31.2]
[67,"Saco de lixo 100 kg","pç",120,0.22,26.4]
[68,"Super Bond","un",24,0.73,17.52]
[69,"Tinta para carimbo","un",12,2.89,34.68]
[{"$nulls":5},{"$f":"SUM(F5:F73)","v":27041.87}]
[null,null,null,"Valor Anual",null,{"$f":"F74","v":27041.87}]
{"$rows_empty":10}
[{"$nulls":5},{"$f":"12*24","v":288}]

{"sheet":"9. Adm. Loc","index":13,"n_rows":17,"n_cols":5,"rows_kept":17,"cut":false,"hidden":false,"merged":[[14,0,14,3],[15,0,15,3],[0,0,0,4],[1,0,1,4],[4,0,4,3],[5,0,5,4],[9,0,9,3],[10,0,10,4]]}
["PLANILHA ESTIMATIVA DE CUSTOS DE ADMINISTRAÇÃO LOCAL "]
["  CUSTOS DE ADMINISTRAÇÃO LOCAL: VIAGENS/ MÊS"]
["Descrição","UNID","QUANT.","VALOR UNIT.","VALOR TOTAL R$"]
["Diárias","Unid",4,120,{"$f":"C4*D4","v":480}]
["Sub-total",null,null,null,{"$f":"SUM(E4:E4)","v":480}]
["  CUSTOS DE ADMINISTRAÇÃO LOCAL: ESCRITÓRIO/MÊS"]
["Descrição","UNID","QUANT.","VALOR UNIT.","VALOR TOTAL R$"]
["Telefone celular","un.",1,{"$f":"100*4*1.2503","v":500.12},{"$f":"C8*D8","v":500.12}]
["Internet","un.",1,{"$f":"150*4*1.2503","v":750.18},{"$f":"C9*D9","v":750.18}]
["Sub-total",null,null,null,{"$f":"SUM(E8:E9)","v":1250.3}]
[" CUSTOS DE ADMINISTRAÇÃO LOCAL: VALE ALIMENTAÇÃO E EXAMES ADMISSIONAIS/MÊS"]
["Descrição","UNID","QUANT.","VALOR UNIT.","VALOR TOTAL R$"]
["Vale Alimentação","un.",{"$f":"C14/2","v":107},665.5,{"$f":"C13*D13","v":71208.5}]
["Exames Admissionais, Demissionais e períodicos","un.",{"$f":"'14.Quant Pess.'!G30*2","v":214},31.26,{"$f":"(C14*D14)/12","v":557.47}]
["Sub-total",null,null,null,{"$f":"E14/12+E13","v":71254.960000000006}]
["TOTAL GERAL MENSAL",null,null,null,{"$f":"E5+E10+E15","v":72985.259999999995}]
["TOTAL Anual",null,12,"-",{"$f":"C17*E16","v":875823.12}]

{"sheet":"10.Man. subest. ","index":14,"n_rows":15,"n_cols":6,"rows_kept":15,"cut":false,"hidden":false,"merged":[[3,6,3,11],[13,0,13,4],[14,0,15,5],[0,0,0,5],[1,0,2,0],[1,1,2,1],[1,2,2,2],[1,3,2,3],[1,4,1,5]]}
["PLANILHA ESTIMATIVA SEMESTRAL DE MANUTENÇÃO DAS SUBESTAÇÕES  ELÉTRICAS"]
["ITEM","DESCRIÇÃO  ","UNID","QUANT.","VALOR R$ (C/ BDI)"]
[{"$nulls":4},"UNIT.","TOTAL"]
[1,"Coleta, análise físico-química e cromatográfica do óleo dos transformadores de 5000kVA","unid.",14,{"$f":"'10.1.CPU subest.'!H20","v":189.1},{"$f":"ROUND(E4*D4,2)","v":2647.4}]
[2,"Manutenção de disjuntores a vácuo","unid.",34,{"$f":"'10.1.CPU subest.'!H33","v":893.28},30371.52]
[3,"Manutenção de disjuntores PVO (pequeno volume de óleo)","unid.",12,{"$f":"'10.1.CPU subest.'!H64","v":723.71},8684.52]
[4,"Manutenção periódica de transformadores monofásicos de 5 kVA - daS EB's/RC","unid.",24,{"$f":"'10.1.CPU subest.'!H94","v":1059.49},25427.759999999998]
[5,"Manutenção periódica de transformadores da de 45 kVA - da EBP e EB's/RC","unid.",5,{"$f":"'10.1.CPU subest.'!H94","v":1059.49},5297.45]
[6,"Manutenção periódica de transformadores da de 75 kVA - das EB's/RC","unid.",20,{"$f":"'10.1.CPU subest.'!H94","v":1059.49},21189.8]
[7,"Manutenção periódica de transformadores da de 5.000 kVA - da EBP","unid.",9,{"$f":"'10.1.CPU subest.'!H124","v":1753.68},15783.12]
[8,"Recondicionamento completo de transformadores de 5 kVA ","unid.",2,{"$f":"'10.1.CPU subest.'!H144","v":582.76},1165.52]
[9,"Recondicionamento completo de transformadores de 45 kVA ","unid.",1,{"$f":"'10.1.CPU subest.'!H154","v":1165.52},1165.52]
[10,"Recondicionamento completo de transformadores de 75 kVA ","unid.",6,{"$f":"'10.1.CPU subest.'!H164","v":2913.79},17482.740000000002]
["TOTAL",{"$nulls":4},{"$f":"ROUND(SUM(F4:F13),2)","v":129215.35}]
["Obeservação:Distrtibuição de Transformadores: a) EBP-01: 02 unidades de 5000kVA e 01 unidade de 45 kVA; b) EBs: 59 unidades de 75 kVA, 17 unidades de 45 kVA e 21 unidades monofásicas de 5kVA."]

{"sheet":"10.1.CPU subest.","index":15,"n_rows":164,"n_cols":8,"rows_kept":164,"cut":false,"hidden":false,"merged":[[7,0,7,6],[0,0,0,7],[1,0,1,5],[1,6,1,7],[2,0,2,5],[3,0,3,7],[29,2,29,6],[8,0,8,7],[14,0,14,6],[16,2,16,6],[17,0,17,6],[18,2,18,6],[19,0,19,6],[20,0,20,5],[20,6,20,7],[21,0,21,5],[22,0,22,7],[27,0,27,6],[30,0,30,6],[31,2,31,6],[32,0,32,6],[33,0,33,7],[34,0,34,5],[34,6,34,7],[64,0,64,7],[35,0,35,5],[36,0,36,7],[45,0,45,6],[46,0,46,7],[51,0,51,6],[52,0,52,7],[58,0,58,6],[60,2,60,6],[61,0,61,6],[62,2,62,6],[63,0,63,6],[92,2,92,6],[93,0,93,6],[94,0,94,7],[95,0,95,5],[65,0,65,5],[65,6,65,7],[66,0,66,5],[67,0,67,7],[76,0,76,6],[77,0,77,7],[81,0,81,6],[82,0,82,7],[88,0,88,6],[90,2,90,6],[91,0,91,6],[95,6,95,7],[96,0,96,5],[120,2,120,6],[121,0,121,6],[122,2,122,6],[106,0,106,6],[97,0,97,7],[107,0,107,7],[111,0,111,6],[112,0,112,7],[118,0,118,6],[123,0,123,6],[140,0,140,6],[125,6,125,7],[126,0,126,5],[127,0,127,7],[130,0,130,6],[131,0,131,6],[135,0,135,5],[135,6,135,7],[136,0,136,5],[137,0,137,7],[134,0,134,7],[132,2,132,6],[161,0,161,6],[162,2,162,6],[141,0,141,6],[133,0,133,6],[124,0,124,7],[125,0,125,5],[163,0,163,6],[156,0,156,5],[155,6,155,7],[142,2,142,6],[143,0,143,6],[145,0,145,5],[150,0,150,6],[151,0,151,6],[152,2,152,6],[153,0,153,6],[155,0,155,5],[145,6,145,7],[146,0,146,5],[147,0,147,7],[157,0,157,7],[160,0,160,6]]}
["PLANILHA DE COMPOSIÇÃO DE PREÇO UNITÁRIO DE SUBESTAÇÃO"]
["2.6.1.1 GESTÃO DE OPERAÇÃO E MANUTENÇÃO",{"$nulls":5},"DATA: Outubro/2021"]
["SERVIÇO: Coleta e análise físico-química e cromatográfica do óleo dos transformadores",{"$nulls":5},"UNIDADE:","un"]
["MATERIAL"]
["DESCRIÇÃO","UNIDADE","QUANT.",null,null,null,"P.UNIT.","P.TOTAL"]
["Frasco de vidro âmbar 1 litro","un",1,null,null,null,8.2100000000000009,{"$f":"ROUND((G6*C6),2)","v":8.2100000000000009}]
[]
["SUB-TOTAL",{"$nulls":6},{"$f":"SUM(H6:H7)","v":8.2100000000000009}]
["MÃO DE OBRA"]
["DESCRIÇÃO","UNIDADE","QUANT.",null,null,null,"P.UNIT.","P.TOTAL"]
["Engenheiro químico – Profissional Médio","h",1,null,null,null,{"$f":"56.38*1.2503","v":70.489999999999995},{"$f":"ROUND((C11*G11),2)","v":70.489999999999995}]
["00007153 (SINAPI) - Técnico em Laboratório e Campo de Construção Civil","h",1,null,null,null,35.96,{"$f":"ROUND((C12*G12),2)","v":35.96}]
["00002438 (SINAPI) -  Eletrotécnico","h",2,null,null,null,24.14,{"$f":"ROUND((C13*G13),2)","v":48.28}]
["00000247 (SINAPI) - Ajudante de Eletricista","h",2,null,null,null,13.08,{"$f":"ROUND((C14*G14),2)","v":26.16}]
["SUB-TOTAL",{"$nulls":6},{"$f":"SUM(H11:H14)","v":180.89}]
["Encargos Sociais",0,{"$nulls":5},{"$f":"B16*H15","v":0}]
["PRODUÇÃO DA EQUIPE",1,"CUSTO",{"$nulls":4},{"$f":"H15+H8+H16","v":189.1}]
["CUSTO UNITÁRIO DO SERVIÇO",{"$nulls":6},{"$f":"H17/B17","v":189.1}]
["BDI",0,{"$nulls":5},{"$f":"ROUND((H18*B19),2)","v":0}]
["TOTAL DO SERVIÇO - R$",{"$nulls":6},{"$f":"ROUND((H18+H19),2)","v":189.1}]
["2.6.1.2 GESTÃO DE OPERAÇÃO E MANUTENÇÃO",{"$nulls":5},"DATA: Outubro/2021"]
["SERVIÇO: Manutenção de disjuntores a vácuo",{"$nulls":5},"UNIDADE:","un"]
["MÃO DE OBRA"]
["DESCRIÇÃO","UNIDADE","QUANT.",null,null,null,"P.UNIT.","P.TOTAL"]
["00002438 (SINAPI) -  Eletrotécnico","h",16,null,null,null,24.14,{"$f":"ROUND((C25*G25),2)","v":386.24}]
["00002436 (SINAPI) -  Eletricista","h",16,null,null,null,18.61,{"$f":"ROUND((C26*G26),2)","v":297.76}]
["00000247 (SINAPI) - Ajudante de Eletricista","h",16,null,null,null,13.08,{"$f":"ROUND((C27*G27),2)","v":209.28}]
["SUB-TOTAL",{"$nulls":6},{"$f":"SUM(H25:H27)","v":893.28}]
["Encargos Sociais",0,{"$nulls":5},{"$f":"B29*H28","v":0}]
["PRODUÇÃO DA EQUIPE",1,"CUSTO",{"$nulls":4},{"$f":"H28+H29","v":893.28}]
["CUSTO UNITÁRIO DO SERVIÇO",{"$nulls":6},{"$f":"H30/B30","v":893.28}]
["BDI",0,{"$nulls":5},{"$f":"ROUND((H31*B32),2)","v":0}]
["TOTAL DO SERVIÇO - R$",{"$nulls":6},{"$f":"ROUND((H31+H32),2)","v":893.28}]
[]
["2.6.1.3 GESTÃO DE OPERAÇÃO E MANUTENÇÃO PARA O PERÍMETRO IRRIGADO PEDRA BRANCA",{"$nulls":5},{"$f":"G2","v":"DATA: Outubro/2021"}]
["SERVIÇO: Manutenção de disjuntores PVO (pequeno volume de óleo)",{"$nulls":5},"UNIDADE:","un"]
["EQUIPAMENTO"]
["DESCRIÇÃO","UNIDADE","QUANT.",null,null,null,"P.UNIT.","P.TOTAL"]
["Compressor de ar - CHP","h",1]
["Compressor de Ar, Vazão De 10 PCM, Reservatório 100 L, Pressão de Trabalho entre 6,9 e 9,7 BAR, Potência 2 HP, Tensão 110/220 V (COTAÇÃO)","UNIDADE",1,null,null,null,2141.4," - "]
["Compressor de Ar, Vazão De 10 PCM, Reservatório 100 L, Pressão de Trabalho entre 6,9 e 9,7 BAR, Potência 2 HP, Tensão 110/220 V - Depreciação. Af_05/2017","h",5.3000000000000001E-5,null,null,null," - ",{"$f":"C41*G40","v":0.11}]
["Compressor de Ar, Vazão De 10 PCM, Reservatório 100 L, Pressão de Trabalho entre 6,9 e 9,7 BAR, Potência 2 HP, Tensão 110/220 V - Juros. Af_05/2017","h",7.9999999999999996E-6,null,null,null," - ",{"$f":"C42*G40","v":0.02}]
["Compressor de Ar, Vazão De 10 PCM, Reservatório 100 L, Pressão de Trabalho entre 6,9 e 9,7 BAR, Potência 2 HP, Tensão 110/220 V - Manutenção. Af_05/2017","h",6.7000000000000002E-5,null,null,null," - ",{"$f":"C43*G40","v":0.14000000000000001}]
["Compressor de Ar, Vazão De 10 PCM, Reservatório 100 L, Pressão de Trabalho entre 6,9 e 9,7 BAR, Potência 2 HP, Tensão 110/220 V - Materiais na Operação. Af_05/2017","h",1,null,null,null," -",{"$f":"C44*H45","v":1.1299999999999999}]
["2705 (SINAPI) Energia Elétrica até 2000 KW/H Industrial, Sem Demanda","KW/H",1.27,null,null,null,0.89,{"$f":"C45*G45","v":1.1299999999999999}]
["SUB-TOTAL",{"$nulls":6},{"$f":"SUM(H41,H42,H43,H44)","v":1.4}]
["MATERIAL"]
["DESCRIÇÃO","UNIDADE","QUANT.",null,null,null,"P.UNIT.","P.TOTAL"]
["00003768 (SINAPI) Lixa para ferro","und",5,null,null,null,2.4500000000000002,{"$f":"ROUND((C49*G49),2)","v":12.25}]
["00007293 (SINAPI) Tinta alumínio esmalte protetora superfícies metálica","l",0.25,null,null,null,32.799999999999997,{"$f":"ROUND((C50*G50),2)","v":8.1999999999999993}]
["Óleo isolante","l",10,null,null,null,21.8,{"$f":"ROUND((C51*G51),2)","v":218}]
["SUB-TOTAL",{"$nulls":6},{"$f":"SUM(H49:H51)","v":238.45}]
["MÃO DE OBRA"]
["DESCRIÇÃO","UNIDADE","QUANT.",null,null,null,"P.UNIT.","P.TOTAL"]
["00002438 (SINAPI)  Eletrotécnico","h",8,null,null,null,24.14,{"$f":"ROUND((C55*G55),2)","v":193.12}]
["00002436 (SINAPI) Eletricista","h",8,null,null,null,18.61,{"$f":"ROUND((C56*G56),2)","v":148.88}]
["00000247 (SINAPI) - Ajudante de Eletricista","h",8,null,null,null,13.08,{"$f":"ROUND((C57*G57),2)","v":104.64}]
["00004783 (SINAPI) - Pintor","h",2,null,null,null,18.61,{"$f":"ROUND((C58*G58),2)","v":37.22}]
["SUB-TOTAL",{"$nulls":6},{"$f":"SUM(H55:H58)","v":483.86}]
["Encargos Sociais",0,{"$nulls":5},{"$f":"B60*H59","v":0}]
["PRODUÇÃO DA EQUIPE",1,"CUSTO",{"$nulls":4},{"$f":"H46+H52+H59+H60","v":723.71}]
["CUSTO UNITÁRIO DO SERVIÇO",{"$nulls":6},{"$f":"H61/B61","v":723.71}]
["BDI",0,{"$nulls":5},{"$f":"ROUND((H62*B63),2)","v":0}]
["TOTAL DO SERVIÇO - R$",{"$nulls":6},{"$f":"ROUND((H62+H63),2)","v":723.71}]
[]
["2.6.1.4 GESTÃO DE OPERAÇÃO E MANUTENÇÃO",{"$nulls":5},"DATA: Outubro/2021"]
["SERVIÇO: Manutenção de transformadores de 5kVA, 45 kVA e 75 kVA",{"$nulls":5},"UNIDADE:","un"]
["EQUIPAMENTO"]
["DESCRIÇÃO","UNIDADE","QUANT.",null,null,null,"P.UNIT.","P.TOTAL"]
["Compressor de ar - CHP","h",1]
["Compressor de Ar, Vazão De 10 PCM, Reservatório 100 L, Pressão de Trabalho entre 6,9 e 9,7 BAR, Potência 2 HP, Tensão 110/220 V (COTAÇÃO)","UNIDADE",1,null,null,null,2141.4," - "]
["Compressor de Ar, Vazão De 10 PCM, Reservatório 100 L, Pressão de Trabalho entre 6,9 e 9,7 BAR, Potência 2 HP, Tensão 110/220 V - Depreciação. Af_05/2017","h",5.3000000000000001E-5,null,null,null," - ",{"$f":"C72*G71","v":0.11}]
["Compressor de Ar, Vazão De 10 PCM, Reservatório 100 L, Pressão de Trabalho entre 6,9 e 9,7 BAR, Potência 2 HP, Tensão 110/220 V - Juros. Af_05/2017","h",7.9999999999999996E-6,null,null,null," - ",{"$f":"C73*G71","v":0.02}]
["Compressor de Ar, Vazão De 10 PCM, Reservatório 100 L, Pressão de Trabalho entre 6,9 e 9,7 BAR, Potência 2 HP, Tensão 110/220 V - Manutenção. Af_05/2017","h",6.7000000000000002E-5,null,null,null," - ",{"$f":"C74*G71","v":0.14000000000000001}]
["Compressor de Ar, Vazão De 10 PCM, Reservatório 100 L, Pressão de Trabalho entre 6,9 e 9,7 BAR, Potência 2 HP, Tensão 110/220 V - Materiais na Operação. Af_05/2017","h",1,null,null,null," -",{"$f":"C75*H76","v":1.1299999999999999}]
["2705 (SINAPI) Energia Elétrica até 2000 KW/H Industrial, Sem Demanda","KW/H",1.27,null,null,null,0.89,{"$f":"C76*G76","v":1.1299999999999999}]
["SUB-TOTAL",{"$nulls":6},{"$f":"SUM(H72,H73,H74,H75)","v":1.4}]
["MATERIAL"]
["DESCRIÇÃO","UNIDADE","QUANT.",null,null,null,"P.UNIT.","P.TOTAL"]
["00003768 (SINAPI) Lixa para ferro","und",15,null,null,null,2.4500000000000002,{"$f":"ROUND((C80*G80),2)","v":36.75}]
["00007293 (SINAPI) Tinta Esmalte Sintético Premium De Dupla ação Grafite Fosco Para Superfícies Metálicas Ferrosas","l",0.5,null,null,null,32.799999999999997,{"$f":"ROUND((C81*G81),2)","v":16.399999999999999}]
["SUB-TOTAL",{"$nulls":6},{"$f":"SUM(H80:H81)","v":53.15}]
["MÃO DE OBRA"]
["DESCRIÇÃO","UNIDADE","QUANT.",null,null,null,"P.UNIT.","P.TOTAL"]
["00002438 (SINAPI)  Eletrotécnico","h",16,null,null,null,24.14,{"$f":"ROUND((C85*G85),2)","v":386.24}]
["00002436 (SINAPI) Eletricista","h",16,null,null,null,18.61,{"$f":"ROUND((C86*G86),2)","v":297.76}]
["00000247 (SINAPI) - Ajudante de Eletricista","h",16,null,null,null,13.08,{"$f":"ROUND((C87*G87),2)","v":209.28}]
["00004783 (SINAPI) - Pintor","h",6,null,null,null,18.61,{"$f":"ROUND((C88*G88),2)","v":111.66}]
["SUB-TOTAL",{"$nulls":6},{"$f":"SUM(H85:H88)","v":1004.94}]
["Encargos Sociais",0,{"$nulls":5},{"$f":"B90*H89","v":0}]
["PRODUÇÃO DA EQUIPE",1,"CUSTO",{"$nulls":4},{"$f":"H77+H82+H89+H90","v":1059.49}]
["CUSTO UNITÁRIO DO SERVIÇO",{"$nulls":6},{"$f":"H91/B91","v":1059.49}]
["BDI",0,{"$nulls":5},{"$f":"ROUND((H92*B93),2)","v":0}]
["TOTAL DO SERVIÇO - R$",{"$nulls":6},{"$f":"ROUND((H92+H93),2)","v":1059.49}]
[]
["2.6.1.5 GESTÃO DE OPERAÇÃO E MANUTENÇÃO",{"$nulls":5},"DATA: Outubro/2021"]
["SERVIÇO: Manutenção de transformadores de 5.000 kVA",{"$nulls":5},"UNIDADE:","un"]
["EQUIPAMENTO"]
["DESCRIÇÃO","UNIDADE","QUANT.",null,null,null,"P.UNIT.","P.TOTAL"]
["Compressor de ar - CHP","h",1]
["Compressor de Ar, Vazão De 10 PCM, Reservatório 100 L, Pressão de Trabalho entre 6,9 e 9,7 BAR, Potência 2 HP, Tensão 110/220 V (COTAÇÃO)","UNIDADE",1,null,null,null,2141.4," - "]
["Compressor de Ar, Vazão De 10 PCM, Reservatório 100 L, Pressão de Trabalho entre 6,9 e 9,7 BAR, Potência 2 HP, Tensão 110/220 V - Depreciação. Af_05/2017","h",5.3000000000000001E-5,null,null,null," - ",{"$f":"C102*G101","v":0.11}]
["Compressor de Ar, Vazão De 10 PCM, Reservatório 100 L, Pressão de Trabalho entre 6,9 e 9,7 BAR, Potência 2 HP, Tensão 110/220 V - Juros. Af_05/2017","h",7.9999999999999996E-6,null,null,null," - ",{"$f":"C103*G101","v":0.02}]
["Compressor de Ar, Vazão De 10 PCM, Reservatório 100 L, Pressão de Trabalho entre 6,9 e 9,7 BAR, Potência 2 HP, Tensão 110/220 V - Manutenção. Af_05/2017","h",6.7000000000000002E-5,null,null,null," - ",{"$f":"C104*G101","v":0.14000000000000001}]
["Compressor de Ar, Vazão De 10 PCM, Reservatório 100 L, Pressão de Trabalho entre 6,9 e 9,7 BAR, Potência 2 HP, Tensão 110/220 V - Materiais na Operação. Af_05/2017","h",1,null,null,null," -",{"$f":"C105*H106","v":1.1299999999999999}]
["2705 (SINAPI) Energia Elétrica até 2000 KW/H Industrial, Sem Demanda","KW/H",1.27,null,null,null,0.89,{"$f":"C106*G106","v":1.1299999999999999}]
["SUB-TOTAL",{"$nulls":6},{"$f":"SUM(H102,H103,H104,H105)","v":1.4}]
["MATERIAL"]
["DESCRIÇÃO","UNIDADE","QUANT.",null,null,null,"P.UNIT.","P.TOTAL"]
["00003768 (SINAPI) Lixa para ferro","und",20,null,null,null,2.4500000000000002,{"$f":"ROUND((C110*G110),2)","v":49}]
["00007293 (SINAPI) Tinta Esmalte Sintético Premium De Dupla ação Grafite Fosco Para Superfícies Metálicas Ferrosas","l",2,null,null,null,32.799999999999997,{"$f":"ROUND((C111*G111),2)","v":65.599999999999994}]
["SUB-TOTAL",{"$nulls":6},{"$f":"SUM(H110:H111)","v":114.6}]
["MÃO DE OBRA"]
["DESCRIÇÃO","UNIDADE","QUANT.",null,null,null,"P.UNIT.","P.TOTAL"]
["00002438 (SINAPI)  Eletrotécnico","h",24,null,null,null,24.14,{"$f":"ROUND((C115*G115),2)","v":579.36}]
["00002436 (SINAPI) Eletricista","h",24,null,null,null,18.61,{"$f":"ROUND((C116*G116),2)","v":446.64}]
["00000247 (SINAPI) - Ajudante de Eletricista","h",24,null,null,null,13.08,{"$f":"ROUND((C117*G117),2)","v":313.92}]
["00004783 (SINAPI) - Pintor","h",16,null,null,null,18.61,{"$f":"ROUND((C118*G118),2)","v":297.76}]
["SUB-TOTAL",{"$nulls":6},{"$f":"SUM(H115:H118)","v":1637.68}]
["Encargos Sociais",0,{"$nulls":5},{"$f":"B120*H119","v":0}]
["PRODUÇÃO DA EQUIPE",1,"CUSTO",{"$nulls":4},{"$f":"H107+H112+H119+H120","v":1753.68}]
["CUSTO UNITÁRIO DO SERVIÇO",{"$nulls":6},{"$f":"H121/B121","v":1753.68}]
["BDI",0,{"$nulls":5},{"$f":"ROUND((H122*B123),2)","v":0}]
["TOTAL DO SERVIÇO - R$",{"$nulls":6},{"$f":"ROUND((H122+H123),2)","v":1753.68}]
[]
["2.6.1.6 GESTÃO DE OPERAÇÃO E MANUTENÇÃO PARA O PERÍMETRO IRRIGADO PEDRA BRANCA",{"$nulls":5},"DATA: Outubro/2021"]
["SERVIÇO: Recondicionamento completo de transformadores de 5000 kVA",{"$nulls":5},"UNIDADE:","un"]
["SERVIÇO"]
["DESCRIÇÃO","UNIDADE","QUANT.","PROD","IMPROD","P.UNIT. PROD","P.UNIT. IMPR","P.TOTAL"]
["Comissionamento do óleo isolante com utilização de carreta  tanque em aço inox equipadas de bombas a vácuo","unid",1,1,0,29137.93,null,{"$f":"C130*D130*F130+C130*E130*G130","v":29137.93}]
["SUB-TOTAL",{"$nulls":6},{"$f":"SUM(H130:H130)","v":29137.93}]
["CUSTO UNITÁRIO DO SERVIÇO",{"$nulls":6},{"$f":"H131","v":29137.93}]
["BDI",0,{"$nulls":5},{"$f":"ROUND((H132*B133),2)","v":0}]
["TOTAL DO SERVIÇO - R$",{"$nulls":6},{"$f":"ROUND((H132+H133),2)","v":29137.93}]
[]
["2.6.1.7 GESTÃO DE OPERAÇÃO E MANUTENÇÃO",{"$nulls":5},"DATA: Outubro/2021"]
["SERVIÇO: Recondicionamento completo de transformadores de 5 kVA",{"$nulls":5},"UNIDADE:","un"]
["SERVIÇO"]
["DESCRIÇÃO","UNIDADE","QUANT.","PROD","IMPROD","P.UNIT. PROD","P.UNIT. IMPR","P.TOTAL"]
["Comissionamento do óleo isolante com utilização de carreta  tanque em aço inox equipadas de bombas a vácuo","unid",1,1,0,582.76,null,{"$f":"C140*D140*F140+C140*E140*G140","v":582.76}]
["SUB-TOTAL",{"$nulls":6},{"$f":"SUM(H140:H140)","v":582.76}]
["CUSTO UNITÁRIO DO SERVIÇO",{"$nulls":6},{"$f":"H141","v":582.76}]
["BDI",0,{"$nulls":5},{"$f":"ROUND((H142*B143),2)","v":0}]
["TOTAL DO SERVIÇO - R$",{"$nulls":6},{"$f":"ROUND((H142+H143),2)","v":582.76}]
[]
["2.6.1.8 GESTÃO DE OPERAÇÃO E MANUTENÇÃO PARA O PERÍMETRO IRRIGADO PEDRA BRANCA",{"$nulls":5},"DATA: Outubro/2021"]
["SERVIÇO: Recondicionamento completo de transformadores de 45 kVA",{"$nulls":5},"UNIDADE:","un"]
["SERVIÇO"]
["DESCRIÇÃO","UNIDADE","QUANT.","PROD","IMPROD","P.UNIT. PROD","P.UNIT. IMPR","P.TOTAL"]
["Comissionamento do óleo isolante com utilização de carreta tanque em aço inox equipadas de bombas a vácuo","unid",1,1,0,1165.52,null,{"$f":"C150*D150*F150+C150*E150*G150","v":1165.52}]
["SUB-TOTAL",{"$nulls":6},{"$f":"SUM(H150:H150)","v":1165.52}]
["CUSTO UNITÁRIO DO SERVIÇO",{"$nulls":6},{"$f":"H151","v":1165.52}]
["BDI",0,{"$nulls":5},{"$f":"ROUND((H152*B153),2)","v":0}]
["TOTAL DO SERVIÇO - R$",{"$nulls":6},{"$f":"ROUND((H152+H153),2)","v":1165.52}]
[]
["2.6.1.9 GESTÃO DE OPERAÇÃO E MANUTENÇÃO",{"$nulls":5},"DATA: Outubro/2021"]
["SERVIÇO: Recondicionamento completo de transformadores de 75 Kva",{"$nulls":5},"UNIDADE:","un"]
["SERVIÇO"]
["DESCRIÇÃO","UNIDADE","QUANT.","PROD","IMPROD","P.UNIT. PROD","P.UNIT. IMPR","P.TOTAL"]
["Comissionamento do óleo isolante com utilização de carreta  tanque em aço inox equipadas de bombas a vácuo","unid",1,1,0,2913.79,null,{"$f":"C160*D160*F160+C160*E160*G160","v":2913.79}]
["SUB-TOTAL",{"$nulls":6},{"$f":"SUM(H160:H160)","v":2913.79}]
["CUSTO UNITÁRIO DO SERVIÇO",{"$nulls":6},{"$f":"H161","v":2913.79}]
["BDI",0,{"$nulls":5},{"$f":"ROUND((H162*B163),2)","v":0}]
["TOTAL DO SERVIÇO - R$",{"$nulls":6},{"$f":"ROUND((H162+H163),2)","v":2913.79}]

{"sheet":"11.Man. Civ.","index":16,"n_rows":24,"n_cols":6,"rows_kept":24,"cut":false,"hidden":false,"merged":[[0,0,0,5],[1,3,1,5],[2,0,3,0],[2,1,3,1],[2,2,3,2],[2,3,3,3],[2,4,2,5]]}
["PLANILHA ESTMATIVA DE CUSTO DE MANUTENÇÃO CIVIL"]
[null,null,null,"VALOR CONTRATUAL"]
["ITEM","DISCRIMINAÇÃO DOS SERVIÇOS E MATERIAIS","UNID.","QUANT.","PREÇO R$"]
[{"$nulls":4},"UNIT.","TOTAL"]
[1,"Pintura em acrílico em paredes externas e externas sem massa corrida","m²",15000,{"$f":"'11.1.CPU Man. Civ.'!E156","v":15.29},{"$f":"ROUND(($D5*E5),2)","v":229350}]
[2,"Pintura de esmalte em esquadrias de ferro e madeira, com duas demão","m²",4000,{"$f":"'11.1.CPU Man. Civ.'!E137","v":49.71},198840]
[3,"Pintura a base de tinta acrílica para pisos (duas demãos), inclusive preparo de superfície que deve estar limpa, seca, isenta de gordura, graxa ou mofo","m²",50,{"$f":"'11.1.CPU Man. Civ.'!E117","v":14.8},740]
[4,"Revestimento de argamassa de cimento e areia no traço 1:4 com 2 cm de espessura com impermeabilizante","m²",1500,{"$f":"'11.1.CPU Man. Civ.'!E245","v":30.97},46455]
[5,"Emassamento de parede externa com uma demão de massa acrílica, para pintura látex","m²",800,{"$f":"'11.1.CPU Man. Civ.'!E60","v":8.57},6856]
[6,"Emassamento de parede interna com uma demão de massa acrílica, para pintura látex","m²",800,{"$f":"'11.1.CPU Man. Civ.'!E60","v":8.57},6856]
[7,"Caiação em 3(três) demãos","m²",7000,{"$f":"'11.1.CPU Man. Civ.'!E192","v":8.9},62300]
[8,"Aplicação de Verniz Poliuterano","m²",300,{"$f":"'11.1.CPU Man. Civ.'!E174","v":8.5500000000000007},2565]
[9,"Recuperação de piso cimentado liso, com 2(dois) cm de espessura","m²",600,{"$f":"'11.1.CPU Man. Civ.'!E210","v":55.25},33150]
[10,"Recuperação de piso cimentado rústico, com 2(dois) cm de espessura","m²",300,{"$f":"'11.1.CPU Man. Civ.'!E228","v":48.43},14529]
[11,"Instalação de telha ondulada de fibrocimento - 70 unidades de 2,44 x 0,5 m","m²",100,{"$f":"'11.1.CPU Man. Civ.'!E97","v":44.71},4471]
[12,"Instalação de telha ondulada de fibrocimento - 15 unidades de 9,20 x 1,0 m, espessura 8,0mm - tipo canalete 90º","m²",300,{"$f":"'11.1.CPU Man. Civ.'!E97","v":44.71},13413]
[13,"Manutenção de alvenaria de bloco cerâmico","m²",1000,{"$f":"'11.1.CPU Man. Civ.'!E23","v":48.3},48300]
[14,"Recuperação da cerca de concreto ","m",2000,{"$f":"'11.1.CPU Man. Civ.'!E257","v":59.43},118860]
[15,"Serviço de Roço ou broca, aceiramento, encoivaramento com largura de faixa limpa  de 4,0m","ha",10,{"$f":"'11.1.CPU Man. Civ.'!E264","v":4342.5},43425]
[16,"Pintura a base de tinta epoxi","m²",2000,{"$f":"'11.1.CPU Man. Civ.'!E283","v":63.59},127180]
["TOTAL DO ORÇAMENTO ",{"$nulls":4},{"$f":"SUM(F5:F20)","v":957290}]
["TOTAL PREVISTO PARA EXECUÇÃO",null,0.2,null,null,{"$f":"F21*$C22","v":191458}]
["TOTAL ",{"$nulls":4},{"$f":"F22","v":191458}]
["R -  CUSTO DE ADMINISTRAÇÃO - (25,00% DO ITEM A)"]

{"sheet":"11.1.CPU Man. Civ.","index":17,"n_rows":283,"n_cols":5,"rows_kept":283,"cut":false,"hidden":false,"merged":[[266,0,266,1],[258,2,258,4],[265,2,265,4],[247,2,247,3],[259,0,259,1],[247,0,247,1],[246,2,246,4],[81,0,81,1],[99,0,99,1],[62,0,62,1],[119,0,119,1],[194,0,194,1],[158,0,158,1],[176,0,176,1],[212,0,212,1],[230,0,230,1],[0,0,0,4],[2,2,2,4],[3,0,3,1],[139,0,139,1],[43,0,43,1]]}
["COMPOSIÇÃO DE CUSTOS UNITÁRIOS PARA MANUTENÇÃO DE ESCRITÓRIOS, OFICINA E CASAS DE BOMBA"]
[]
["COMPOSIÇÃO DE PREÇO UNITÁRIO",null,"DATA: Out/2021"]
["SERVIÇO: Alvenaria de tijolos cerâmicos furados, 10x20x30cm, assentados com argamassa cimento/areia 1:7 com preparo manual",null,null,"UNIDADE:","m²"]
["MATERIAL"]
["DESCRIÇÃO","UNIDADE","QUANT.","P.UNIT.","P.TOTAL"]
["7266 (SINAPI) - Tijolo furado, 8 furos - dimensões: (9 X 19 X 19) cm","un.",16,0.7,{"$f":"C7*D7","v":11.2}]
["SUB-TOTAL",null,null,null,{"$f":"SUM(E7:E7)","v":11.2}]
["SERVIÇOS - COMPOSIÇÕES AUXILIARES"]
["DESCRIÇÃO","UNIDADE","QUANT.","P.UNIT.","P.TOTAL"]
["87365 (SINAPI) - Argamassa traço 1:7 (cimento e areia), preparo manual","m³",1.2E-2,516.19000000000005,{"$f":"C11*D11","v":6.19}]
["SUB-TOTAL",null,null,null,{"$f":"SUM(E11:E11)","v":6.19}]
["MÃO DE OBRA"]
["DESCRIÇÃO","UNIDADE","QUANT.","P.UNIT.","P.TOTAL"]
["88309 (SINAPI) - Pedreiro","h",0.68,26.66,{"$f":"ROUND((C15*D15),2)","v":18.13}]
["88316 (SINAPI) - Servente","h",0.68,18.79,{"$f":"ROUND((C16*D16),2)","v":12.78}]
["SUB-TOTAL",null,null,null,{"$f":"SUM(E15:E16)","v":30.91}]
["Encargos Sociais",null,null,null,{"$f":"$B18*E17","v":0}]
[]
["PRODUÇÃO DA EQUIPE",1,"CUSTO",null,{"$f":"E17+E12+E18+E8","v":48.3}]
["CUSTO UNITÁRIO DO SERVIÇO",null,null,null,{"$f":"E20/$B20","v":48.3}]
["BDI",0,null,null,{"$f":"ROUND((E21*$B22),2)","v":0}]
["TOTAL DO SERVIÇO - R$",null,null,null,{"$f":"ROUND((E21+E22),2)","v":48.3}]
[]
["COMPOSIÇÃO DE PREÇO UNITÁRIO",null,null,{"$f":"C$3","v":"DATA: Out/2021"}]
["SERVIÇO: Desinsetização e Desratização Geral",null,null,"UNIDADE:","m²"]
["MATERIAL"]
["DESCRIÇÃO","UNIDADE","QUANT.","P.UNIT.","P.TOTAL"]
["Inseticida para uso doméstico","l",0.01,65.94,{"$f":"C29*D29","v":0.66}]
["SUB-TOTAL",null,null,null,{"$f":"SUM(E29:E29)","v":0.66}]
["MÃO DE OBRA"]
["DESCRIÇÃO","UNIDADE","QUANT.","P.UNIT.","P.TOTAL"]
["00000242 (SINAPI) -  AJUDANTE ESPECIALIZADO","h",0.02,14.26,{"$f":"ROUND((C33*D33),2)","v":0.28999999999999998}]
["00000248 (SINAPI) -  AJUDANTE DE OPERACAO EM GERAL","h",0.02,13.42,{"$f":"ROUND((C34*D34),2)","v":0.27}]
["SUB-TOTAL",null,null,null,{"$f":"SUM(E33:E34)","v":0.56000000000000005}]
["Encargos Sociais",null,null,null,{"$f":"E35*B36","v":0}]
[]
["PRODUÇÃO DA EQUIPE",1,"CUSTO",null,{"$f":"E35+E30+E36","v":1.22}]
["CUSTO UNITÁRIO DO SERVIÇO",null,null,null,{"$f":"E38/$B38","v":1.22}]
["BDI",0,null,null,{"$f":"ROUND((E39*$B40),2)","v":0}]
["TOTAL DO SERVIÇO - R$",null,null,null,{"$f":"ROUND((E39+E40),2)","v":1.22}]
[]
["COMPOSIÇÃO DE PREÇO UNITÁRIO",null,null,{"$f":"C$3","v":"DATA: Out/2021"}]
["SERVIÇO: Emassamento parede interna e externa, com massa acrílica, uma demão",null,null,"UNIDADE:","m²"]
["MATERIAL"]
["DESCRIÇÃO","UNIDADE","QUANT.","P.UNIT.","P.TOTAL"]
["4056 (SINAPI) - Massa acrilica para paredes interior/exterior","gl",9.8000000000000004E-2,26.8,{"$f":"ROUND((C47*D47),2)","v":2.63}]
["3767 (SINAPI) - Lixa para parede ou madeira","und",0.25,0.57999999999999996,{"$f":"ROUND((C48*D48),2)","v":0.15}]
["SUB-TOTAL",null,null,null,{"$f":"SUM(E47:E48)","v":2.78}]
["MÃO DE OBRA"]
["DESCRIÇÃO","UNIDADE","QUANT.","P.UNIT.","P.TOTAL"]
["00004783 (SINAPI) - Pintor","h",0.18,18.61,{"$f":"ROUND((C52*D52),2)","v":3.35}]
["88316 (SINAPI)  - Servente ","h",0.13,18.79,{"$f":"ROUND((C53*D53),2)","v":2.44}]
["SUB-TOTAL",null,null,null,{"$f":"SUM(E52:E53)","v":5.79}]
["Encargos Sociais",null,null,null,{"$f":"$B55*E54","v":0}]
[]
["PRODUÇÃO DA EQUIPE",1,"CUSTO",null,{"$f":"E54+E55+E49","v":8.57}]
["CUSTO UNITÁRIO DO SERVIÇO",null,null,null,{"$f":"E57/$B57","v":8.57}]
["BDI",0,null,null,{"$f":"ROUND((E58*$B59),2)","v":0}]
["TOTAL DO SERVIÇO - R$",null,null,null,{"$f":"ROUND((E58+E59),2)","v":8.57}]
[]
["COMPOSIÇÃO DE PREÇO UNITÁRIO",null,null,{"$f":"C$3","v":"DATA: Out/2021"}]
["SERVIÇO: Chapisco convencional",null,null,"UNIDADE:","m³"]
["SERVIÇOS - COMPOSIÇÕES AUXILIARES"]
["DESCRIÇÃO","UNIDADE","QUANT.","P.UNIT.","P.TOTAL"]
["87316 (SINAPI) - Argamassa traço 1:4 (em volume de cimento e areia grossa úmida) para chapisco convencional, preparo mecânico com betoneira 400 L","m³",0.02,489.91,{"$f":"D66*C66","v":9.8000000000000007}]
[]
["SUB-TOTAL",null,null,null,{"$f":"SUM(E66:E67)","v":9.8000000000000007}]
["MÃO DE OBRA"]
["DESCRIÇÃO","UNIDADE","QUANT.","P.UNIT.","P.TOTAL"]
["88309 (SINAPI) - Pedreiro","h",0.6,26.66,{"$f":"ROUND((C71*D71),2)","v":16}]
["88316 (SINAPI) - Servente","h",0.6,18.79,{"$f":"ROUND((C72*D72),2)","v":11.27}]
["SUB-TOTAL",null,null,null,{"$f":"SUM(E71:E72)","v":27.27}]
["Encargos Sociais",null,null,null,{"$f":"$B74*E73","v":0}]
[]
["PRODUÇÃO DA EQUIPE",1,"CUSTO",null,{"$f":"E73+E68+E74","v":37.07}]
["CUSTO UNITÁRIO DO SERVIÇO",null,null,null,{"$f":"E76/$B76","v":37.07}]
["BDI",{"$f":"B59","v":0},null,null,{"$f":"ROUND((E77*$B78),2)","v":0}]
["TOTAL DO SERVIÇO - R$",null,null,null,{"$f":"ROUND((E77+E78),2)","v":37.07}]
[]
["COMPOSIÇÃO DE PREÇO UNITÁRIO",null,null,{"$f":"C$3","v":"DATA: Out/2021"}]
["SERVIÇO : Telhamento com telha de fibrocimento ondulada, espessura 6mm, incluso juntas de vedação e acessórios de fixação",null,null,"UNIDADE:","m"]
["MATERIAL"]
["DESCRIÇÃO","UNIDADE","QUANT.","P.UNIT.","P.TOTAL"]
["00007194 (SINAPI) - TELHA DE FIBROCIMENTO ONDULADA E = 6 MM, DE 2,44 X 1,10 M (SEM AMIANTO)","m²",1.1499999999999999,30.18,{"$f":"C85*D85","v":34.71}]
["SUB-TOTAL",null,null,null,{"$f":"SUM(E85:E85)","v":34.71}]
["MÃO DE OBRA"]
["DESCRIÇÃO","UNIDADE","QUANT.","P.UNIT.","P.TOTAL"]
["88309 (SINAPI) - Pedreiro","h",0.22,26.66,{"$f":"ROUND((C89*D89),2)","v":5.87}]
["88316 (SINAPI) - Servente","h",0.22,18.79,{"$f":"ROUND((C90*D90),2)","v":4.13}]
["Telhadista",null,null,null,{"$f":"SUM(E89:E90)","v":10}]
["Encargos Sociais",null,null,{"$f":"$B92","v":0},{"$f":"D92*E91","v":0}]
[]
["PRODUÇÃO DA EQUIPE",1,"CUSTO",null,{"$f":"E91+E86+E92","v":44.71}]
["CUSTO UNITÁRIO DO SERVIÇO",null,null,null,{"$f":"E94/$B94","v":44.71}]
["BDI",{"$f":"B40","v":0},null,null,{"$f":"ROUND((E95*$B96),2)","v":0}]
["TOTAL DO SERVIÇO - R$",null,null,null,{"$f":"ROUND((E95+E96),2)","v":44.71}]
[]
["COMPOSIÇÃO DE PREÇO UNITÁRIO",null,null,{"$f":"C$3","v":"DATA: Out/2021"}]
["SERVIÇO:  Pintura a base de tinta acrílica  para pisos (duas demãos), inclusive preparo de superfície que deve estar limpa, seca, isenta de gordura, graxa ou mofo.",null,null,"UNIDADE:","m²"]
["MATERIAL"]
["DESCRIÇÃO","UNIDADE","QUANT.","P.UNIT.","P.TOTAL"]
["7348 (SINAPI) - Tinta acrilica para piso","gl",0.42,12.05,{"$f":"ROUND((C103*D103),2)","v":5.0599999999999996}]
["6085 (SINAPI) - Selador acrílico","L",0.16,6.59,{"$f":"ROUND((C104*D104),2)","v":1.05}]
["3767 (SINAPI) - Lixa para parede ou madeira","ud",0.5,0.57999999999999996,{"$f":"ROUND((C105*D105),2)","v":0.28999999999999998}]
["SUB-TOTAL",null,null,null,{"$f":"SUM(E103:E105)","v":6.4}]
["MÃO DE OBRA"]
["DESCRIÇÃO","UNIDADE","QUANT.","P.UNIT.","P.TOTAL"]
["00004783 (SINAPI) - Pintor","h",0.3,18.61,{"$f":"ROUND((C109*D109),2)","v":5.58}]
["88316 (SINAPI) - Servente","h",0.15,18.79,{"$f":"ROUND((C110*D110),2)","v":2.82}]
["SUB-TOTAL",null,null,null,{"$f":"SUM(E109:E110)","v":8.4}]
["Encargos Sociais",null,null,null,{"$f":"$B112*E111","v":0}]
[]
["PRODUÇÃO DA EQUIPE",1,"CUSTO",null,{"$f":"E111+E112+E106","v":14.8}]
["CUSTO UNITÁRIO DO SERVIÇO",null,null,null,{"$f":"E114/$B114","v":14.8}]
["BDI",{"$f":"B96","v":0},null,null,{"$f":"ROUND((E115*$B116),2)","v":0}]
["TOTAL DO SERVIÇO - R$",null,null,null,{"$f":"ROUND((E115+E116),2)","v":14.8}]
[]
["COMPOSIÇÃO DE PREÇO UNITÁRIO",null,null,{"$f":"C$3","v":"DATA: Out/2021"}]
["SERVIÇO: Pintura de esmalte 2 demãos para esquadria ferro",null,null,"UNIDADE:","m²"]
["MATERIAL"]
["DESCRIÇÃO","UNIDADE","QUANT.","P.UNIT.","P.TOTAL"]
["7307 (SINAPI) - Fundo anticorrosivo tipo zarcão ou equivalente","L",3.3300000000000003E-2,31.98,{"$f":"ROUND((C123*D123),2)","v":1.06}]
["7292 (SINAPI) - Tinta esmalte sintetico alto brilho","L",0.41339999999999999,29.65,{"$f":"ROUND((C124*D124),2)","v":12.26}]
["5318 (SINAPI) - Solvente diluente base de aguarrás","L",0.124,14.64,{"$f":"ROUND((C125*D125),2)","v":1.82}]
["SUB-TOTAL",null,null,null,{"$f":"SUM(E123:E125)","v":15.14}]
["MÃO DE OBRA"]
["DESCRIÇÃO","UNIDADE","QUANT.","P.UNIT.","P.TOTAL"]
["00004783 (SINAPI) - Pintor","h",1.05,18.61,{"$f":"ROUND((C129*D129),2)","v":19.54}]
["88316 (SINAPI) - Servente","h",0.8,18.79,{"$f":"ROUND((C130*D130),2)","v":15.03}]
["SUB-TOTAL",null,null,null,{"$f":"SUM(E129:E130)","v":34.57}]
["Encargos Sociais",null,null,null,{"$f":"$B132*E131","v":0}]
[]
["PRODUÇÃO DA EQUIPE",1,"CUSTO",null,{"$f":"E131+E126+E121+E132","v":49.71}]
["CUSTO UNITÁRIO DO SERVIÇO",null,null,null,{"$f":"E134/$B134","v":49.71}]
["BDI",{"$f":"B116","v":0},null,null,{"$f":"ROUND((E135*$B136),2)","v":0}]
["TOTAL DO SERVIÇO - R$",null,null,null,{"$f":"ROUND((E135+E136),2)","v":49.71}]
[]
["COMPOSIÇÃO DE PREÇO UNITÁRIO",null,null,{"$f":"C$3","v":"DATA: Out/2021"}]
["SERVIÇO: Pintura látex acrílica ambientes internos/externos",null,null,"UNIDADE:","m²"]
["MATERIAL"]
["DESCRIÇÃO","UNIDADE","QUANT.","P.UNIT.","P.TOTAL"]
["3767 (SINAPI) - Lixa para parede ou madeira","u",0.25,0.57999999999999996,{"$f":"ROUND((C143*D143),2)","v":0.15}]
["00007356 (SINAPI) - TINTA ACRILICA PREMIUM, COR BRANCO FOSCO","l",0.15,19.91,{"$f":"ROUND((C144*D144),2)","v":2.99}]
["SUB-TOTAL",null,null,null,{"$f":"SUM(E143:E144)","v":3.14}]
["MÃO DE OBRA"]
["DESCRIÇÃO","UNIDADE","QUANT.","P.UNIT.","P.TOTAL"]
["00004783 (SINAPI) - Pintor","h",0.35,18.61,{"$f":"ROUND((C148*D148),2)","v":6.51}]
["88316 (SINAPI) - Servente","h",0.3,18.79,{"$f":"ROUND((C149*D149),2)","v":5.64}]
["SUB-TOTAL",null,null,null,{"$f":"SUM(E148:E149)","v":12.15}]
["Encargos Sociais",null,null,null,{"$f":"$B151*E150","v":0}]
[]
["PRODUÇÃO DA EQUIPE",1,"CUSTO",null,{"$f":"E150+E145+E151","v":15.29}]
["CUSTO UNITÁRIO DO SERVIÇO",null,null,null,{"$f":"E153/$B153","v":15.29}]
["BDI",{"$f":"B136","v":0},null,null,{"$f":"ROUND((E154*$B155),2)","v":0}]
["TOTAL DO SERVIÇO - R$",null,null,null,{"$f":"ROUND((E154+E155),2)","v":15.29}]
[]
["COMPOSIÇÃO DE PREÇO UNITÁRIO",null,null,{"$f":"C$3","v":"DATA: Out/2021"}]
["SERVIÇO: Pintura de verniz poliuretano incolor em superfície de concreto ou tijolo aparente com e duas demãos",null,null,"UNIDADE:","m²"]
["MATERIAL"]
["DESCRIÇÃO","UNIDADE","QUANT.","P.UNIT.","P.TOTAL"]
["3767 (SINAPI) - Lixa para parede ou madeira","und",0.5,0.57999999999999996,{"$f":"ROUND((C162*D162),2)","v":0.28999999999999998}]
["00010478 (SINAPI) - Verniz Poliuretano Brilhante para Madeira, com Filtro Solar, Uso Interno e Externo","L",0.04,31.54,{"$f":"ROUND((C163*D163),2)","v":1.26}]
["SUB-TOTAL",null,null,null,{"$f":"SUM(E162:E163)","v":1.55}]
["MÃO DE OBRA"]
["DESCRIÇÃO","UNIDADE","QUANT.","P.UNIT.","P.TOTAL"]
["00004783 (SINAPI) - Pintor","h",0.25,18.61,{"$f":"ROUND((C167*D167),2)","v":4.6500000000000004}]
["88316 (SINAPI) - Servente","h",0.125,18.79,{"$f":"ROUND((C168*D168),2)","v":2.35}]
["SUB-TOTAL",null,null,null,{"$f":"SUM(E167:E168)","v":7}]
["Encargos Sociais",null,null,null,{"$f":"$B170*E169","v":0}]
["PRODUÇÃO DA EQUIPE",1,"CUSTO",null,{"$f":"E169+E164+E170","v":8.5500000000000007}]
["CUSTO UNITÁRIO DO SERVIÇO",null,null,null,{"$f":"E171/$B171","v":8.5500000000000007}]
["BDI",{"$f":"B155","v":0},null,null,{"$f":"ROUND((E172*$B173),2)","v":0}]
["TOTAL DO SERVIÇO - R$",null,null,null,{"$f":"ROUND((E172+E173),2)","v":8.5500000000000007}]
[]
["COMPOSIÇÃO DE PREÇO UNITÁRIO",null,null,{"$f":"C$3","v":"DATA: Out/2021"}]
["SERVIÇO:  Pintura tipo caiação, com três demãos.",null,null,"UNIDADE:","m²"]
["MATERIAL"]
["DESCRIÇÃO","UNIDADE","QUANT.","P.UNIT.","P.TOTAL"]
["00011161 (SINAPI) - CAL HIDRATADA PARA PINTURA","kg",0.6,1.97,{"$f":"C180*D180","v":1.18}]
["SUB-TOTAL",null,null,null,{"$f":"SUM(E180:E180)","v":1.18}]
["MÃO DE OBRA"]
["DESCRIÇÃO","UNIDADE","QUANT.","P.UNIT.","P.TOTAL"]
["00004783 (SINAPI) - Pintor","h",0.4,18.61,{"$f":"ROUND((C184*D184),2)","v":7.44}]
["88316 (SINAPI) - Servente","h",1.4999999999999999E-2,18.79,{"$f":"ROUND((C185*D185),2)","v":0.28000000000000003}]
["SUB-TOTAL",null,null,null,{"$f":"SUM(E184:E185)","v":7.72}]
["Encargos Sociais",null,null,null,{"$f":"$B187*E186","v":0}]
[]
["PRODUÇÃO DA EQUIPE",1,"CUSTO",null,{"$f":"E186+E181+E187","v":8.9}]
["CUSTO UNITÁRIO DO SERVIÇO",null,null,null,{"$f":"E189/$B189","v":8.9}]
["BDI",{"$f":"B59","v":0},null,null,{"$f":"ROUND((E190*$B191),2)","v":0}]
["TOTAL DO SERVIÇO - R$",null,null,null,{"$f":"ROUND((E190+E191),2)","v":8.9}]
[]
["COMPOSIÇÃO DE PREÇO UNITÁRIO",null,null,{"$f":"C$3","v":"DATA: Out/2021"}]
["SERVIÇO: Piso cimentado liso desampenado, traço 1:4 (cimento e areia), espessura 2,0 cm, preparação manual",null,null,"UNIDADE:","m²"]
["SERVIÇOS - COMPOSIÇÕES AUXILIARES"]
["DESCRIÇÃO","UNIDADE","QUANT.","P.UNIT.","P.TOTAL"]
["87316 (SINAPI) - Argamassa traço 1:4 (em volume de cimento e areia grossa úmida) para chapisco convencional, preparo mecânico com betoneira 400 L","m3",0.02,489.91,{"$f":"ROUND((D198*C198),2)","v":9.8000000000000007}]
["SUB-TOTAL",null,null,null,{"$f":"SUM(E198:E198)","v":9.8000000000000007}]
["MÃO DE OBRA"]
["DESCRIÇÃO","UNIDADE","QUANT.","P.UNIT.","P.TOTAL"]
["88309 (SINAPI) - Pedreiro","h",1,26.66,{"$f":"ROUND((C202*D202),2)","v":26.66}]
["88316 (SINAPI) - Servente","h",1,18.79,{"$f":"ROUND((C203*D203),2)","v":18.79}]
["SUB-TOTAL",null,null,null,{"$f":"SUM(E202:E203)","v":45.45}]
["Encargos Sociais",null,null,null,{"$f":"$B205*E204","v":0}]
[]
["PRODUÇÃO DA EQUIPE",1,"CUSTO",null,{"$f":"E204+E199+E205","v":55.25}]
["CUSTO UNITÁRIO DO SERVIÇO",null,null,null,{"$f":"E207/$B207","v":55.25}]
["BDI",{"$f":"B191","v":0},null,null,{"$f":"ROUND((E208*$B209),2)","v":0}]
["TOTAL DO SERVIÇO - R$",null,null,null,{"$f":"ROUND((E208+E209),2)","v":55.25}]
[]
["COMPOSIÇÃO DE PREÇO UNITÁRIO",null,null,{"$f":"C$3","v":"DATA: Out/2021"}]
["SERVIÇO: Piso cimentado rústico traço 1:4 (cimento e areia), espessura 2,0cm",null,null,"UNIDADE:","m²"]
["SERVIÇOS - COMPOSIÇÕES AUXILIARES"]
["DESCRIÇÃO","UNIDADE","QUANT.","P.UNIT.","P.TOTAL"]
["87316 (SINAPI) - Argamassa traço 1:4 (em volume de cimento e areia grossa úmida) para chapisco convencional, preparo mecânico com betoneira 400 L","m³",0.02,489.91,{"$f":"C216*D216","v":9.8000000000000007}]
["SUB-TOTAL",null,null,null,{"$f":"SUM(E216:E216)","v":9.8000000000000007}]
["MÃO DE OBRA"]
["DESCRIÇÃO","UNIDADE","QUANT.","P.UNIT.","P.TOTAL"]
["88309 (SINAPI) - Pedreiro","h",0.85,26.66,{"$f":"ROUND((C220*D220),2)","v":22.66}]
["88316 (SINAPI) - Servente","h",0.85,18.79,{"$f":"ROUND((C221*D221),2)","v":15.97}]
["SUB-TOTAL",null,null,null,{"$f":"SUM(E220:E221)","v":38.630000000000003}]
["Encargos Sociais",null,null,{"$f":"$B223","v":0},{"$f":"D223*E222","v":0}]
[]
["PRODUÇÃO DA EQUIPE",1,"CUSTO",null,{"$f":"E222+E217+E223","v":48.43}]
["CUSTO UNITÁRIO DO SERVIÇO",null,null,null,{"$f":"E225/$B225","v":48.43}]
["BDI",{"$f":"B209","v":0},null,null,{"$f":"ROUND((E226*$B227),2)","v":0}]
["TOTAL DO SERVIÇO - R$",null,null,null,{"$f":"ROUND((E226+E227),2)","v":48.43}]
[]
["COMPOSIÇÃO DE PREÇO UNITÁRIO",null,null,{"$f":"C$3","v":"DATA: Out/2021"}]
["SERVIÇO: Revestimento com argamassa traço 1:4 (cimento e areia), preparo manual incluindo aditivo impermeabilizante",null,null,"UNIDADE:","m²"]
["MATERIAL"]
["DESCRIÇÃO","UNIDADE","QUANT.","P.UNIT.","P.TOTAL"]
["00000123 (SINAPI) - Aditivo impermeabilizante de pega normal para argamassas e concretos sem armação, liquido e isento de cloretos","l",{"$f":"0.05*20","v":1},6.47,{"$f":"ROUND((C234*D234),2)","v":6.47}]
["SUB-TOTAL",null,null,null,{"$f":"SUM(E234:E234)","v":6.47}]
["SERVIÇOS - COMPOSIÇÕES AUXILIARES"]
["DESCRIÇÃO","UNIDADE","QUANT.","P.UNIT.","P.TOTAL"]
["87316 (SINAPI) - Argamassa traço 1:4 (em volume de cimento e areia grossa úmida) para chapisco convencional, preparo mecânico com betoneira 400 L","m³",0.05,489.91,{"$f":"C238*D238","v":24.5}]
[]
["SUB-TOTAL",null,null,null,{"$f":"SUM(E238:E239)","v":24.5}]
[]
["PRODUÇÃO DA EQUIPE",1,"CUSTO",null,{"$f":"E240+E235","v":30.97}]
["CUSTO UNITÁRIO DO SERVIÇO",null,null,null,{"$f":"E242/$B242","v":30.97}]
["BDI",0,null,null,{"$f":"ROUND((E243*$B244),2)","v":0}]
["TOTAL DO SERVIÇO - R$",null,null,null,{"$f":"ROUND((E243+E244),2)","v":30.97}]
[]
["COMPOSIÇÃO DE PREÇO UNITÁRIO",null,"DATA: Out/2021"]
["SERVIÇO: Recomposição parcial do arame farpado nº14 classe 250, fixado em cerca com mourão de concreto reto 10X10cm",null,"UNIDADE:",null,"m"]
["DESCRIÇÃO","UNIDADE","QUANT.","P.UNIT.","P.TOTAL"]
["00000339 (SINAPI) - Arame farpado galvanizado, 14 BWG (2,11 mm), Classe 250","m",0.32,1.4,{"$f":"D250*C250","v":0.45}]
["00043130 (SINAPI) – Arame galvanizado 12 BWG, d = 2,76 mm (0,048 kg/m) ou 14 BWG, d = 2,11 mm (0,026 kg/m)","kg",0.08,23,{"$f":"D251*C251","v":1.84}]
["00004102 (SINAPI) –  Mourão de concreto reto, seção quadrada, *10 x 10* cm, h= 3,00 m","un.",1,54,{"$f":"D252*C252","v":54}]
["SUB-TOTAL",null,null,null,{"$f":"SUM(E250:E252)","v":56.29}]
["MÃO DE OBRA"]
["DESCRIÇÃO","UNIDADE","QUANT.","P.UNIT.","P.TOTAL"]
["88316 (SINAPI) - Servente","h",0.16700000000000001,18.79,{"$f":"D256*C256","v":3.14}]
["TOTAL DO SERVIÇO - R$",null,null,null,{"$f":"E256+E253","v":59.43}]
[]
["COMPOSIÇÃO DE PREÇO UNITÁRIO",null,"DATA: Out/2021"]
["SERVIÇO: Roço, aceiramento, encoivaramento e queima dos materiais (HA)",null,null,"UNIDADE: ","ha "]
["MÃO DE OBRA"]
["DISCRIMINAÇÃO","UNIDADE","QUANT.","P.UNIT.","P.TOTAL"]
["88316 (SINAPI) - Servente","h",{"$f":"0.025*10000","v":250},17.37,{"$f":"C263*D263","v":4342.5}]
["SUB-TOTAL",null,null,null,{"$f":"SUM(E263:E263)","v":4342.5}]
[]
["COMPOSIÇÃO DE PREÇO UNITÁRIO",null,"DATA: Out/2021"]
["SERVIÇO:  Pintura a base de tinta époxi",null,null,"UNIDADE:","m²"]
["MATERIAL"]
["DESCRIÇÃO","UNIDADE","QUANT.","P.UNIT.","P.TOTAL"]
["5318 (SINAPI) - Solvente diluente base de aguarrás","L",0.06,14.64,{"$f":"ROUND((C270*D270),2)","v":0.88}]
["00007304 (SINAPI) - Tinta epóxi base agua premium, branca","l",0.75,61.17,{"$f":"ROUND((C271*D271),2)","v":45.88}]
["SUB-TOTAL",null,null,null,{"$f":"SUM(E270:E271)","v":46.76}]
["MÃO DE OBRA"]
["DESCRIÇÃO","UNIDADE","QUANT.","P.UNIT.","P.TOTAL"]
["00004783 (SINAPI) - Pintor","h",0.5,18.61,{"$f":"ROUND((C275*D275),2)","v":9.31}]
["88316 (SINAPI) - Servente","h",0.4,18.79,{"$f":"ROUND((C276*D276),2)","v":7.52}]
["SUB-TOTAL",null,null,null,{"$f":"SUM(E275:E276)","v":16.829999999999998}]
["Encargos Sociais",null,null,null,{"$f":"$B278*E277","v":0}]
[]
["PRODUÇÃO DA EQUIPE",1,"CUSTO",null,{"$f":"E277+E278+E272","v":63.59}]
["CUSTO UNITÁRIO DO SERVIÇO",null,null,null,{"$f":"E280/$B280","v":63.59}]
["BDI",0,null,null,{"$f":"ROUND((E281*$B282),2)","v":0}]
["TOTAL DO SERVIÇO - R$",null,null,null,{"$f":"ROUND((E281+E282),2)","v":63.59}]

{"sheet":"12.Peç Repos e Mat.","index":18,"n_rows":707,"n_cols":7,"rows_kept":707,"cut":false,"hidden":false,"merged":[[0,0,1,5],[2,3,2,5],[707,0,707,2]]}
["PLANILHA DE ORÇAMENTO ANUAL DOS CUSTOS DE MATERIAIS E PEÇAS DE REPOSIÇÃO"]
[]
[null,null,null,"VALOR CONTRATUAL"]
["PARTE HIDRÁULICA"]
["ITEM","DESCRIÇÃO","UNID.","QUANT.","PREÇO UNIT R$","PREÇO TOTAL R$"]
[1,"Acoplamento com parafuso bicromatizado e anela de borracha SBR, diâmetro externo 521 mm Ferro Fundido nodular, pintado Primer","un.",7,1154,{"$f":"D6*E6","v":8078}]
[2,"Acoplamento com parafuso bicromatizado e anela de borracha SBR, diâmetro externo 419 mm Ferro Fundido nodular, pintado Primer","un.",7,726,{"$f":"D7*E7","v":5082}]
[3,"Acoplamento com parafuso bicromatizado e anela de borracha SBR, diâmetro externo 368 mm Ferro Fundido nodular, pintado Primer","un.",7,562,{"$f":"D8*E8","v":3934}]
[4,"Adesivo plástico para tubos e conexões (175g)","un.",80,13.05,{"$f":"PRODUCT(D9:E9)","v":1044}]
[5,"00000318 (SINAPI) - Anel Borracha, para Tubo PVC DEFOFO, DN 150 mm (NBR 7665) ","un.",8,20.28,162.24]
[6,"00000319 (SINAPI) - Anel Borracha, para Tubo PVC DEFOFO, DN 200 mm (NBR 7665) ","un.",8,38.29,306.32]
[7,"00000320 (SINAPI) - Anel Borracha, para Tubo PVC DEFOFO, DN 250 mm (NBR 7665) ","un.",8,121.74,973.92]
[8,"00000314 (SINAPI) - Anel Borracha, para Tubo PVC DEFOFO, DN 300 mm (NBR 7665) ","un.",8,186.98,1495.84]
[9,"00000329 (SINAPI) - Anel Borracha, para Tubo/Conexão PVC PBA, DN 75 Mm, Para Rede Água ","un.",15,11.9,178.5]
[10,"Anel de borracha Alvenius diâmetro externo 521mm","un.",20,180,3600]
[11,"Anel de borracha Alvenius diâmetro externo 419mm","un.",18,138,2484]
[12,"Anel de borracha Alvenius diâmetro externo 368mm","un.",10,95.3,953]
[13,"Curva 45º com bolsa soldável e ponta lisa PVC IRRIGA-LF JE, Fabric. TIGRE, PN 80, DN 100","un.",1,25,25]
[14,"Curva 45º com bolsa soldável e ponta lisa PVC IRRIGA-LF JE, Fabric. TIGRE, PN 80, DN 75","un.",1,13.46,13.46]
[15,"Curva 90º com bolsa soldável e ponta lisa PVC IRRIGA-LF JE, Fabric. TIGRE, PN 80, DN 100","un.",5,28.5,142.5]
[16,"Curva 90º com bolsa soldável e ponta lisa PVC IRRIGA-LF JE, Fabric. TIGRE, PN 80, DN 75","un.",5,15.8,79]
[17,"Fita veda rosca (rolo com 50 m)","un.",40,2.82,112.8]
[18,"Lubrificante Alvenius (900g)","un.",10,18.5,185]
[19,"Luva de correr em PVC IRRIGA-LF JE, Fabric. TIGRE, PN 80, DN 75","un.",80,42,3360]
[20,"Luva de correr em PVC IRRIGA-LF JE, Fabric. TIGRE, PN 80, DN 100","un.",80,98,7840]
[21,"Luva de correr em PVC IRRIGA-LF JE, Fabric. TIGRE, PN 80, DN 150","un.",8,198,1584]
[22,"Luva de correr em PVC IRRIGA-LF JE, Fabric. TIGRE, PN 80, DN 200","un.",3,138,414]
[23,"Luva de correr em PVC IRRIGA-LF JE, Fabric. TIGRE, PN 80, DN 250","un",3,242,726]
[24,"Luva de correr em PVC IRRIGA-LF JE, Fabric. TIGRE, PN 80, DN 300","un",3,541,1623]
[25,"00011045 (SINAPI) -  Luva Simples, PVC PBA, JE, DN 75 / DE 85 mm, Para Rede Água (NBR 10351)","un.",3,37.46,112.38]
[26,"Redução com bolsa soldável em PVC, IRRIGA-LF, Fabric. TIGRE, PN 80, DN 100 x 75","un.",3,13.49,40.47]
[27,"00011378 (SINAPI) Tê de Redução, PVC PBA, BBB, JE, DN 100 X 50 / de 110 X 60 mm, para Rede Água (NBR 10351)","un",3,108.08,324.24]
[28,"Tê com bolsas soldável e adaptador PBA em PVC IRRIGA-LF, DN 75 x 75","un",10,24,240]
[29,"Tê de redução com bolsa soldável e adaptador PBA em  PVC, IRRIGA-LF, TIGRE, PN 80, Ø 100x75","un",25,50,1250]
[30,"Tê com bolsa soldável em PVC, IRRIGA-LF, Fabric. TIGRE, PN 80, DN 100","un",10,38.99,389.9]
[31,"Tubo em PVC IRRIGA-LF JE, Fabric. TIGRE, PN 125, DN 250","un.",6,1475,8850]
[32,"Tubo em PVC IRRIGA-LF JE, Fabric. TIGRE, PN 125, DN 300","un.",6,3422,20532]
[33,"Tubo em PVC IRRIGA-LF JE, Fabric. TIGRE, PN 80, DN 100","un.",8,218,1744]
[34,"Tubo em PVC IRRIGA-LF JE, Fabric. TIGRE, PN 80, DN 150","un.",6,433,2598]
[35,"Tubo em PVC IRRIGA-LF JE, Fabric. TIGRE, PN 80, DN 200","un.",6,952,5712]
[36,"Tubo em PVC IRRIGA-LF JE, Fabric. TIGRE, PN 80, DN 75","un.",15,89,1335]
[38,"Tubo em Alvenius K10 Aço Carbono Galvanizado de 350mm (6m)","un.",15,5060,75900]
[39,"Tubo em Alvenius K10 Aço Carbono Galvanizado de 400mm (6m)","un.",20,5794,115880]
[40,"Tubo em Alvenius K10 Aço Carbono Galvanizadode 500mm (6m)","un.",20,7334,146680]
[41,"00000047 (SINAPI) - Adaptador, PVC PBA, Bolsa/Rosca, JE, DN 100 / DE 110 mm","un.",20,93.37,{"$f":"D45*E45","v":1867.4}]
[42,"Adesivo plástico para tubos e conexões (175g)","un.",5,13.05,65.25]
[43,"00000311 (SINAPI) - Anel Borracha, para Tubo PVC DEFOFO, DN 100 mm (NBR 7665) ","un.",60,11.57,694.2]
[44,"00000318 (SINAPI) - Anel Borracha, para Tubo PVC DEFOFO, DN 150 mm (NBR 7665) ","un.",24,20.28,486.72]
[45,"00000319 (SINAPI) - Anel Borracha, para Tubo PVC DEFOFO, DN 200 mm (NBR 7665) ","un.",24,38.29,918.96]
[46,"00000320 (SINAPI) - Anel Borracha, para Tubo PVC DEFOFO, DN 250 mm (NBR 7665) ","un.",24,121.74,2921.76]
[47,"00000314 (SINAPI) - Anel Borracha, para Tubo PVC DEFOFO, DN 300 mm (NBR 7665) ","un.",14,186.98,2617.7199999999998]
[48,"00000309 (SINAPI) - Anel Borracha, para Tubo PVC, Rede Coletor Esgoto, DN 350 mm (NBR 7362) ","un.",14,61.52,861.28]
[49,"00000329 (SINAPI) - Anel Borracha, para Tubo/Conexão PVC PBA, DN 75 Mm, Para Rede Água ","un.",30,11.9,357]
[50,"Anel interfibra – R PVC / JE PRFV /JE DN 400mm","un.",5,126,630]
[51,"Anel interfibra – R PVC / JE PRFV /JE DN 500mm","un.",10,159,1590]
[52,"00000396 (SINAPI) - Abraçadeira em Aço para Amarração de eletrodutos, Tipo D, com 2\" e parafuso de fixação","un",8,3.06,24.48]
[53,"00004888 (SINAPI) - Plug ou Bujão de Ferro Galvanizado, de 1/2\" ","un",6,3.18,19.079999999999998]
[54,"00004889 (SINAPI) - Plug Ou Bujão de Ferro Galvanizado, de 3/4\"","un",4,4.3,17.2]
[55,"0001207 (SINAPI) – CAP, PVC PBA, JE, DN 100 / DE 110 mm, para rede de agua (NBR 10351) ","un.",5,38.25,191.25]
[56,"00001183 (SINAPI) – CAP, PVC PBA, JE, DN 75 / DE 85 mm, para rede de agua (NBR 10351) ","un.",5,24.98,124.9]
[57,"Cola para tubo PVC (850g)","tb.",10,34.9,349]
[58,"Curva 45º com bolsa soldável e ponta lisa PVC IRRIGA-LF JE, Fabric. TIGRE, PN 80, DN 100","un.",7,25,175]
[59,"Curva 45º com bolsa soldável e ponta lisa PVC IRRIGA-LF JE, Fabric. TIGRE, PN 80, DN 75","un.",2,13.46,26.92]
[60,"Curva 90º com bolsa soldável e ponta lisa PVC IRRIGA-LF JE, Fabric. TIGRE, PN 80, DN 100","un.",6,28.5,171]
[61,"Curva 90º com bolsa soldável e ponta lisa PVC IRRIGA-LF JE, Fabric. TIGRE, PN 80, DN 75","un.",3,15.8,47.4]
[62,"00003075 (SINAPI) – Extremidade PVC PBA, PF, JE, DN 75 / DE 85 mm (NBR 10351)  / Extremidade JE DN 75","un.",20,121.97,2439.4]
[63,"00003076 (SINAPI) – Extremidade PVC PBA, PF, JE, DN 100 / DE 110 mm (NBR 10351) / Extremidade JE DN 100","un.",3,193,579]
[64,"Fita veda rosca (rolo com 50 m)","un.",70,2.82,197.4]
[65,"Flange de ferro fundido PN 10 DN 100","un.",6,188,1128]
[66,"Flange de ferro fundido PN 10 DN 200","un.",4,250,1000]
[67,"Flange liso em aço carbono PN 10 DN 50","un.",10,38.200000000000003,382]
[68,"Flange liso em aço carbono PN 10 DN 75","un.",10,101.81,1018.1]
[69,"Grosa 12\"","un.",3,33.6,100.8]
[70,"Joelho 90º PVC Ø 3/4\" x 3/4 Rosca /Rosca  TIGRE ou SIMILAR","un.",6,3.7,22.2]
[71,"Joelho 90º PVC Ø 1” x 3/4 Rosca /Rosca  TIGRE ou SIMILAR","un.",9,2.99,26.91]
[72,"Joelho reduzido 90º PVC Ø 1” x 3/4 PVC  TIGRE ou SIMILAR","un.",9,2.99,26.91]
[73,"Luva de correr em PVC IRRIGA-LF JE, Fabric. TIGRE, PN 80, DN 100 OU SIMILAR","un.",30,98,2940]
[74,"Luva de correr em PVC IRRIGA-LF JE, Fabric. TIGRE, PN 80, DN 150 OU SIMILAR","un.",4,198,792]
[75,"Luva de correr em PVC IRRIGA-LF JE, Fabric. TIGRE, PN 80, DN 75 OU SIMILAR","un.",25,42,1050]
[76,"00003838 (SINAPI) - Luva de correr DEFOFO, PVC, JE, PN 125, DN 150","un.",2,136.21,272.42]
[77,"00003844 (SINAPI) - Luva de correr DEFOFO, PVC, JE, PN 125, DN 200","un.",2,242.96,485.92]
[78,"00003839 (SINAPI) - Luva de correr DEFOFO, PVC, JE, PN 125, DN 250","un.",2,442.54,885.08]
[79,"00003837 (SINAPI) – Luva Simples, PVC PBA, JE, DN 100 / DE 110 mm, Para Rede Água (NBR 10351) / Luva mista soldável x bolsa elástica em PVC IRRIGA-LF, Fabric. TIGRE, PN 80, DN 100","un.",24,53.16,1275.8399999999999]
[80,"Luva mista soldável x bolsa elástica em PVC IRRIGA-LF, Fabric. TIGRE, PN 80, DN 150","un.",12,142,1704]
[81,"00011045 (SINAPI) – Luva Simples, PVC PBA, JE, DN 75 / De 85 mm, para Rede Água (NBR 10351) / Luva mista soldável x bolsa elástica em PVC IRRIGA-LF, Fabric. TIGRE, PN 80, DN 75","un.",4,37.46,149.84]
[82,"Luva de redução 150mm x 100mm","un.",3,43.9,131.69999999999999]
[83,"00037459 (SINAPI) – Mangueira Cristal, lisa, PVC Transparente, 3/4\" x 2 mm (Peça com 20mt)","pç",8,135.6,1084.8]
[84,"Niple em aço galvanizado Æ ½” rosca bsp – fab. tupy","un",6,4.58,27.48]
[85,"00004181 (SINAPI) – Niple de Ferro Galvanizado, com rosca BSP, DE 2\" ","un",10,27.12,271.2]
[86,"00004182 (SINAPI) – Niple de Ferro Galvanizado, com rosca BSP, DE 3\" ","un",10,67.52,675.2]
[87,"00004183 (SINAPI) – Niple de Ferro Galvanizado, com rosca BSP, DE 4\" ","un",5,108.71,543.54999999999995]
[88,"Redução com bolsa soldável em PVC, IRRIGA-LF, Fabric. TIGRE, PN 80, DN 100 x 75","un.",10,13.49,134.9]
[89,"Registro de esfera 1/2\", rosca BSP, corpo de bronze","un.",8,28.44,227.52]
[90,"00006016 (SINAPI) – Registro Gaveta Bruto em Latão Forjado, Bitola 3/4\" (REF 1509) ","un.",6,30.98,185.88]
[91,"00006020 (SINAPI) – Registro Gaveta Bruto em Latão Forjado, Bitola 1/2\" (REF 1509) ","un.",6,29.37,176.22]
[92,"Registro PN 30 3\" LF LF BSP TP","un",4,534.1,2136.4]
[93,"Tê com bolsas soldável em PVC IRRIGA-LF, fabric. TIGRE, PN 80, DN 100","un.",8,38.99,311.92]
[94,"Tê de redução com bolsa soldável e adaptador PBA em PVC IRRIGA-LF, fabric. TIGRE, PN 80, DN 100 x 75","un.",8,50,400]
[95,"Tê de redução com bolsas soldável e adaptador PBA em PVC IRRIGA-LF, fabric. TIGRE, PN 80, DN 100 x 50","un.",8,51.65,413.2]
[96,"00006294 (SINAPI) – Tê de Ferro Galvanizado, DE 1/2\" ","un",2,7.27,14.54]
[97,"Tê FE-FE  Ø 100mm – flangeado – 08 furos -CMC","un.",3,500,1500]
[98,"00006300 (SINAPI) – Tê de ferro galvanizado, de 4\"","un.",5,239.98,1199.9000000000001]
[99,"Tê PVC de FoFo DN 150","un.",5,198,990]
[100,"00007696 (SINAPI) – Tubo Aço Galvanizado Com Costura, Classe Média, DN 2\", e = *3,65* Mm, peso *5,10* kg/m (NBR 5580) 6m","un.",2,620.88,1241.76]
[101,"00007694 (SINAPI) – Tubo Aço Galvanizado Com Costura, Classe Média, DN 3\", e=*4,05* mm, Peso *8,47* kg/m (NBR 5580) 6m","un.",2,1036.8599999999999,2073.7199999999998]
[102,"Tubo em ferro fundido DN 100 PN 10 Ponta Bolsa - 6m","un.",1,2200,2200]
[103,"Tubo de ferro fundido DN 200 PN 10 Ponta Bolsa - 6m","un.",1,2950,2950]
[104,"00009856 (SINAPI) – Tubo PVC, Roscável, 1/2\", Água Fria Predial - 6m","un.",4,51.18,204.72]
[105,"Tubo de PVC branco Ø 3/4” – TIGRE ou SIMILAR - 6m","un.",6,69,414]
[106,"00009866 (SINAPI) – Tubo PVC, Roscável, 1\", água fria predial","un.",6,140.63999999999999,843.84]
[107,"Tubo em PVC IRRIGA-LF JE, Fabric. TIGRE, PN 125, DN 150","un.",2,473.2,946.4]
[108,"Tubo em PVC IRRIGA-LF JE, Fabric. TIGRE, PN 125, DN 200","un.",2,1588.2,3176.4]
[109,"Tubo em PVC IRRIGA-LF JE, Fabric. TIGRE, PN 125, DN 250","un.",3,1475,4425]
[110,"Tubo em PVC IRRIGA-LF JE, Fabric. TIGRE, PN 125, DN 300","un.",2,3422,6844]
[111,"Tubo em PVC IRRIGA-LF JE, Fabric. TIGRE, PN 125, DN 350","un.",2,4662,9324]
[112,"Tubo em PVC IRRIGA-LF JE, Fabric. TIGRE, PN 40, DN 100","un.",14,126.65,1773.1]
[113,"Tubo em PVC IRRIGA-LF JE, Fabric. TIGRE, PN 40, DN 75","un.",10,75.849999999999994,758.5]
[114,"Tubo em PVC IRRIGA-LF JE, Fabric. TIGRE, PN 60, DN 100","un.",14,224.26,3139.64]
[115,"Tubo em PVC IRRIGA-LF JE, Fabric. TIGRE, PN 60, DN 150","un.",8,416,3328]
[116,"Tubo em PVC IRRIGA-LF JE, Fabric. TIGRE, PN 60, DN 200","un.",8,883.8,7070.4]
[117,"Tubo em PVC IRRIGA-LF JE, Fabric. TIGRE, PN 60, DN 250","un.",5,1490.2,7451]
[118,"Tubo em PVC IRRIGA-LF JE, Fabric. TIGRE, PN 60, DN 75","un.",10,86.92,869.2]
[119,"Tubo em PVC IRRIGA-LF JE, Fabric. TIGRE, PN 80, DN 100","un.",40,218,8720]
[120,"Tubo em PVC IRRIGA-LF JE, Fabric. TIGRE, PN 80, DN 150","un.",12,433,5196]
[121,"Tubo em PVC IRRIGA-LF JE, Fabric. TIGRE, PN 80, DN 200","un.",3,952,2856]
[122,"Tubo em PVC IRRIGA-LF JE, Fabric. TIGRE, PN 80, DN 75","un.",20,89,1780]
[123,"Tubo PVC R (Fibra de vidro) DN 400 PN 10  fabricante: INTERFIBRA","un.",3,1105.6600000000001,3316.98]
[124,"Tubo PVC R (Fibra de vidro) DN 500 PN 10  fabricante: INTERFIBRA","un.",4,1342.93,5371.72]
["TOTAL MATERIAL HIDRÁULICO",{"$nulls":4},{"$f":"SUM(F6:F128)","v":553315.69999999995}]
["TOTAL MATERIAL HIDRÁULICO COM BDI",null,null,null,0,{"$f":"F129*E130","v":0}]
[]
[" PARTE ELÉTRICA"]
["ITEM","DESCRIÇÃO","UNID.","QUANT.","VALOR","PREÇO TOTAL R$"]
[1,"00039266 (SINAPI) – Cabo Multipolar de Cobre, Flexível, Classe 4 ou 5, Isolação em HEPR, Cobertura em PVC-ST2, Antichama BWF-B, 0,6/1 KV, 3 Condutores de 70 mm²(3x70mm²)","m",15,86.5,{"$f":"PRODUCT(D134:E134)","v":1297.5}]
[2,"00001019 (SINAPI) – Cabo de Cobre, Flexível, Classe 4 ou 5, Isolação em PVC/A, Antichama BWF-B, Cobertura PVC-ST1, Antichama BWF-B, 1 Condutor, 0,6/1 kV, Seção Nominal 35 mm² ","m",15,35.659999999999997,534.9]
[3,"00039261 (SINAPI) – Cabo Multipolar de Cobre, Flexível, Classe 4 ou 5, Isolação em HEPR, Cobertura em PVC-ST2, Antichama BWF-B, 0,6/1 KV, 3 Condutores de 10 mm² (3x10mm²)","m",15,34.57,518.54999999999995]
[4,"Contator tripolar a seco: bobina em 220vca 60Hz, classe de tensão: 660v, corrente nominal 63A, contatos auxiliares 1 NA+1NF, ref. Antiga LC1 - D633, ref, atual LC 1 D 5011 M6 (TELEMECANIQUE)","un.",10,404.61,4046.1]
[5,"Relé térmico: regulagem 38-50 A; contatos auxiliares 1NA + 1NF, tipo LR1 - D 63357 (TELEMECANIQUE)","un.",2,242.67,485.34]
[6,"Fusível limitador de corrente NH: corrente nominal 100A, tamanho 00, com base 3NH 3020, tipo 3NA 1022 (SIEMENS)","un.",20,21.16,423.2]
[7,"Transformador de corrente em policarbonato: relação 150-5A, tipo box-74A (BLINDEX)","un.",3,86.64,259.92]
[8,"Amperímetro sistema ferro móvel: moldura 96x96mm, escala 0-150/300A, ligação a TC: 150-5A (H&B)","un.",5,99,495]
[9,"Voltímetro sistema ferro móvel: moldura 96x96mm, escala 0-500V, ligação direta 380V (H&B)","un.",7,74.900000000000006,524.29999999999995]
[10,"Totalizador de hora de 6 dígitos: leitura máxima 99999,9, moldura 72x72 mm, tensão nominal 220V 60 Hz, tipo DH (COEL)","un.",15,149.9,2248.5]
[11,"Chave comutadora voltimétrica: corrente nominal 16A, 4 posições 0 - AB - BC - CA, esquema A011, tipo C11 - A011/16E (SOLENOID)","un.",2,67.2,134.4]
[12,"00039266 (SINAPI) – Cabo Multipolar de Cobre, Flexível, Classe 4 ou 5, Isolação em HEPR, Cobertura em PVC-ST2, Antichama BWF-B, 0,6/1 KV, 3 Condutores de 70 mm² (3x70mm²)","m",15,86.5,1297.5]
[13,"00001019 (SINAPI) – Cabo de Cobre, Flexível, Classe 4 ou 5, Isolação em PVC/A, Antichama BWF-B, Cobertura PVC-ST1, Antichama BWF-B, 1 Condutor, 0,6/1 kV, Seção Nominal 35 mm² ","m",15,35.659999999999997,{"$f":"PRODUCT(D146:E146)","v":534.9}]
[14,"00039262 (SINAPI) – Cabo Multipolar de Cobre, Flexível, Classe 4 ou 5, Isolação em HEPR, Cobertura em PVC-ST2, Antichama BWF-B, 0,6/1 KV, 3 Condutores de 16 mm²  (3X16mm²)","m",15,54.05,{"$f":"PRODUCT(D147:E147)","v":810.75}]
[15,"Contator tripolar a seco: bobina em 220vca 60Hz, classe de tensão: 660v, corrente nominal 80A, contatos auxiliares 1 NA+1NF, ref. Antiga LC1 - D803, ref, atual LC 1 D 6511 M6 (TELEMECANIQUE)","un.",10,661.5,6615]
[16,"Relé térmico: regulagem 57-66 A; contatos auxiliares 1NA + 1NF, tipo LR1 - D 63361 (TELEMECANIQUE)","un.",4,222,888]
[17,"Fusível limitador de corrente NH: corrente nominal 125A, tamanho 00, com base 3NH 3020, tipo 3NA 1022 (SIEMENS)","un.",5,49.25,246.25]
[18,"Transformador de corrente em policarbonato: relação 150-5A, tipo box-74A(BLINDEX)","un.",3,86.64,259.92]
[19,"Amperímetro sistema ferro móvel: moldura 96x96mm, escala 0-150/300A, ligação a TC: 150-5A(H&B)","un.",5,99,495]
[20,"Voltímetro sistema ferro móvel: moldura 96x96mm, escala 0-500V, ligação direta 380V (H&B)","un.",7,74.900000000000006,524.29999999999995]
[21,"Totalizador de hora de 6 dígitos: leitura máxima 99999,9, moldura 72x72 mm, tensão nominal 220V 60 Hz, tipo DH(COEL)","un.",10,149.9,1499]
[22,"Abraçadeira em nylon DN 104 x 2,65 mm","un.",100,3.8,380]
[23,"Abraçadeira em nylon DN 161 x 13,8 mm","un.",100,2.96,296]
[24,"Análises de óleo dos transformadores (análise de gases dissolvidos e análise físico-química).","un.",30,189.1,5673]
[25,"00007307 (SINAPI) – Fundo Anticorrosivo Para Metais Ferrosos (Zarcão)","lt",3,31.98,95.94]
[26,"Base para Fusível Diazed 2A","un.",3,27.19,81.569999999999993]
[27,"Base para Fusível NH 100A","un.",10,36.369999999999997,363.7]
[28,"Bloco de contatos auxiliares, para contatos tripolares, LC1-FG43 ref. LA1-F221-2NA + 2NF, fabricante TELEMECANIQUE","un.",1,108.94,108.94]
[29,"Blocos de contatos auxiliares instantâneos, contatos auxiliares, 4NA, tipo LA-D40, fabricante TELEMECANIQUE","un.",1,48.64,48.64]
[30,"Blocos de contatos temporizados, contatos auxiliares, 1NA + 1NF com ajuste de 10 a 180 segundos, tipo LA2-D24, fabricante TELEMECANIQUE","un.",1,510.81,510.81]
[31,"Bóia superior de 15 A","un.",2,56.17,112.34]
[32,"Botoeira  para acionamento de motor (liga / desliga) COD. XALBOZBA31BC442 fabricante TELEMECANIQUE","un.",6,28.5,171]
[33,"00000977 (SINAPI) – Cabo de Cobre, Flexível, Classe 4 ou 5, Isolação em PVC/A, Antichama BWF-B, Cobertura PVC-ST1, Antichama BWF-B, 1 Condutor, 0,6/1 KV, Seção Nominal 70 mm²","un.",15,70.41,1056.1500000000001]
[34,"00000980 (SINAPI) – Cabo de Cobre, Flexível, Classe 4 ou 5, Isolação em PVC/A, Antichama BWF-B, 1 Condutor, 450/750 V, Seção Nominal 10 mm²","m",30,10.16,304.8]
[35,"00000979 (SINAPI) – Cabo de Cobre, Flexível, Classe 4 ou 5, Isolação em PVC/A, Antichama BWF-B, 1 Condutor, 450/750 V, Seção Nominal 16 mm²","m",30,15.65,469.5]
[36,"00001014 (SINAPI) – Cabo de Cobre, Flexível, Classe 4 ou 5, Isolação em PVC/A, Antichama BWF-B, 1 Condutor, 450/750 V, Seção Nominal 2,5 mm²","m",30,2.38,71.400000000000006]
[37,"00039234 (SINAPI) – Cabo de Cobre, Flexível, Classe 4 ou 5, Isolação em PVC/A, Antichama BWF-B, 1 Condutor, 450/750 V, Seção Nominal 50 mm²","m",30,50.69,1520.7]
[38,"Capacitor de 7,5 kvar Fab. Laelc (inducon)","un.",4,203.05,812.2]
[39,"Capacitor de 10 kvar Fab. Laelc (inducon)","un.",8,266.23,2129.84]
[40,"Capacitor de 12,5 kvar Fab. Laelc (inducon)","un.",4,266.89999999999998,1067.5999999999999]
[41,"Capacitor ref. 270/324-110/220 VCA","un.",4,15.4,61.6]
[42,"Contator auxiliar com bobina 220V-60Hz  tipo CA2DN140 fabricante TELEMECANIQUE","un.",5,99.49,497.45]
[43,"00001629 (SINAPI) – Contator Tripolar, Corrente de *500* A, Tensão Nominal De *500* V, Categoria AC- 2 e AC-3 / Contator tripolar a a vácuo","un.",1,11108.33,11108.33]
[44,"Contator IC 2510 M7 1NA + 1 NF","un.",10,115.98,1159.8]
[45,"Contator auxiliar CA 2 DN 40 M6","un.",10,100.39,1003.9]
[46,"Contator principal IC 5011 M7","un.",4,329.59,1318.36]
[47,"Contator principal IC 1 D 6511 M7","un.",1,450,450]
[48,"Disjuntor termomagnético tripolar, de 10 A, para operação em 220V tipo 5SP3152, fabricação SIEMENS","un.",3,38.950000000000003,116.85]
[49,"Disjuntor termomagnético tripolar, de 15 A, para operação em 380V tipo 5SK77316, fabricação SIEMENS","un.",3,40.25,120.75]
[50,"Disjuntor termomagnético tripolar, de 16 A, para operação em 220V tipo 5SP3162, fabricação SIEMENS","un.",3,46,138]
[51,"Disjuntor termomagnético tripolar, de 30 A, para operação em 380V tipo 5SK77332, fabricação SIEMENS","un.",2,46,92]
[52,"Disjuntor termomagnético de 100A","un.",3,139,417]
[53,"00002374 (SINAPI) – Disjuntor Termomagnético Tripolar 150 A / 600 V, Tipo FXD / ICC - 35 KA","un.",4,412.72,1650.88]
[54,"Disjuntor termomagnético de 80A","un.",1,139,139]
[55,"Elo fusível 3H","un.",3,5.8,17.399999999999999]
[56,"Elo fusível 5H","un.",4,5.8,23.2]
[57,"00000404 (SINAPI) – Fita Isolante De Borracha Autofusão, Uso até 69 KV (Alta Tensão) ","un.",20,11.9,238]
[58,"Fita isolante - 10m","un.",35,3.9,136.5]
[59,"Fusível de proteção Diazed de 2 A","un.",50,5.88,294]
[60,"Fusível de proteção NH 125A","un.",5,30,150]
[61,"Fusível de proteção NH 100A","un.",10,21.16,211.6]
[62,"0003295 (SINAPI) – 0003295 Fusível NH *36* a 80 Amperes, Tamanho 00, Capacidade de Interrupção de 120 KA Tensão Nominal de 500 V (80A)","un.",8,27.24,217.92]
[63,"0003295 (SINAPI) – Fusível NH *36* a 80 Amperes, Tamanho 00, Capacidade de Interrupção de 120 KA Tensão Nominal de 500 V (50A)","un.",15,27.24,408.6]
[64,"Fusível NH Ultrarrápido 50A","un.",4,49.82,199.28]
[65,"Indicador digital de nível COD. 580-ID/ 85-264 Vac fabricante NIVETEC","un.",1,1944.27,1944.27]
[66,"00038070 (SINAPI) – Interruptores Paralelos (2 módulos) 10A, 250V, Conjunto Montado Para Embutir 4\" X 2\" (PLACA + SUPORTE + MODULOS)","un.",3,13.83,41.49]
[67,"00038062 (SINAPI) – Interruptor Simples 10A, 250V, Conjunto Montado Para Embutir 4\" X 2\" (PLACA + SUPORTE + MODULO)","un.",2,5.83,11.66]
[68,"00003753 (SINAPI) – Lâmpada Fluorescente Tubular T10, de 20 ou 40 W, Bivolt","un.",10,9.0500000000000007,90.5]
[69,"Lâmpada vapor  mercúrio, 80 W-220V, base E-27","un.",20,16.75,335]
[70,"00003755 (SINAPI) – Lâmpada De Luz Mista 160 W, Base E27 (220 V)","un.",10,26.77,267.7]
[71,"Benzina plastificada para limpeza de contato do contator","un.",10,23.38,233.8]
[72,"Motor 220V 620W 3A para carregamento da mola do disjuntor a pequeno vol. de óleo de 15 kV","un.",1,1110.07,1110.07]
[73,"00004276 (SINAPI) – Para-Raios de Distribuição, Tensão Nominal 15 KV, Corrente Nominal de Descarga 5 KA","un.",2,173.13,346.26]
[74,"Programador horário eletromecânico modelo RTQD 220V-60Hz fabricante COEL","un.",1,150.19999999999999,150.19999999999999]
[75,"Reator para lâmpada vapor de mercúrio, 80W-220V","un.",1,50,50]
[76,"Rebobinamento de motor elétrico de 25CV, 660/380V, 3500 rpm","un.",4,1772.19,7088.76]
[77,"Rebobinamento de motor elétrico de 30CV, 660/380V, 3500 rpm","un.",4,1841.87,7367.48]
[78,"Rebobinamento de motor elétrico de 40CV, 660/380V, 3500 rpm","un.",4,3209.53,12838.12]
[79,"Rebobinamento de Transformador 45 KVA","un.",2,6899,13798]
[80,"Rebobinamento de Transformador 75 KVA","un.",2,6899,13798]
[81,"00002510 (SINAPI) – Rele Fotoelétrico Interno e Externo Bivolt 1000 W, de Conector, Sem Base","un.",10,37.25,372.5]
[82,"Relé térmico LRD 22","un.",4,245.93,983.72]
[83,"Terminal de compressão 95mm² fabricante CRIMPER OU SIMILAR","un.",8,12.75,102]
[84,"0007528 (SINAPI) – Tomada 2P+T 10A, 250V, Conjunto Montado para embutir 4\" X 2\" (PLACA + SUPORTE + MODULO)","un.",5,7.6,38]
[85,"Transmissor de nível eletrônico – t.ultrasônico compacto STA – 260 alimentação 230 Vac nº 9131100 sinal de saída -  4- 20mA fabricante NIVETEC","un.",8,2000,16000]
[86,"00000863 (SINAPI) – Cabo de Cobre Nu 35 mm² Meio-Duro","mt",15,39,585]
[87,"00001020 (SINAPI) – Cabo de Cobre, Flexível, Classe 4 ou 5, Isolação Em PVC/A, Antichama BWF-B, Cobertura PVC-ST1, Antichama BWF-B, 1 Condutor, 0,6/1 kV, Seção Nominal 10 mm²","mt",15,11.08,166.2]
[88,"00000996 (SINAPI) – Cabo De Cobre, Flexível, Classe 4 ou 5, Isolação em PVC/A, Antichama BWF-B, Cobertura PVC-ST1, Antichama BWF-B, 1 Condutor, 0,6/1 KV, Seção Nominal 25 mm²","mt",15,25.87,388.05]
[89,"Haste de aterramento de cobre com alma de aço tipo “copperweld”, extremidade cilíndrico-cônica, diâmetro de ¾” e 3,0 m de comprimento","un.",3,61,183]
[90,"Disjuntor Caixa moldada trifásica de 100A","un.",1,441.17,441.17]
[91,"Disjuntor Caixa moldada trifásica de 125A","un.",1,486.16,486.16]
[92,"Disjuntor Caixa moldada trifásica de 150A","un.",1,450.5,450.5]
[93,"Disjuntor Caixa moldada trifásica de 800A","un.",1,1858.33,1858.33]
[94,"Porta fusível 100A para poste","un.",1,129.77000000000001,129.77000000000001]
[95,"Indicador LED Amarelo","un.",10,11.66,116.6]
[96,"Indicador LED Branco","un.",10,11.66,116.6]
[97,"Indicador LED Verde","un.",10,11.66,116.6]
[98,"Indicador LED Vermelho","un.",10,11.66,116.6]
[99,"Anodo de titânio, nas dimensões de 1,5m de comprimento, 17 mm de largura e 2,5 mm de espessura, encamisado em tubo de aço carbono (canister) de diâmetro 3” por 2000 mm de comprimento, fornecido com 1,0 metro de cabo de cobre bitola 10 mm², com classe 0,6/1,0 kV com isolamento de polietileno de alto peso molecular.","un.",1,3250,3250]
[100,"Conector reforçado para ligação de cabo de cobre nu bitola 35 mm2 a haste de diâmetro ¾” em liga de latão, com acessórios para fixação à haste, tipo GAR 6426 da Burndy ou similar","un.",1,15.4,15.4]
[101,"Mufla plástica, classe 1,0 kV, completa com resina epoxi líquida para isolamento da conexão do cabo do anodo com o cabo mestre da cama de anodos, com volume de 400 cm³ tipo T2 da Engecorr, ou similar","un.",1,200.35,200.35]
[102,"Amperímetro de escala 0 a 800A, 800/5A","un",3,122.73,{"$f":"D235*E235","v":368.19}]
[103,"Amperímetro de escala 0 a 250A, 250/5A","un",3,96.08,288.24]
[104,"Amperímetro de escala 0 a 300/600A, 300/5A","un",3,66.959999999999994,200.88]
[105,"Amperímetro de escala 0 a 400/800A, 400/5A","un",3,114.61,343.83]
[106,"Análises de óleo dos transformadores (análise de gases dissolvidos e análise físico-química).","un",10,189.1,1891]
[107,"Armação de sinalização cor  amarela, soquete P/BA 150, tipo XB MV 103, fab. Telemecanique","un",1,87.25,87.25]
[108,"Armação de sinalização cor verde, soquete P/BA 150, tipo XB MV 103, fab. Telemecanique","un",3,87.25,261.75]
[109,"Armação de sinalização cor vermelha, soquete P/BA 150, tipo XB MV 103, fab. Telemecanique","un",3,87.25,261.75]
[110,"Base para fusível DIAZED  completa com parafuso e arruela de proteção","cj",6,34,204]
[111,"Bateria de 1,5Vcc (grande)","un",20,18,360]
[112,"Bateria retangular - 9V.","un",10,8.8800000000000008,88.8]
[113,"Benzina plastificada para limpeza de contato do contator","lt",4,23.38,93.52]
[114,"Bloco de contatos auxiliares, para contatos tripolares, LC1-FG43 ref. LA1-F221-2NA + 2NF, fabricante TELEMECANIQUE","un",4,108.94,435.76]
[115,"Blocos de contatos auxiliares instantâneos, contatos auxiliares, 4NA, tipo LA-D40, fabricante TELEMECANIQUE","un",3,48.64,145.91999999999999]
[116,"Blocos de contatos temporizados, contatos auxiliares, 1NA + 1NF com ajuste de 10 a 180 segundos, tipo LA2-D24, fabricante TELEMECANIQUE","un",4,510.81,2043.24]
[117,"Bobina de tensão 220 V-60Hz, para contator auxiliar instantâneo, tipo CA2DN122-CA2-DK122-LC1-D08 Ref. LXI-D09190, fabricação TELEMECANIQUE","un",1,33,33]
[118,"Bobina de tensão 220 V-60Hz, para contator tripolar, tipo -LC1- F 403 Ref. LXI-D 40185, fabricação TELEMECANIQUE","un",1,198.55,198.55]
[119,"Bobina de tensão 220 V-60Hz, para contator tripolar, tipo -LC1- FH 43 Ref. LXI-FH 184, fabricação TELEMECANIQUE","un",1,840.68,840.68]
[120,"Bobina de tensão 220 V-60Hz, para contator tripolar, tipo -LC1- FJ 43 Ref. LXI-FJ220, fabricação TELEMECANIQUE","un",1,840.68,840.68]
[121,"Bobina de tensão 220 V-60Hz, para contator tripolar, tipo LCI-FG43 Ref. LXI-FG 184, fabricação TELEMECANIQUE","un",1,840.68,840.68]
[122,"Bobina LX1 D09 - TELEMECANIQUE","un",6,95.46,572.76]
[123,"Botoeira  para acionamento de motor (liga / desliga) COD. XALBOZBA31BC442 fabricante TELEMECANIQUE","un",6,28.5,171]
[124,"00000998 (SINAPI) – Cabo De Cobre, Flexível, Classe 4 Ou 5, Isolação em PVC/A, Antichama BWF-B, Cobertura PVC-ST1, Antichama BWF-B, 1 Condutor, 0,6/1 KV, Seção Nominal 95 mm²","m",20,93.53,1870.6]
[125,"Calha para lâmpadas fluorescentes (duas lâmpadas) 40W","un",9,27.6,248.4]
[126,"Caixa elétrica FAME SOB 4x2 - 0934","un",8,3.3,26.4]
[127,"Calha para uma lâmpada fluorescente de 40W","un",6,27.6,165.6]
[128,"Canaleta FAME 2.0m 0933","un",15,6.2,93]
[129,"Capacitor de 30 kVar/380V Fab. Laelc (inducon)","un",2,661,1322]
[130,"Capacitor de 40 kVar/380V Fab. Laelc (inducon)","un",3,901,2703]
[131,"Capacitor de 45 kVar/380V Fab. Laelc (inducon)","un",2,1095.79,2191.58]
[132,"Capacitor de 50 kVar/380V Fab. Laelc (inducon)","un",3,967,2901]
[133,"Capacitor de 60 kVar/380V Fab. Laelc (inducon)","un",2,1500,3000]
[134,"Chave de nível tipo pêra, com ampola de mercúrio, ref.  FLIGHTENH- 10 OU SIMILAR (contato N.A.)","un",4,29.84,119.36]
[135,"00005047 (SINAPI) – Chave Fusível para Redes de Distribuição, Tensão de 15,0 kV, Corrente Nominal do Porta Fusível de 100 A, Capacidade de Interrupção Simétrica de 7,10 KA, Capacidade de Interrupção Assimétrica 10,00 KA ","un",3,281.69,845.07]
[136,"Contator auxiliar com bobina 220V-60Hz  tipo CA2DN140 fabricante TELEMECANIQUE","un",4,99.49,397.96]
[137,"Contator auxiliar instantâneo bobina 220V-60Hz, contatos 2NA+2NF, tipo LA2-122 fabricante TELEMECANIQUE","un",8,55.53,444.24]
[138,"00001626 (SINAPI) – Contator Tripolar, Corrente de *185* A, Tensão Nominal de *500* V, Categoria AC-2 e AC-3","un",1,2022.64,2022.64]
[139,"00001617 (SINAPI) – Contator Tripolar, Corrente de 400 A, Tensão Nominal de *500* V, Categoria AC-2 e AC-3","un",1,6406.88,6406.88]
[140,"00001629 (SINAPI) – Contator Tripolar, Corrente de *500* A, Tensão Nominal de *500* V, Categoria AC-2 e AC-3","un",1,11108.33,11108.33]
[141,"Disjuntor termomagnético tripolar, de 10 A, para operação em 220V tipo 5SP3152, fabricação SIEMENS","un",6,38.950000000000003,233.7]
[142,"Disjuntor termomagnético tripolar, de 15 A, para operação em 380V tipo 5SK77316, fabricação SIEMENS","un",6,40.25,241.5]
[143,"Disjuntor termomagnético tripolar, de 16 A, para operação em 220V tipo 5SP3162, fabricação SIEMENS","un",4,46,184]
[144,"Disjuntor termomagnético tripolar, de 30 A, para operação em 380V tipo 5SK77332, fabricação SIEMENS","un",4,46,184]
[145,"Disjuntor termomagnético tripolar, de 4 A, para operação em 380V tipo 5SK77304, fabricação SIEMENS","un",2,48.91,97.82]
[146,"Disjuntor termomagnético tripolar, de 50 A, para operação em 380V","un",4,40.25,161]
[147,"Disjuntor termomagnético tripolar, de 6 A, para operação em 380V","un",4,48.91,195.64]
[148,"00034653 (SINAPI) – Disjuntor Tipo DIN/IEC, Monopolar de 6A até 32A (4A)","un",4,9.49,37.96]
[149,"00034653 (SINAPI) – Disjuntor Tipo DIN/IEC, Monopolar de 6A até 32A (6A)","un",4,9.49,37.96]
[150,"Disjuntor unipolar 10A - SIEMENS","un",8,10.89,87.12]
[151,"Dispositivo de disparo a capacitador 115 Vca/220 Vca. Fab.Westingouse   P/ disjuntor de 15 kV ABB","un",1,546.74,546.74]
[152,"Elo fusível de 1H, para chave indicadora curto - circuito  50 A/15 kV","un",23,5.8,133.4]
[153,"Elo fusível de 100K, para chave indicadora curto - circuito  100 A/15 kV","un",5,22.21,111.05]
[154,"Elo fusível de 15K, para chave indicadora curto - circuito  100 A/15 kV","un",20,6.18,123.6]
[155,"Elo fusível de 30K, para chave indicadora curto - circuito  100 A/15 kV","un",8,10,80]
[156,"Elo fusível de 50K, para chave indicadora curto - circuito  100 A/15 kV","un",5,9.5,47.5]
[157,"00000404 (SINAPI) – Fita Isolante De Borracha Autofusão, Uso até 69 KV (Alta Tensão) ","un",30,11.9,357]
[158,"Fita isolante - 10m","un",30,3.9,117]
[159,"Fusível de proteção Diazed de 2 A","un",15,5.88,88.2]
[160,"Fusível de proteção Diazed de 4 A","un",15,9.27,139.05000000000001]
[161,"Fusível de proteção Diazed de 6 A","un",10,9.11,91.1]
[162,"Fusível de proteção, NH, 250A, 1/GL, 500V","un",9,58.24,524.16]
[163,"Fusível de proteção, NH, 315A, 2/GL, 500V","un",6,82.12,492.72]
[164,"Fusível de proteção, NH, 400A, 2/GL, 500V","un",6,88.14,528.84]
[165,"Fusível de proteção, NH, 500A, 3/GL, 500V","un",13,111.43,1448.59]
[166,"0003295 (SINAPI) – Fusível NH *36* a 80 Amperes, Tamanho 00, Capacidade de Interrupção de 120 KA Tensão Nominal de 500 V (63A)","un",9,27.24,245.16]
[167,"0003295 (SINAPI) – 0003295 Fusível NH *36* a 80 Amperes, Tamanho 00, Capacidade de Interrupção de 120 KA Tensão Nominal de 500 V (80A)","un",6,27.24,163.44]
[168,"Horimetro modelo DH 1/100 220V-60 Hz  fabricante COEL","un",6,149.9,899.4]
[169,"Indicador digital de nível COD. 580-ID/ 85-264 Vac fabricante NIVETEC","un",2,1944.27,3888.54]
[170,"00038062 (SINAPI) – Interruptor Simples 10A, 250V, Conjunto Montado Para Embutir 4\" X 2\" (PLACA + SUPORTE + MODULO)","un",7,5.83,40.81]
[171,"00038070 (SINAPI) – Interruptores Paralelos (2 módulos) 10A, 250V, Conjunto Montado Para Embutir 4\" X 2\" (PLACA + SUPORTE + MODULOS)","un",7,13.83,96.81]
[172,"Interruptor FAME simp. Externo 0940","un",7,9.48,66.36]
[173,"Interruptor FAME dup.externo 0946","un",7,13.79,96.53]
[174,"00038070 (SINAPI) – Interruptores Paralelos (2 módulos) 10A, 250V, Conjunto Montado Para Embutir 4\" X 2\" (PLACA + SUPORTE + MODULOS)                                                                                                                                                                                           ","un",11,13.83,152.13]
[175,"00038062 (SINAPI) – Interruptor Simples 10A, 250V, Conjunto Montado Para Embutir 4\" X 2\" (PLACA + SUPORTE + MODULO)","un",15,5.83,87.45]
[176,"Jogo de contatos principais para contator ref. LA5-FG 431 fab. Telemecanique","un",1,1221,1221]
[177,"Jogo de contatos principias para contator ref. LA5-FH 431 (265a) fab. Telemecanique","un",1,1558.88,1558.88]
[178,"Jogo de contatos principais para contator ref. LA5-FJ 431 (450a) fab. Telemecanique","un",2,1558.88,3117.76]
[179,"Kit Rotor para sensor de vazão mod. 3-2540-320 fab.SIGNET","un",3,1280,3840]
[180,"00003753 (SINAPI) – Lâmpada Fluorescente Tubular T10, de 20 ou 40 W, Bivolt","un",43,9.0500000000000007,389.15]
[181,"Lâmpada incandescente 100 W- 220V, base E-27 (Caixa com 30 unidades)","cx",1,169.8,169.8]
[182,"Lâmpada mista 250W-220V, base E-40","un",18,20.440000000000001,367.92]
[183,"Lâmpada para sinalização de comando, ref. Koomei –kt 260V","cx",7,543.4,3803.8]
[184,"Lâmpada vapor mercúrio, 80 W-220V, base E-27","un",35,16.75,586.25]
[185,"Motor 220V 620W 3A para carregamento da mola do disjuntor a pequeno vol. de óleo de 15 Kv","un",1,1110.07,1110.07]
[186,"Óleo isolante para transformador","lt",60,21.8,1308]
[187,"00004276 (SINAPI) – Para-Raios de Distribuição, Tensão Nominal 15 KV, Corrente Nominal de Descarga 5 KA","un",3,173.13,519.39]
[188,"Programador horário eletromecânico modelo RTQD 220V-60Hz fabricante COEL","un",3,150.19999999999999,450.6]
[189,"Protetor de surto MPD-590/24vcc (Nivetec)","un",6,19.16,114.96]
[190,"Reator eletrônico para lâmpada fluorescente 220V/40W","un",8,46.6,372.8]
[191,"Reator para lâmpada vapor de mercúrio, 80W-220V","un",23,50,1150]
[192,"Reator partida rápida p/duas lâmpadas fluorescente de 40w-220v","un",30,46.6,1398]
[193,"Rebobinamento de motor elétrico de 100CV, 660/380V, 1750 rpm","un",2,6379.54,12759.08]
[194,"Rebobinamento de motor elétrico de 125CV, 660/380V, 1750 rpm","un",2,9125.01,18250.02]
[195,"Rebobinamento de motor elétrico de 150CV, 660/380V, 1750 rpm","un",3,9947.89,29843.67]
[196,"Rebobinamento de motor elétrico de 175CV, 660/380V, 1750 rpm","un",2,11878.07,23756.14]
[197,"Rebobinamento de motor elétrico de 200CV, 660/380V, 1750 rpm","un",7,12503.29,87523.03]
[198,"Rebobinamento de motor elétrico de 20CV, 660/380V, 3500 rpm","un",2,1576.02,3152.04]
[199,"Rebobinamento de motor elétrico de 250CV, 660/380V, 1750 rpm","un",2,14024.3,28048.6]
[200,"Rebobinamento de motor elétrico de 25CV, 660/380V, 3500 rpm","un",2,1772.19,3544.38]
[201,"Rebobinamento de motor elétrico de 40CV, 660/380V, 3500 rpm","un",2,3209.53,6419.06]
[202,"00002510 (SINAPI) – Rele Fotoelétrico Interno e Externo Bivolt 1000 W, de Conector, Sem Base","un",10,37.25,372.5]
[203,"Relé térmico classe de tensão  600V-60Vz, regulagem 100-160 A, tipo LR1-F160, fabricante TELEMECANIQUE","un",2,514.16999999999996,1028.3399999999999]
[204,"Relé térmico classe de tensão  600V-60Vz, regulagem 160-250 A, tipo LR1-F250, fabricante TELEMECANIQUE","un",1,871.5,871.5]
[205,"Relé térmico classe de tensão  600V-60Vz, regulagem 200-315 A, tipo LR1-F315, fabricante TELEMECANIQUE","un",1,785.91,785.91]
[206,"Relé térmico classe de tensão  600V-60Vz, regulagem 250-400 A, tipo LR1-F400, fabricante TELEMECANIQUE","un",2,1017,2034]
[207,"Restauração em motor 150 CV 4 polos trifásico","un",1,2277.5,2277.5]
[208,"Suporte para lâmpadas fluorescentes (partida rápida)","un",20,3,60]
[209,"Terminal de compressão 150mm² fabricante CRIMPER OU SIMILAR","un",20,13.76,275.2]
[210,"Terminal de compressão 95mm² fabricante CRIMPER OU SIMILAR","un",30,12.75,382.5]
[211,"00001578 (SINAPI) – Terminal a Compressão em Cobre Estanhado para Cabo 50 mm², 1 Furo e 1 Compressão, para Parafuso de Fixação M8","un",10,4.4800000000000004,44.8]
[212,"00038075 (SINAPI) – Tomada 2P+T 20A 250V, Conjunto Montado Para Embutir 4\" X 2\" (PLACA + SUPORTE + MODULO)","un",7,13.16,92.12]
[213,"00038075 (SINAPI) – Tomada 2P+T 20A 250V, Conjunto Montado Para Embutir 4\" X 2\" (PLACA + SUPORTE + MODULO)","un",7,13.83,96.81]
[214,"Totalizador de hora de 6 dígitos: leitura máxima 99999,9, moldura 72x72 mm, tensão nominal 220V 60 Hz, tipo DH(COEL)","un",4,149.9,599.6]
[215,"00012076 (SINAPI) – Transformador Trifásico de Distribuição, Potência de 15 KVA, Tensão Nominal de 15 KV, Tensão Secundária De 220/127v, em Óleo Isolante Tipo Mineral","un",2,6360.08,12720.16]
[216,"Transmissor de nível eletrônico – t.ultrasônico compacto STA – 260 alimentação 230 Vac nº 9131100 sinal de saída -  4- 20mA fabricante NIVETEC","un",1,2000,2000]
[217,"Voltímetro FM 96 x 96 escala: 0-500V Lig. TP 402,5/115V COD: N0010432143HC fabricante ABB","un",3,74.900000000000006,224.7]
["TOTAL PARTE ELÉTRICA",{"$nulls":4},{"$f":"SUM(F134:F350)","v":462274.6}]
["TOTAL PARTE ELÉTRICA COM BDI",{"$nulls":4},{"$f":"F351*E352","v":0}]
[]
["PARTE CIVIL"]
["ITEM","DESCRIÇÃO","UNID.","QUANT.","VALOR","PREÇO TOTAL R$"]
[1,"00043055 (SINAPI) - ACO CA-50, 12,5 MM OU 16,0 MM, VERGALHAO","kg",{"$f":"ROUND(G356,0)","v":116},9.43,{"$f":"D356*E356","v":1093.8800000000001},{"$f":"10*12*0.963","v":115.56}]
[{"$f":"A356+1","v":2},"00000034 (SINAPI) - ACO CA-50, 10,0 MM, VERGALHAO","kg",{"$f":"ROUND(G357,0)","v":74},10.89,805.86,{"$f":"0.617*10*12","v":74.040000000000006}]
[3,"00043059 (SINAPI) - ACO CA-60, 4,2 MM, OU 5,0 MM, OU 6,0 MM, OU 7,0 MM, VERGALHAO","kg",{"$f":"ROUND(G358,0)","v":18},10.3,185.4,{"$f":"10*12*0.154","v":18.48}]
[4,"00000033 (SINAPI) - ACO CA-50, 8,0 MM, VERGALHAO","kg",{"$f":"ROUND(G359,0)","v":47},11.55,542.85,{"$f":"12*10*0.395","v":47.4}]
[5,"00000339 (SINAPI) - ARAME FARPADO GALVANIZADO, 14 BWG (2,11 MM), CLASSE 250","m",2500,1.4,3500]
[6,"00043132 (SINAPI) - ARAME RECOZIDO 16 BWG, D = 1,65 MM (0,016 KG/M) OU 18 BWG, D = 1,25 MM (0,01 KG/M)","kg",6,23,138]
[7,"00000345 (SINAPI) - ARAME GALVANIZADO 18 BWG, D = 1,24MM (0,009 KG/M)","kg",10,32.799999999999997,328]
[8,"ARGAMASSA SIKAGROUT IMPERMEABILIZANTE (SACO 25KG)","um",10,29.99,299.89999999999998]
[9,"00000377 (SINAPI) - ASSENTO SANITARIO DE PLASTICO, TIPO CONVENCIONAL","un.",4,36.549999999999997,146.19999999999999]
[10,"00000510 (SINAPI) - ASFALTO MODIFICADO TIPO I - NBR 9910 (ASFALTO OXIDADO PARA IMPERMEABILIZACAO, COEFICIENTE DE PENETRACAO 25-40)","kg",160,9.06,1449.6]
[11,"00004721 (SINAPI) - PEDRA BRITADA N. 1 (9,5 a 19 MM) POSTO PEDREIRA/FORNECEDOR, SEM FRETE","m³",16,69.650000000000006,1114.4000000000001]
[12,"Brocha p/ pintura","un.",10,5.25,52.5]
[{"$f":"A367+1","v":13},"00005085 (SINAPI) - CADEADO SIMPLES, CORPO EM LATAO MACICO, COM LARGURA DE 35 MM E ALTURA DE APROX 30 MM, HASTE CEMENTADA (NAO LONGA), EM ACO TEMPERADO COM DIAMETRO DE APROX 6,0 MM, INCLUINDO 2 CHAVES","un.",16,29.4,470.4]
[14,"00043603 (SINAPI) - CADEADO SIMPLES, CORPO EM LATAO MACICO, COM LARGURA DE 50 MM E ALTURA DE APROX 40 MM, HASTE CEMENTADA EM ACO TEMPERADO COM DIAMETRO DE APROX 8,0 MM, INCLUINDO 2 CHAVES","un.",16,42,672]
[15,"00004513 (SINAPI) - CAIBRO 5 X 5 CM EM PINUS, MISTA OU EQUIVALENTE DA REGIAO - BRUTA","m",60,6.22,373.2]
[16,"00001030 (SINAPI) - CAIXA DE DESCARGA DE PLASTICO EXTERNA, DE *9* L, PUXADOR FIO DE NYLON, NÃO INCLUSO CANO, BOLSA, ENGATE","un.",4,45.6,182.4]
[17,"00001379 (SINAPI) - CIMENTO PORTLAND COMPOSTO CP II-32","Sc",400,37.5,15000]
[18,"00007292 (SINAPI) - TINTA ESMALTE SINTETICO PREMIUM BRILHANTE","L",324,29.65,9606.6]
[19,"00004102 (SINAPI) –  Mourão de concreto reto, seção quadrada, *10 x 10* cm, h= 3,00 m","un.",100,54,5400]
[20,"00038153 (SINAPI)  FECHADURA ESPELHO PARA PORTA DE BANHEIRO, EM ACO INOX (MAQUINA, TESTA E CONTRA-TESTA) E EM ZAMAC (MACANETA, LINGUETA E TRINCOS) COM ACABAMENTO CJ ","un.",14,62.99,881.86]
[21,"00011621 (SINAPI) - MANTA ASFALTICA ELASTOMERICA EM POLIESTER ALUMINIZADA 3 MM, TIPO III, CLASSE B (NBR 9952)","m²",40,39.590000000000003,1583.6]
[22,"00011622 (SINAPI) - SELANTE A BASE DE ALCATRAO E POLIURETANO PARA JUNTAS HORIZONTAIS","kg",100,65.760000000000005,6576]
[23,"Linha 7 x 14","m",24,43.19,1036.56]
[24,"Lixa d’água nº 220","un.",120,1,120]
[25,"Lixa de ferro nº 100","un.",80,1.5,{"$f":"PRODUCT(D380:E380)","v":120}]
[26,"Lixa de parede nº 100","un.",100,0.68,68]
[27,"00004047 (SINAPI) - MASSA CORRIDA PVA PARA PAREDES INTERNAS (3,6L)","gl",60,13.38,802.8]
[28,"Pincel 1”","un.",40,2.19,87.6]
[29,"Pincel 2”","un.",40,3.29,131.6]
[30,"00039027 (SINAPI) - PREGO DE ACO POLIDO COM CABECA 19 X 36 (3 1/4 X 9)","Kg",4,19.71,78.84]
[31,"00038393 (SINAPI) - ROLO DE ESPUMA POLIESTER 23 CM (SEM CABO)","un.",20,14.78,295.60000000000002]
[32,"Rolo de espuma 9 cm","un.",16,3.7,59.2]
[33,"00020247 (SINAPI) - PREGO DE ACO POLIDO COM CABECA 15 X 15 (1 1/4 X 13)","kg",4,21.85,87.4]
[34,"00004412 (SINAPI) - RIPA NAO APARELHADA *1 X 3* CM, EM MACARANDUBA, ANGELIM OU EQUIVALENTE DA REGIAO - BRUTA","m",60,2.5099999999999998,150.6]
[35,"00006149 (SINAPI) - SIFAO PLASTICO TIPO COPO PARA PIA OU LAVATORIO, 1 X 1.1/2 \"","un.",8,13.12,104.96]
[36,"00005318 (SINAPI) - SOLVENTE DILUENTE A BASE DE AGUARRAS","L",50,14.64,732]
[37,"Separador de arame de cerca (balacin) c/100","jg",10,196.31,1963.1]
[38,"00011065 (SINAPI) - TAMPAO PARA TELHA ESTRUTURAL DE FIBROCIMENTO 2 ABAS, DE 787 X 215 X 60 MM (SEM AMIANTO)","un.",6,19.91,119.46]
[39,"00007231 (SINAPI) - TELHA ESTRUTURAL (CANALETE 90) DE FIBROCIMENTO 2 ABAS, DE 1,00 X 6,00 M (SEM AMIANTO) 8MM","un.",10,594.25,5942.5]
[40,"00007233 (SINAPI) - TELHA ESTRUTURAL (CANALETE 90) 8MM DE FIBROCIMENTO 2 ABAS, DE 1,00 X 9,20 M (SEM AMIANTO)","un.",10,940.91,9409.1]
[41,"00007266 (SINAPI) - BLOCO CERAMICO VAZADO PARA ALVENARIA DE VEDACAO, DE 9 X 19 X 19 CM (L X A X C)","mil",2,700,1400]
[42,"Tinta em pó solúvel em água","un.",600,5.9,3540]
[43,"00007344 (SINAPI) -  TINTA LATEX PVA PREMIUM, COR BRANCA (18L)","GL",24,55.92,1342.08]
[44,"00013415 (SINAPI) - TORNEIRA CROMADA DE MESA PARA LAVATORIO, PADRAO POPULAR, 1/2 \" OU 3/4 \" (REF UN 57,021193)","un.",8,57.02,456.16]
[45,"00011822 (SINAPI) - TORNEIRA PLASTICA DE MESA, BICA MOVEL, PARA COZINHA 1/2 \"","un.",2,56.49,112.98]
[46,"00007602 (SINAPI) - TORNEIRA METAL AMARELO COM BICO PARA JARDIM, PADRAO POPULAR, 1/2 \" OU 3/4\"","un.",2,36.380000000000003,72.760000000000005]
[{"$f":"A401+1","v":47},"00007307 (SINAPI) - FUNDO ANTICORROSIVO PARA METAIS FERROSOS (ZARCAO)","L",44,31.98,{"$f":"D402*E402","v":1407.12}]
["TOTAL PARTE CIVIL",{"$nulls":4},{"$f":"SUM(F356:F402)","v":80043.070000000007}]
["TOTAL PARTE CIVIL COM BDI",{"$nulls":4},{"$f":"E404*F403","v":0}]
[]
["PARTE MECÂNICA"]
["ITEM","DESCRIÇÃO","UNID.","QUANT.","VALOR","PREÇO TOTAL R$"]
[1,"Luva protetora do eixo MEG. BLOC 1.3","un.",10,266.52999999999997,{"$f":"PRODUCT(D408:E408)","v":2665.3}]
[2,"Rolamento 6211 ZZ SKF","un.",10,92.45,924.5]
[3,"Rolamento 6212 ZZ SKF","un.",15,113.54,1703.1]
[4,"Rolamento 6311 ZZ SKF","un.",10,174.02,1740.2]
[5,"Rolamento 6312 ZZ SKF","un.",20,200.02,4000.4]
[6,"Tampa de pressão MEG. BLOC 160","un.",10,519.12,5191.2]
[7,"Ventoinha p/ motores de 25 CV WEG Ref.180","un.",10,20.18,201.8]
[8,"Ventoinha p/ motores de 30 e 40 CV WEG","un.",15,61.96,929.4]
[9,"Anel de desgaste do sino (Cód.2402160700148)","un.",1,3641.37,3641.37]
[10,"Anel de desgaste do sino (Cód.2402160600148)","un.",1,3407.37,3407.37]
[11,"Anel de desgaste do rotor(2402199900148)","un.",1,2749.32,2749.32]
[12,"Anel de desgaste do rotor(2402199800148)","un.",1,2578.7199999999998,2578.7199999999998]
[13,"Castanha de escoramento dos eixos(Cód. 2402222300230)","un.",4,3391.26,13565.04]
[14,"Anel Vedador ref.4406500532369","un.",2,65.19,130.38]
[15,"Anel Vedador ref.4406500351369","un.",2,47.89,95.78]
[16,"Bucha intermediária bdo eixo (Cód. 2402249100157)","un.",7,11630.33,81412.31]
[17,"Bucha de Tensão (Cód. 230.2249000148)","un.",1,15912.04,15912.04]
[18,"Bucha do sino inferior  (Cód. 3312001338157)","un.",1,6186.94,6186.94]
[19,"Bucha do sino superior  (Cód. 3312001338157)","un.",1,6186.94,6186.94]
[20,"Chaveta (Cód. 3424303179232)","un.",12,629.97,7559.64]
[21,"Eixo da Bomba (Cód. 2303072400240)","un.",1,20214.689999999999,20214.689999999999]
[22,"Eixo intermediário Aço 1045 (Cód. 2402221910232)","un.",1,6825,6825]
[23,"Bucha do estabilizador (Cód. 2403124300369)","un.",4,1331.42,5325.68]
[24,"Luva de Acoplamento dos Eixos (Cód. 2402222000230)","un.",3,4370.75,13112.25]
[25,"Mancal do corpo de descarga (Cód. 2402265400610)","un.",1,24387.25,24387.25]
[26,"Óleo Lubrificante 68 DE 20L","gl",18,297.83999999999997,5361.12]
[27,"Retentor do bombeador (Cód. 4406510274370)","un.",2,337.27,674.54]
[28,"Rolamento 6026/C3  ","un.",1,805.06,805.06]
[29,"Rolamento 6024/C3","un.",1,626.84,{"$f":"D436*E436","v":626.84}]
[30,"Rolamento 7322 BCBCM  ","un.",2,5864.27,11728.54]
[31,"Rolamento 7324 BCBCM  ","un.",2,7154.12,14308.24]
[32,"Sino de sucção inferior (Cód. 7302197000625)","un.",1,31200,31200]
[33,"Sino de sucção superior (Cód. 7302196900625)","un.",1,31200,31200]
[34,"Válvula de pé com crivo ASND Dn 8\" FF","un.",3,1717,5151]
[35,"Porcas de 5/8\"","un.",20,0.19,{"$f":"PRODUCT(D442:E442)","v":3.8}]
[36,"Válvula ventosa automática de tríplice função modelo vtff-1 de 50 mm","un.",1,543.12,543.12]
[37,"Válvula ventosa automática de tríplice função modelo vtff-1 de 100 mm","un.",1,2486.3200000000002,2486.3200000000002]
[38,"Válvula ventosa automática de tríplice função modelo vtff-1 de 150 mm","un.",1,3800,3800]
[39,"Válvula ventosa automática de tríplice função modelo vtff-1 de 200 mm","un.",1,1950,1950]
[40,"Válvula de gaveta 100mm FF ANSI Haste ascendente","un.",1,695,695]
[41,"Válvula de gaveta 150mm FF ANSI Haste ascendente",null,1,1114.29,1114.29]
[42,"Válvula de gaveta 250mm FF ANSI Haste ascendente","un.",1,3543,3543]
[43,"Válvula borboleta DN 300 corpo e disco em ferro, vedação EPDM acionamento com redutor  de engrenagem lateral -  PN 16","un.",1,2772.72,2772.72]
[44,"Válvula borboleta DN 350 corpo e disco em ferro, vedação EPDM acionamento com redutor  de engrenagem lateral - PN 16","un.",1,4042.14,4042.14]
[45,"Válvula borboleta DN 500 corpo e disco em ferro, vedação EPDM acionamento com redutor  de engrenagem lateral","un.",1,11519.09,11519.09]
[46,"Válvula de Alívio e Sustentadora de Pressão 4\"(100mm) Mod.730 (ABNT-16)","un.",1,4947.29,{"$f":"D453*E453","v":4947.29}]
[47,"Anel do disco de fechamento","un.",1,180.69,{"$f":"PRODUCT(D454:E454)","v":180.69}]
[48,"Eixo (Válvula Klaval de controle hidráulico Mod. 780 -X de 6\")","un.",1,752.91,752.91]
[49,"Válvula borboleta DN 300 corpo e disco em Ferro vedação EPDM acionamento Alavanca","un.",1,2777.72,2777.72]
[50,"Válvula alívio ou sustentadora a montante DN 100mm modelo RBA 1111","un.",1,4947.29,4947.29]
[51,"Rolamento 6316/C3","un.",1,357.13,357.13]
[52,"Selo mecânico T21 3.1/2\"","un.",1,120,120]
[53,"Anel de desgaste 3.1/2\"","un.",1,931.01,931.01]
[54,"Bucha do eixo de 3 1/2\"","un.",1,2829.17,2829.17]
[55,"Abraçadeira em aço para mangote Æ 2” – com parafuso de regulagem","un.",4,12.15,48.6]
[56,"Broca em aço  1/2\"","un.",1,31.98,31.98]
[57,"Broca em aço 1/4\"","un.",1,8.4700000000000006,8.4700000000000006]
[58,"Broca em aço 3/16\"","un.",1,5.38,5.38]
[59,"Broca em aço  5/16\"","un.",1,11.29,11.29]
[60,"Broca em videa 1/4\"","un.",1,8.4700000000000006,8.4700000000000006]
[61,"Broca em videa 5/16\"","un.",1,11.29,11.29]
[62,"Broca em aço  1/8\"","un.",1,4.04,4.04]
[63,"Broca em aço  3/4\"","un.",1,345.53,345.53]
[64,"Broca em aço  3/8\"","un.",1,17.66,17.66]
[65,"Broca em aço  5/32\"","un.",1,4.58,4.58]
[66,"Broca em aço  5/8\"","un.",1,185.92,185.92]
[67,"Broca em aço  7/16\"","un.",1,26.11,26.11]
[68,"Broca em vídea 6 mm","un.",1,6.49,6.49]
[69,"Broca em vídea 8 mm","un.",1,10.11,10.11]
[70,"Broca em vídea 10 mm","un.",1,16.28,16.28]
[71,"Broca em vídea 12 mm","un.",1,17.77,17.77]
[72,"Broca em vídea 5/8\"","un.",1,35.08,35.08]
[73,"Bujão em aço galvanizado Æ ½ “com rosca bsp – fab. tupy","un.",5,2.84,14.2]
[74,"Embuchamento 100 a 200 mm, em tampa de motor (Serviço de usinagem)","un.",20,550,11000]
[75,"Epoxi para manutenção e reparos industriais (solda à frio)","un.",10,528.9,5289]
[76,"00000013 (SINAPI) - Estopa","kg",70,15.59,1091.3]
[77,"Junta de amianto grafitada – espessura 0,5mm","un.",4,8.0299999999999994,32.119999999999997]
[78,"Junta de papel guarnital – espessura 0,5mm","un.",4,20.92,83.68]
[79,"00003768 (SINAPI) Lixa para ferro","un.",8,2.4500000000000002,19.600000000000001]
[80,"Macho em aço 1/2\"","un.",2,88.99,177.98]
[81,"Macho em aço 1/4\"","un.",1,68.61,68.61]
[82,"Macho em aço 3/8\"","un.",1,59.9,59.9]
[83,"Macho em aço 5/16\"","un.",2,37.79,75.58]
[84,"Macho em aço  5/8\"","un.",1,146.97999999999999,146.97999999999999]
[85,"Macho em aço 3/16\"","un.",1,30.78,30.78]
[86,"Manômetro 20kgf glicerinado de 100mm","un.",10,490,4900]
[87,"Niple em aço galvanizado Æ ½” rosca bsp – fab. tupy","un.",8,4.58,36.64]
[88,"Niple em aço galvanizado Æ 3/8” rosca bsp","un.",8,3.41,27.28]
[89,"Tampa flangeada ref. 200 p/ motor WEG 30 - 40 CV","un.",3,806.39,2419.17]
[90,"Tampa traseira ref. 200 p/ motor WEG 30 - 40 CV","un.",3,636.24,1908.72]
[91,"Revestimento epóxí bicomponente cerâmico pintável 1,65kg","un.",4,528.9,2115.6]
[92,"Acoplamento com anel amortecedor E 128 – fabricante VULKAN","un",2,332,{"$f":"D499*E499","v":664}]
[93,"Acoplamento com anel amortecedor E 168 – fabricante VULKAN","un",4,728.81,2915.24]
[94,"Acoplamento com anel amortecedor E 194 – fabricante VULKAN","un",7,1058.5999999999999,7410.2]
[95,"Acoplamento com anel amortecedor E 214 – fabricante VULKAN","un",3,1200,3600]
[96,"00000107 (SINAPI) – Adaptador PVC Soldável Curto com Bolsa e Rosca, 20 mm x 1/2\" (para válvula RAF 6373)","un",50,0.86,43]
[97,"Anéis de Desgaste rotor-A 230/259,6X20  ETA-G-200-33","un",2,365.82,731.64]
[98,"Anéis de Desgaste-A 130/145X10  ETA-G-100-50/2","un",1,150.61000000000001,150.61000000000001]
[99,"Anéis de Desgaste-A 180/195X17  ETANORM-G-150-400","un",2,268.44,536.88]
[100,"Anéis de Desgaste-A 210/225X21  ETANORM-G-150-315","un",1,365.82,365.82]
[101,"Anéis de Desgaste-A 210/225X21  ETANORM-G-150-400","un",2,365.82,731.64]
[102,"Anéis de Desgaste-A 220/240X18  ETA-G- 150-50","un",4,365.82,1463.28]
[103,"Anéis de Desgaste-A 260/290X20  ETA-G-200-33","un",2,365.82,731.64]
[104,"Anel elástico TSCHAN NOR-MEX 128 – fabricante: VULKAN","un",6,39.06,234.36]
[105,"Anel elástico TSCHAN NOR-MEX 168 – fabricante: VULKAN","un",7,63.32,443.24]
[106,"Anel elástico TSCHAN NOR-MEX 194 – fabricante: VULKAN","un",11,98.02,1078.22]
[107,"Anel elástico TSCHAN NOR-MEX 214 – fabricante: VULKAN","un",7,1200,8400]
[108,"Anel Selagem–A- DN 45 forma B - Bomba ETA  G 100-50/2","un",2,25.99,51.98]
[109,"Anel Selagem–A- DN 60A forma B - Bomba ETA G-150-50 e ETA G-200-33","un",6,69,414]
[110,"Anel Selagem–A- DN 70 forma B- Bomba ETANORM G.150.400 e ETANORM G 150-315","un",5,203.01,1015.05]
[111,"Borracha amortecedora 128","un",8,42.58,340.64]
[112,"Borracha amortecedora 168","un",10,63.32,633.20000000000005]
[113,"Borracha amortecedora 194","un",20,98.02,1960.4]
[114,"Borracha amortecedora 214","un",12,169,2028]
[115,"Broca em aço inox 1/2\"","un",1,31.98,31.98]
[116,"Broca em aço inox 3/16\"","un",1,5.38,5.38]
[117,"Broca em aço inox 5/16\"","un",1,11.29,11.29]
[118,"Broca em videa 1/4\"","un",1,4.49,4.49]
[119,"Broca em videa 5/16\"","un",1,11.29,11.29]
[120,"Bucha de fixação – H 211 – para rolamento 1211 KC3","un",9,30.94,278.45999999999998]
[121,"Bucha de fixação – H 216 – para rolamento 1216 kc3 fab: SKF.","un",23,66.3,1524.9]
[122,"Bucha de fixação – H 213 – para rolamento 1216 kc3 fab: SKF.","un",3,40.86,122.58]
[123,"Calços em Inox TMAS 100-005","jg",2,235.3,470.6]
[124,"Calços em Inox TMAS 100-010","jg",2,259.35000000000002,{"$f":"D531*E531","v":518.70000000000005}]
[125,"Calços em Inox TMAS 100-050","jg",2,309.7,619.4]
[126,"Calços em Inox TMAS 100-1,00","jg",2,589.6,1179.2]
[127,"Calços em Inox TMAS 125-005","jg",2,263,526]
[128,"Calços em Inox TMAS 125-010","jg",2,435.55,871.1]
[129,"Calços em Inox TMAS 125-020","jg",2,466.53,933.06]
[130,"Calços em Inox TMAS 125-025","jg",2,476.17,952.34]
[131,"Calços em Inox TMAS 125-050","jg",2,502.1,1004.2]
[132,"Calços em Inox TMAS 125-1,00","jg",2,655.04999999999995,1310.0999999999999]
[133,"Calços em Inox TMAS 50-005","jg",2,248.47,496.94]
[134,"Calços em Inox TMAS 50-010","jg",2,197.7,395.4]
[135,"Calços em Inox TMAS 50-020","jg",2,214.56,429.12]
[136,"Calços em Inox TMAS 50-1,00","jg",2,286.94,573.88]
[137,"Confecção de luva","un",6,209.4,1256.4000000000001]
[138,"Corpo Espiral-SC bomba ETA G100-50/2","un",1,9066,9066]
[139,"Corpo Espiral-SC bomba ETA G150-50","un",1,18341,18341]
[140,"Corpo Espiral-SC bomba ETA G200-33","un",1,14095,14095]
[141,"Corpo Espiral-SC bomba ETANORM G150-400","un",1,4335.63,4335.63]
[142,"Eixo-A Suporte C bomba ETA G100-50/2","un",1,2622,2622]
[143,"Eixo-A Suporte D bombas ETA G150-50 e 200-33","un",2,5897,11794]
[144,"Eixo-SC Mega A60 bombas ETANORM G150-400 e 150-315","un",2,1142.75,2285.5]
[145,"Eixo para bomba ETA-G-150-50/2 (447mm)","un",1,1744.42,1744.42]
[146,"Embuchamento de tampa de motor","pç",4,550,2200]
[147,"Embuchamento do mancal da bomba KSB ETA G 150.50","pç",5,575,2875]
[148,"Embuchamento do mancal da bomba KSB ETANORM G 150.400","pç",3,575,1725]
[149,"Epoxi para manutenção e reparos industriais (solda à frio)","kg",4,528.9,2115.6]
[150,"00000013 (SINAPI) - Estopa","kg",80,15.59,1247.2]
[151,"Furação e adaptação de flange em T","pç",5,209.4,1047]
[152,"Gaxeta de amianto grafitada seção quadrada 1/2”","kg",14,47.98,671.72]
[153,"Gaxeta de amianto grafitada seção quadrada 1/4”","kg",10,49.98,499.8]
[154,"Gaxeta de amianto grafitada seção quadrada 3/8”","kg",10,39.479999999999997,394.8]
[155,"Graxa a base de lítio","kg",70,30.3,2121]
[156,"Graxa Azul","kg",30,30.3,{"$f":"D563*E563","v":909}]
[157,"Jogo de Juntas Universal-SB.ETA G200-33 KLINGER","jg",8,100.04,800.32]
[158,"Jogo de Juntas-SB ETA G150-50 KLINGER","jg",14,243.11,3403.54]
[159,"Jogo de Juntas-SB.A bomba ETANORM G50-160 KLINGER","jg",4,16,64]
[160,"Jogo de Juntas-SB.A bombas ETANORM G50-200 e 32-200 KLINGER","jg",2,32.36,64.72]
[161,"Jogo de Juntas-SB.A ETANORM G150-315 KLINGER","jg",6,74.53,447.18]
[162,"Jogo de Juntas-SB.A60 ETANORM G150-400 KLINGER","jg",12,92.67,1112.04]
[163,"Junta de amianto grafitada – espessura 1/8”  ","m²",7,34.9,244.3]
[164,"Junta de papel guarnital – espessura 0,5mm","m²",5,20.92,104.6]
[165,"Kit para atuador (diafragma, mola, disco, anéis O-ring, eixo, bucha) e sede de vedação para válvula de controle automática de globo, corpo em “Y”, PN 10, DN 100, fabric. INCOVAL","cj.",2,558.38,1116.76]
[166,"Kit para atuador (diafragma, mola, disco, anéis O-ring, eixo, bucha) e sede de vedação para válvula de controle automática de globo, corpo em “Y”, série 700 PN 10, DN 100, fabric. INCOVAL","cj.",3,750.33,2250.9899999999998]
[167,"Luva protetora de Eixo-A Mega A30 ETANORM G50-200, 32-200 e 50-160","un",2,79.91,159.82]
[168,"Luva protetora de Eixo-A Mega A60 ETANORM G150-400 e 150-315","un",4,259.58999999999997,1038.3599999999999]
[169,"Luva protetora de Eixo-A Suporte C ETA G100-50/2","un",2,108.55,217.1]
[170,"Luva protetora de Eixo-A Suporte D bomba ETA G150-50 e 200-33","un",7,347,2429]
[171,"Luva protetora de eixo inox ETA-G-150-50","un",1,415.56,415.56]
[172,"Macho em Inox 1/4\"","jg",1,68.61,68.61]
[173,"Mancal sna 216-313/frm/sna 516-613=aloja o rol. 1216 kc3 – fab: SKF","un",7,420.32,2942.24]
[174,"Mancal sna 511-609/frm/sna 211-309-vedação por feltro – aloja o rolamento 1211kc3.","un",8,193.81,1550.48]
[175,"Mancal SNL 513-611 SKF","un",1,244.96,244.96]
[176,"Mancal SNL 516-613 SKF","un",1,359.4,359.4]
[177,"Manômetro 20kgf glicerinado","un",5,193.67,968.35]
[178,"Manutenção de válvula borboleta","un",15,314.10000000000002,4711.5]
[179,"Óleo hidráulico industrial 68 (20L)","un ",3,297.83999999999997,893.52]
[180,"Papelão Grafitado, espessura 1/16”","m²",20,85,1700]
[181,"Porca de fixação do rotor da bomba etanorm. g. 150.400.","un",6,83.76,502.56]
[182,"Reabertura de acoplamento, com rasgo de chaveta","un",6,209.4,1256.4000000000001]
[183,"Reparo completo (flutuador de PVC, anéis de borracha nitrílica) para ventosa Ø 2”  duplo efeito, série 932.","cj.",10,81.47,814.7]
[184,"Reparo completo (flutuador de PVC, anéis de borracha nitrílica) para ventosa Ø 2”  simples efeito, série 932.","un.",6,81.47,488.82]
[185,"Retentor rígido 45 x 62 x 12 bomba ETA G100-50/2","un",10,45,450]
[186,"Retentor rígido 55 x 80 x 10 bombas ETA G150-50 e 200-33","un",24,335,8040]
[187,"Retentor rígido 60 x 82 x 12 bombas ETANORM G150-400 e 150-315","un",20,34.68,693.6]
[188,"Retentor rígido 80 x 100 x 10","un",8,60.5,{"$f":"D595*E595","v":484}]
[189,"Rolamento ref. 1216 KC3","un",40,669.62,26784.799999999999]
[190,"Rolamento ref. 608 2RS","un",248,9.25,2294]
[191,"Rolamento ref. 6209 ZC3","un",10,44.74,447.4]
[192,"Rolamento ref. 6211 C3","un",10,91.44,914.4]
[193,"Rolamento ref. 6212 ZC3","un",10,124.11,1241.0999999999999]
[194,"Rolamento ref. 626 2RS","un",126,10.43,1314.18]
[195,"Rolamento ref. 6306 ZC3","un",10,30,300]
[196,"Rolamento ref. 6309 C3","un",10,75.959999999999994,759.6]
[197,"Rolamento ref. 6311 C3","un",10,159.91999999999999,1599.2]
[198,"Rolamento ref. 6316 ZC3","un",13,595.9,7746.7]
[199,"Rolamento ref. 6319 C3","un",11,804.04,8844.44]
[200,"Rolamento ref. 6322 C3","un",6,1178.5999999999999,7071.6]
[201,"Rolamento ref. 6409 C3","un",8,341.87,2734.96]
[202,"Rolamento ref. 6411 C3","un",8,498.1,3984.8]
[203,"Rolamento ref.1211 KC3","un",10,231.6,2316]
[204,"Rolamento ref.6312 C3","un",7,198.93,1392.51]
[205,"Rolamento ref. 1216 KC3","un",1,669.62,669.62]
[206,"Rotor A bomba ETA G100-50/2 (ETA100-33/50)","un",2,1308.31,2616.62]
[207,"Rotor A bomba ETA G100-50/2 (ETA100-40/50)","un",1,5062.59,5062.59]
[208,"Rotor A bomba ETA G150-50","un",5,6640,33200]
[209,"Rotor A bomba ETA G200-33","un",1,2134,2134]
[210,"Rotor A bomba ETANORM G150-315","un",1,1518.7,1518.7]
[211,"Rotor A bomba ETANORM G150-400","un",1,2091.9499999999998,2091.9499999999998]
[212,"Rotor para bomba ETABLOC 65/160 (172mm)","un",1,524.69000000000005,524.69000000000005]
[213,"Rotor para bomba ETA-G-125-50/2 (400mm)","un",1,2605,2605]
[214,"Suporte de Mancal-A Mega A60 ETANORM G150-315 e 150-400","un",1,2339.54,2339.54]
[215,"Suporte de Mancal-A Suporte C ETA G100-50/2","un",1,2034.21,2034.21]
[216,"Suporte de Mancal-A Suporte D ETA 200-33 e 150-50","un",1,9806,9806]
[217,"Tampa de pressão-A ANS 315 ETANORM G150-315","un",1,1348.06,1348.06]
[218,"Tampa de pressão-A Mega 400 ETANORM G150-400","un",1,2398.9499999999998,2398.9499999999998]
[219,"Válvula borboleta 6\" alavanca","un",2,585.17999999999995,1170.3599999999999]
[220,"Válvula borboleta 8\" alavanca","un",2,919.79,{"$f":"D627*E627","v":1839.58}]
[221,"Válvula borboleta com conjunto redutor classe 100 MCA PN 16 DN 250 - 10\"","un",4,1511.69,6046.76]
[222,"Válvula borboleta com conjunto redutor classe 100 MCA PN 16 DN 350 - 14\"","un",4,4042.14,16168.56]
[223,"Válvula borboleta DN 100mm 8 furos fab. Bárbara tipo waffer","un.",8,394,3152]
[224,"Válvula borboleta DN 150mm 8 furos fab. Bárbara tipo waffer","un.",6,606.66,3639.96]
[225,"Válvula borboleta DN 200mm 8 furos tipo waffer","un.",6,1521.72,9130.32]
[226,"Válvula borboleta DN 250mm 8 furos tipo waffer","un.",4,1750,7000]
[227,"Válvula borboleta DN 50mm 8 furos tipo waffer","un.",11,219.97,2419.67]
[228,"Válvula borboleta DN 75mm 8 furos waffer","un.",7,459,3213]
[229,"Válvula de gaveta com extremidades flangeadas, classe PN 16, DN 50","un",1,415,415]
[230,"Válvula de gaveta com extremidades flangeadas, classe PN 16, DN 100","un",1,1299,1299]
[231,"00010415 (SINAPI) – Válvula de Retenção Vertical, de Bronze (PN-16), 4\", 200 PSI, Extremidades com Rosca","un",4,527.51,2110.04]
[232,"Válvula de retenção PN 16 DN 150","un",4,1600,6400]
[233,"Válvula de retenção PN 16 DN 200","un",4,1878.5,7514]
[234,"Válvula de retenção PN 16 DN 250","un",4,2812.5,11250]
[235,"Válvula de retenção portinhola dupla 14\"","un",4,3200,12800]
[236,"Válvula ventosa de tríplice função 2\"","pç",11,543.12,5974.32]
[237,"Voluta para bomba ETA-G 100/2","un",1,8345.9500000000007,8345.9500000000007]
[238,"Voluta para bomba ETA-G 125/2","un",1,6214.49,6214.49]
[239,"Voluta para bomba ETA-G 150/2 (ETA100-33/50)","un",1,4442.82,4442.82]
[240,"Válvula ventosa de tríplice função 4\"","pç",4,2486.3200000000002,9945.2800000000007]
["TOTAL PARTE MECÂNICA",{"$nulls":4},{"$f":"SUM(F408:F647)","v":850490.52}]
["TOTAL PARTE MECÂNICA COM BDI",{"$nulls":4},{"$f":"F648*E649","v":0}]
[]
["MATERIAIS, EQUIPAMENTOS DE PROTEÇÃO INDIVIDUAL E FARDAMENTO"]
["ITEM","DESCRIÇÃO","UNID.","QUANT.","VALOR","PREÇO TOTAL R$"]
[1,"Avental para soldador","un.",4,27.3,{"$f":"PRODUCT(D653:E653)","v":109.2}]
[{"$f":"A653+1","v":2},"Boné (tipo: árabe)","un.",108,12.03,1299.24]
[3,"Bota PVC Borracha branca forrada","Par",40,47.45,1898]
[4,"Bota de segurança de couro","Par",108,39.99,4318.92]
[5,"Bota de segurança com proteção estática","un.",40,136.94999999999999,5478]
[6,"Calça","un.",216,38.700000000000003,8359.2000000000007]
[7,"Camisa","un.",216,14.5,3132]
[8,"Capa de Chuva","un.",20,15.11,302.2]
[9,"Capacete completo","un.",40,19.350000000000001,774]
[10,"Capacete completo para eletricista","un.",8,23.85,190.8]
[11,"Cinto de segurança para Eletricista","un.",8,130.44,1043.52]
[12,"Espora para eletricista","un.",4,129.9,519.6]
[13,"Kit aplicação de defensivos Agrícolas","un.",4,64.98,259.92]
[14,"Luva borracha pré-isolada 5000V","un.",10,304,3040]
[15,"Luva de borracha pré-isolada 20.000V","Par",8,419.01,3352.08]
[16,"Luva de couro (cobertura)","Par",40,11.4,456]
[17,"Luva de raspa (cano curto)","Par",40,8.6999999999999993,348]
[18,"Luva de raspa (cano longo)","Par",40,10.07,402.8]
[19,"Máscara para soldador","un.",4,58.79,235.16]
[20,"Óculos de proteção para soldador","un.",4,7,28]
[21,"Óculos de proteção de segurança","un.",75,4.8,360]
[22,"Protetor auricular (tipo Concha)","un.",50,8.49,424.5]
[23,"Protetor auricular (tipo Plug)","un.",100,1.25,125]
[24,"Avental de PVC 1,00X0,60cm sem costura tamanho único","PÇ",4,10.45,41.8]
[25,"Cinta lombar EPI segurança faixa ergonômica coluna postoral","PÇ",4,104.9,419.6]
[26,"Fita zebrada","PÇ",8,13.74,109.92]
[27,"Kit Apicultor 4 Peças Macacão Fumigador Luva Garfo M","un.",4,339,1356]
[28,"Luva de segurança látex amarela","PÇ",10,3.2,32]
[29,"Mangote de raspa","PÇ",1,26.79,26.79]
[30,"Máscara de solda automática","PÇ",4,89.9,359.6]
[31,"Protetor facial incolor","PÇ",8,22.9,183.2]
[32,"Roupa de mergulho neoprene","PÇ",4,399.99,1599.96]
["TOTAL E.P.I .  e FARDAMENTO",{"$nulls":4},{"$f":"SUM(F653:F684)","v":40585.01}]
["TOTAL PARTE EPI e FRADAMENTO COM BDI",{"$nulls":4},{"$f":"E686*F685","v":0}]
[]
["MATERIAIS DE SEGURANÇA E LIMPEZA DE EBs e EBPs"]
["ITEM","DESCRIÇÃO","UNID.","QUANT.","VALOR","PREÇO TOTAL R$"]
[1,"Adesivo para extintor CO2 ","un.",4,4.99,{"$f":"PRODUCT(D690:E690)","v":19.96}]
[{"$f":"A690+1","v":2},"Adesivo para extintor PQS","un.",29,8,232]
[3,"Adesivo para extintor Água Pressurizado","un.",4,8,32]
[4,"Fita zebrada rolo com 200m","un.",4,32,128]
[5,"Recarga para extintor CO2 (10 Kg)","un.",8,90,720]
[6,"Recarga para extintor Água Pressurizada (10 L)","un.",8,20,160]
[7,"Recarga para extintor PQS (6 Kg)","un.",8,27,216]
[8,"Recarga para extintor PQS (8 Kg)","un.",20,39,780]
[9,"Recarga para extintor PQS (10 Kg)","un.",8,30.67,245.36]
[10,"Rodo de borracha","un.",6,5.17,31.02]
[11,"Teste hidrostático de extintores, rótulo e pintura","un.",27,9.4,253.8]
[12,"Vassoura de nylon","un.",8,8,64]
[13,"Vassoura de piaçava","un.",8,7.45,59.6]
[14,"Vassourão de piaçava","un.",8,20.5,164]
["TOTAL DE MATERIAIS DE SEGURANÇA E LIMPEZA DE EB's",{"$nulls":4},{"$f":"SUM(F690:F703)","v":3105.74}]
["TOTAL COM BDI"]
["TOTAL GERAL",{"$nulls":4},{"$f":"F129+F351+F403+F648+F685+F704","v":1989814.64}]
["Valor Anual",{"$nulls":4},{"$f":"F706","v":1989814.64}]

{"sheet":"13. Orçam. de Forn. Veic. e Maq","index":19,"n_rows":14,"n_cols":6,"rows_kept":14,"cut":false,"hidden":false,"merged":[[0,0,1,5],[2,0,2,1],[13,0,13,1]]}
["PLANILHA DE FORNECIMENTOS DE VEÍCULOS E MÁQUINAS"]
[]
["RESUMO",null,"Unidade","Quant.","R$","Total"]
[1,"Veículos, Motocicletas e Máquinas"]
["1.1","Veículo hatch, 1.0 flex, com ar condicionado (72Cv)","mês",48,{"$f":"'13.2.CPU Veíc.'!I44","v":3730.86},{"$f":"D5*E5","v":179081.28}]
["1.2","Veículo Utilitário, Pick-up 0,5 t, 1.4 flex cabine estendida","mês",36,{"$f":"'13.2.CPU Veíc.'!I94","v":4439.1000000000004},159807.6]
["1.3","Motocicleta Tipo Cross a partir 125cc","mês",132,{"$f":"'13.2.CPU Veíc.'!I142","v":987.7},130376.4]
["1.4","Máquina retroescavadeira","h",2100,{"$f":"'13.1.Máq.'!C4","v":136.77000000000001},287217]
["1.5","Caminhão com Guindaste","h",320,{"$f":"'13.1.Máq.'!C8","v":213.54},68332.800000000003]
["1.6","Caminhão Caçamba ","h",320,{"$f":"'13.1.Máq.'!C12","v":148.97},47670.400000000001]
["1.7","Caminhão Carroceria Fixa","h",1440,{"$f":"'13.1.Máq.'!C24","v":99.29},142977.60000000001]
["1.8","Caminhão Pipa","h",320,{"$f":"'13.1.Máq.'!C16","v":208.13},66601.600000000006]
["1.9","Escavadeira hidráulica","h",1050,{"$f":"'13.1.Máq.'!C20","v":227.64},239022]
["SUB TOTAL VEÍCULOS, MOTOCICLETAS E MÁQUINAS",{"$nulls":4},{"$f":"SUM(F5:F13)","v":1321086.68}]

{"sheet":"13.1.Máq.","index":20,"n_rows":24,"n_cols":3,"rows_kept":24,"cut":false,"hidden":false,"merged":[[21,0,21,2],[0,0,0,2],[1,0,1,2],[5,0,5,2],[9,0,9,2],[13,0,13,2],[17,0,17,2]]}
["PLANILHA DE ORÇAMENTO DO CUSTO DE HORA  MÁQUINA"]
["MÁQUINA - Retroescavadeira"]
["DESCRIÇÃO",null,"R$/H"]
["5678 (SINAPI) Retroescavadeira com carregadeira sobre pneus, com conversor de torque incluindo manutenção, operação e combustível.",null,136.77000000000001]
[]
["MÁQUINA - Caminhão com guindaste"]
["DESCRIÇÃO",null,"R$/H"]
["5928 (SINAPI) Guindaste tipo munck Cap. 6,2 T montado em caminhão carroceria (locação com operador, combutível e manutenção).",null,213.54]
[]
["MÁQUINA - Caminhão Caçamba "]
["DESCRIÇÃO",null,"R$/H"]
["67826 (SINAPI) Caminhão Basculante com capacidade de 6 m³/11130 Kg.",null,148.97]
[]
["MÁQUINA - Caminhão Pipa"]
["DESCRIÇÃO",null,"R$/H"]
["6259 (SINAPI) - Caminhão Pipa 6.000 L, Peso Bruto Total 13.000 kg, Distância Entre Eixos 4,80 m, Potência 189 cv, inclusive Tanque De Aço Para Transporte De Água, Capacidade 6 M3 - CHP Diurno",null,208.13]
[]
["MÁQUINA - Escavadeira Hidráulica"]
["DESCRIÇÃO",null,"R$/H"]
["88907 (SINAPI) - Escavadeira hidráulica sobre esteira, 146 a 169 HP, cap. 2,0 m³, incluindo operação e manutenção.",null,227.64]
[]
["MÁQUINA - Caminhão Carroceria Fixa"]
["DESCRIÇÃO",null,"R$/H"]
["53797 (SINAPI) - Aluguel caminhão carroc. Fixa toco. PBT 16000 Kg carga útil 10.685 Kg.",null,99.29]

{"sheet":"13.2.CPU Veíc.","index":21,"n_rows":145,"n_cols":9,"rows_kept":145,"cut":false,"hidden":false,"merged":[[56,2,57,5],[94,2,94,3],[104,2,105,5],[119,2,120,5],[128,2,129,5],[51,0,51,8],[30,2,31,5],[39,2,40,5],[44,0,44,1],[44,2,44,3],[46,2,47,5],[0,0,0,8],[1,0,1,8],[16,0,16,8],[6,2,7,5],[21,2,22,5],[144,4,145,4],[114,0,114,8],[66,0,66,8],[96,4,97,4],[99,0,99,8],[71,2,72,5],[80,2,81,5],[89,2,90,5],[94,0,94,1],[137,2,138,5],[142,0,142,1],[142,2,142,3]]}
["COMPOSIÇÃO DE CUSTO UNITÁRIO MENSAL PARA VEÍCULOS"]
["Composição dos Custos de Veículo 1.0 flex, com ar condicionado (72Cv) ano Fab. /2016"]
["A - Depreciação Mensal do Equipamento / Veículo"]
["A.1","Preço de Aquisição",{"$nulls":5},"A.1 = ",64969]
["A.2","Utilização prevista (anos)",{"$nulls":5},"A.2 = ",3]
["A.3","Recuperação de capital na venda do bem usado (%)",{"$nulls":5},"A.3 = ",0.4]
["A.4","Custo Mensal","A.1 - (A.3 x A.1)/A.2",{"$nulls":4},"A4 = ",{"$f":"+((I4-(I4*I6))/(12*I5))","v":1082.82}]
[]
[]
["B - Juros pelo Capital Empregado"]
["B.1","Taxa mensal de juros (%)",{"$nulls":5},"B.1 = ",{"$f":"4.15/100/12","v":3.5000000000000001E-3}]
["B.2","Juros s/a depreciação / aluguel (B.1xA.4)",{"$nulls":5},"B.2 = ",{"$f":"I11*I7","v":3.79}]
[]
["C - Conservação e Manutenção"]
["C.1","Taxa de gastos sobre a deprec. Mensal inclusive seguros (%)",{"$nulls":5},"C.1 = ",0.67]
["C.2","Incidência mensal ( C.1x A.4)",{"$nulls":5},"C.2 = ",{"$f":"I15*I7","v":725.49}]
["Gastos Mensais e Operação do Equipamento / Veículo"]
["D - Combustível"]
["D - 1","Franquia mensal (km) por veículo",{"$nulls":5},"D.1 = ",3000]
["D - 2","Preço litro de combustível",{"$nulls":5},"D.2 = ",6.87]
["D - 3","Número km rodados c/ 1litro de combustível",{"$nulls":5},"D.3 = ",12]
["D - ","Combustível","(D.1/D.3) x D.2",{"$nulls":4},"D = ",{"$f":"(I19/I21)*I20","v":1717.5}]
[]
[]
["E - Lubrificantes"]
["E.1 - ","Quilometragem do contrato",{"$nulls":5},"E.1 = ",{"$f":"I19*12","v":36000}]
["E.2 - ","Franquia da troca de óleo (km)",{"$nulls":5},"E.2 = ",5000]
["E.3 - ","Preço do litro de óleo",{"$nulls":5},"E.3 = ",21]
["E.4 - ","Quantidade de litros de óleo por troca",{"$nulls":5},"E.4 = ",3.5]
["E.5 - ","Quantidade de dias do contrato",{"$nulls":5},"E.5 = ",365]
["E  - ","Lubrificantes","(E.1xE.3xE.4x30)/(E.2xE.5)",{"$nulls":4},"E = ",{"$f":"(I26*I28*I29*30)/(I27*I30)","v":43.5}]
[]
[]
["F - Pneus / Câmaras"]
["F.1 - ","Quantidades de pneus",{"$nulls":5},"F.1 = ",5]
["F.2 - ","Vida do pneu em km",{"$nulls":5},"F.2 = ",30000]
["F.3- ","Quilometragem do contrato",{"$nulls":5},"F.3 = ",36000]
["F.4 - ","Preço do pneu",{"$nulls":5},"F.4 = ",319.89999999999998]
["F.5 - ","Quantidade de dias do contrato",{"$nulls":5},"F.5 = ",365]
["F - ","Pneus/Câmaras","(F.1xF.3xF.4x30)/(F.2xF.5)",{"$nulls":4},"F. = ",{"$f":"(I35*I37*I38*30)/(I36*I39)","v":157.76}]
[]
[]
["G = Outros",{"$nulls":6},"G = ",0]
["H = A + B + C + D + E + F + G",{"$nulls":6},"H = ",{"$f":"I7+I12+I16+I22+I31+I40+I43","v":3730.86}]
["TOTAL GERAL COM BDI",null,"Fator/BDI",null,0,null,null,null,{"$f":"I44*E45","v":0}]
[]
["I = Custo Direto por Km Rodado",null,"H/3.000",{"$nulls":4},"I = ",{"$f":"I45/I19","v":0}]
[]
[]
[]
[]
["Composição dos Custos de Veículo utilitário 0,5 t.,1.4 flex Pick-up  ano fab.2013"]
["A - Depreciação Mensal do Equipamento / Veículo"]
["A.1","Preço de Aquisição",{"$nulls":5},"A.1 = ",84764]
["A.2","Utilização prevista (anos)",{"$nulls":5},"A.2 = ",3]
["A.3","Recuperação de capital na venda do bem usado (%)",{"$nulls":5},"A.3 = ",0.4]
["A.4","Custo Mensal","A.1 - (A.3 x A.1)/A.2",{"$nulls":4},"A4 = ",{"$f":"+((I54-(I54*I56))/(12*I55))","v":1412.73}]
[]
[]
["B - Juros pelo Capital Empregado"]
["B.1","Taxa mensal de juros (%)",{"$nulls":5},"B.1 = ",{"$f":"4.15/100/12","v":3.5000000000000001E-3}]
["B.2","Juros s/a depreciação / aluguel (B.1xA.4)",{"$nulls":5},"B.2 = ",{"$f":"I61*I57","v":4.9400000000000004}]
[]
["C - Conservação e Manutenção"]
["C.1","Taxa de gastos sobre a deprec. Mensal inclusive seguros (%)",{"$nulls":5},"C.1 = ",0.67]
["C.2","Incidência mensal ( C.1x A.4)",{"$nulls":5},"C.2 = ",{"$f":"I65*I57","v":946.53}]
["Gastos Mensais e Operação do Equipamento / Veículo"]
["D - Combustível"]
["D - 1","Franquia mensal (km) por veículo",{"$nulls":5},"D.1 = ",3000]
["D - 2","Preço litro de combustível",{"$nulls":5},"D.2 = ",{"$f":"I20","v":6.87}]
["D - 3","Número km rodados c/ 1litro de combustível",{"$nulls":5},"D.3 = ",11]
["D - ","Combustível","(D.1/D.3) x D.2",{"$nulls":4},"D = ",{"$f":"(I69/I71)*I70","v":1873.64}]
[]
[]
["E - Lubrificantes"]
["E.1 - ","Quilometragem do contrato",{"$nulls":5},"E.1 = ",{"$f":"I69*12","v":36000}]
["E.2 - ","Franquia da troca de óleo (km)",{"$nulls":5},"E.2 = ",5000]
["E.3 - ","Preço do litro de óleo",{"$nulls":5},"E.3 = ",21]
["E.4 - ","Quantidade de litros de óleo por troca",{"$nulls":5},"E.4 = ",3.5]
["E.5 - ","Quantidade de dias do contrato",{"$nulls":5},"E.5 = ",365]
["E  - ","Lubrificantes","(E.1xE.3xE.4x30)/(E.2xE.5)",{"$nulls":4},"E = ",{"$f":"(I76*I78*I79*30)/(I77*I80)","v":43.5}]
[]
[]
["F - Pneus / Câmaras"]
["F.1 - ","Quantidades de pneus",{"$nulls":5},"F.1 = ",5]
["F.2 - ","Vida do pneu em km",{"$nulls":5},"F.2 = ",30000]
["F.3- ","Quilometragem do contrato",{"$nulls":5},"F.3 = ",36000]
["F.4 - ","Preço do pneu",{"$nulls":5},"F.4 = ",319.89999999999998]
["F.5 - ","Quantidade de dias do contrato",{"$nulls":5},"F.5 = ",365]
["F - ","Pneus/Câmaras","(F.1xF.3xF.4x30)/(F.2xF.5)",{"$nulls":4},"F. = ",{"$f":"(I85*I87*I88*30)/(I86*I89)","v":157.76}]
[]
[]
["G = Outros",{"$nulls":6},"G = "]
["H = A + B + C + D + E + F + G",{"$nulls":6},"H = ",{"$f":"I57+I62+I66+I72+I81+I90+I93","v":4439.1000000000004}]
["TOTAL GERAL COM BDI",null,"Fator/BDI",null,0,null,null,null,{"$f":"I94*E95","v":0}]
[]
["I = Custo Direto por Km Rodado",null,null,null,"H/3000",null,null,"I = ",{"$f":"I95/I69","v":0}]
[]
[]
["Composição dos Custos Para Moto Tipo Cross a partir 125 cc, 13 cv"]
["A - Depreciação Mensal do Equipamento / Veículo"]
["A.1","Preço de Aquisição",{"$nulls":5},"A.1 = ",16858]
["A.2","Utilização Prevista (anos)",{"$nulls":5},"A.2 = ",3]
["A.3","Recuperação de capital na venda do bem usado (%)",{"$nulls":5},"A.3 = ",0.4]
["A.4","Custo Mensal","A.1 - (A.3 x A.1)/A.2",{"$nulls":4},"A4 = ",{"$f":"+((I102-(I102*I104))/(12*I103))","v":280.97000000000003}]
[]
[]
["B - Juros pelo Capital Empregado"]
["B.1","Taxa mensal de juros (%)",{"$nulls":5},"B.1 = ",{"$f":"4.15/100/12","v":3.5000000000000001E-3}]
["B.2","Juros s/a depreciação / aluguel (B.1xA.4)",{"$nulls":5},"B.2 = ",{"$f":"I109*I105","v":0.98}]
[]
["C - Conservação e Manutenção"]
["C.1","Taxa de gastos sobre a deprec. Mensal inclusive seguros (%)",{"$nulls":5},"C.1 = ",0.67]
["C.2","Incidência mensal ( C.1x A.4)",{"$nulls":5},"C.2 = ",{"$f":"I113*I105","v":188.25}]
["Gastos Mensais e Operação do Equipamento / Veículo"]
["D - Combustível"]
["D - 1","Franquia mensal (km) por veículo",{"$nulls":5},"D.1 = ",2000]
["D - 2","Preço litro de combustível",{"$nulls":5},"D.2 = ",{"$f":"I70","v":6.87}]
["D - 3","Número km rodados c/ 1litro de combustível",{"$nulls":5},"D.3 = ",30]
["D - ","Combustível","(D.1/D.3) x D.2",{"$nulls":4},"D = ",{"$f":"(I117/I119)*I118","v":458}]
[]
[]
["E - Lubrificantes"]
["E.1 - ","Quilometragem do contrato",{"$nulls":5},"E.1 = ",{"$f":"I117*12","v":24000}]
["E.2 - ","Franquia da troca de óleo (km)",{"$nulls":5},"E.2 = ",3000]
["E.3 - ","Preço do litro de óleo",{"$nulls":5},"E.3 = ",21]
["E.4 - ","Quantidade de litros de óleo por troca",{"$nulls":5},"E.4 = ",1]
["E.5 - ","Quantidade de dias do contrato",{"$nulls":5},"E.5 = ",365]
["E  - ","Lubrificantes","(E.1xE.3xE.4x30)/(E.2xE.5)",{"$nulls":4},"E = ",{"$f":"(I124*I126*I127*30)/(I125*I128)","v":13.81}]
[]
[]
["F - Pneus / Câmaras"]
["F.1 - ","Quantidades de pneus",{"$nulls":5},"F.1 = ",2]
["F.2 - ","Vida do pneu em km",{"$nulls":5},"F.2 = ",15000]
["F.3- ","Quilometragem do contrato",{"$nulls":5},"F.3 = ",{"$f":"I117*12","v":24000}]
["F.4 - ","Preço do pneu",{"$nulls":5},"F.4 = ",173.71]
["F.5 - ","Quantidade de dias do contrato",{"$nulls":5},"F.5 = ",365]
["F - ","Pneus/Câmaras","(F.1xF.3xF.4x30)/(F.2xF.5)",{"$nulls":4},"F. = ",{"$f":"(I133*I135*I136*30)/(I134*I137)","v":45.69}]
[]
[]
["G = Outros",{"$nulls":6},"G = "]
["H = A + B + C + D + E + F + G",{"$nulls":6},"H = ",{"$f":"I105+I110+I114+I120+I129+I138+I141","v":987.7}]
["TOTAL GERAL COM BDI",null,"Fator/BDI",null,0,null,null,null,{"$f":"I142*E143","v":0}]
[]
["I = Custo Direto por Km Rodado",null,null,null,"H/4000",null,null,"I = ",{"$f":"I143/I117","v":0}]

{"sheet":"13.2.1 Espec. veíc.","index":22,"n_rows":23,"n_cols":3,"rows_kept":23,"cut":false,"hidden":false,"merged":[[0,0,0,2],[2,0,11,0],[2,1,11,1],[12,0,21,0],[12,1,21,1]]}
["PLANILHA DE ESPECIFICAÇÕES DE VEÍCULOS"]
["ITEM","DESCRIÇÃO","ESPECIFICAÇÕES"]
[1,"Automóvel","a) Automóvel hatch, 4 portas, 5 passageiros, flex, 72 Cv"]
[null,null,"b) altura livre mínima do solo de 170mm (veículo vazio, configuração original de fábrica, vedada adaptação);"]
[null,null,"c) ar condicionado de fábrica"]
[null,null,"d) trava elétrica nas 4 portas e alarme com acionamento por radio-frequência;"]
[null,null,"e) pneus 175/70 Aro 14 ou com perfil mais alto;"]
[null,null,"f) protetor de cárter"]
[null,null,"g) veículo zero km"]
[null,null,"h) ser produzido por fabricante que possua serviço autorizado no pólo Petrolina-Juazeiro"]
[null,null,"i) todas as obrigações legais em dia (seguro obrigatório, IPVA, licenciamento)"]
[null,null,"j) película protetora de vidros, mínimo G-20"]
[2,"Automóvel","a) Automóvel Veículo utilitário 0,5 t.,1.4 flex Pick-up "]
[null,null,"b) altura livre mínima do solo de 170mm (veículo vazio, configuração original de fábrica, vedada adaptação;"]
[null,null,"c) ar condicionado de fábrica"]
[null,null,"d) trava elétrica nas 4 portas e alarme com acionamento por radio-frequência;"]
[null,null,"e) pneus 175/70 aro 14 ou com perfil mais alto;"]
[null,null,"f) protetor de cárter"]
[null,null,"g) veículo zero km"]
[null,null,"h) ser produzido por fabricante que possua serviço autorizado no pólo Petrolina-Juazeiro"]
[null,null,"i) todas as obrigações legais em dia (seguro obrigatório, IPVA, licenciamento)"]
[null,null,"j) película protetora de vidros, mínimo G-20"]
[4,"Motocicleta","Tipo \"cross\", zero km, mínimo 150 cilindradas, que posssua serviço autorizado no polo Juazeiro-Petrolina; todas as obrigações legais em dia(seguro obrigatório, IPVA, licenciamento);"]

{"sheet":"14.Quant Pess.","index":23,"n_rows":30,"n_cols":7,"rows_kept":30,"cut":false,"hidden":false,"merged":[[19,0,19,1],[0,0,0,6],[1,0,3,0],[1,1,3,1],[1,2,3,2],[1,3,3,3],[1,4,3,4],[1,5,3,5],[1,6,3,6],[4,0,4,6],[5,2,5,5],[6,4,6,5],[11,0,11,1],[12,0,12,5],[28,0,28,1],[29,0,29,1],[20,0,20,5],[21,4,21,5],[22,4,22,5],[23,3,23,5],[24,4,24,5],[25,4,25,5]]}
["QUANTITATIVO BÁSICO DE PESSOAL"]
["Item","Atividades/Função","PPBR","PROD","PGLO","PJUS","TOTAL"]
[]
[]
["ADMINISTRAÇÃO"]
[1,"Coordenador Geral",1,null,null,null,{"$f":"C6","v":1}]
[2,"Gerente Executivo",1,1,1,null,{"$f":"SUM(C7:F7)","v":3}]
[3,"Técnico Agrícola Apoio à Produção",3,2,1,1,{"$f":"SUM(C8:F8)","v":7}]
[4,"Auxiliar Administrativo",1,1,1,1,4]
[5,"Auxiliar de Serviços Gerais",1,1,1,1,4]
[6,"Vigia",2,2,2,2,8]
["Subtotal",null,{"$f":"SUM(C6:C11)","v":9},{"$f":"SUM(D6:D11)","v":7},{"$f":"SUM(E6:E11)","v":6},{"$f":"SUM(F6:F11)","v":5},{"$f":"SUM(G6:G11)","v":27}]
["OPERAÇÃO"]
[7,"Técnico Agrícola Coordenador de Operação",1,1,1,1,{"$f":"SUM(C14:F14)","v":4}]
[8,"Inspetor de Campo",2,1,1,1,{"$f":"SUM(C15:F15)","v":5}]
[{"$f":"A15+1","v":9},"Operador de Bomba Sênior (diurno)",2,"-","-","-",2]
[{"$f":"A16+1","v":10},"Operador de Bomba Sênior (noturno)",2,"-","-","-",2]
[{"$f":"A17+1","v":11},"Operador de Bomba Junior (Diurno) ",21,7,4,"-",32]
[{"$f":"A18+1","v":12},"Operador de Casa de Bomba (Noturno)",7,2,"-",2,11]
["Subtotal",null,{"$f":"SUM(C14:C19)","v":35},{"$f":"SUM(D14:D19)","v":11},{"$f":"SUM(E14:E19)","v":6},{"$f":"SUM(F14:F19)","v":4},{"$f":"SUM(G14:G19)","v":56}]
["MANUTENÇÃO"]
[13,"Mecânico",1,1,1,null,{"$f":"SUM(C22:F22)","v":3}]
[{"$f":"A22+1","v":14},"Auxiliar de Mecânico",1,1,1,null,{"$f":"SUM(C23:F23)","v":3}]
[{"$f":"A23+1","v":15},"Técnico Eletrotécnico",1,1,null,null,2]
[16,"Auxiliar de Eletricista",1,1,1,null,3]
[{"$f":"A25+1","v":17},"Encanador",1,1,1,null,3]
[{"$f":"A26+1","v":18},"Auxiliar de Encanador",3,1,1,1,6]
[{"$f":"A27+1","v":19},"Auxiliar de Serv Gerais",1,1,1,1,4]
["Subtotal",null,{"$f":"SUM(C22:C28)","v":9},{"$f":"SUM(D22:D28)","v":7},{"$f":"SUM(E22:E28)","v":6},{"$f":"SUM(F22:F28)","v":2},{"$f":"SUM(G22:G28)","v":24}]
["Total",null,{"$f":"SUM(C12+C20+C29)","v":53},{"$f":"SUM(D12+D20+D29)","v":25},{"$f":"SUM(E12+E20+E29)","v":18},{"$f":"SUM(F12+F20+F29)","v":11},{"$f":"SUM(G12+G20+G29)","v":107}]

{"sheet":"15. Enc Soc","index":24,"n_rows":33,"n_cols":10,"rows_kept":33,"cut":false,"hidden":false,"merged":[[0,0,0,9],[29,1,29,8]]}
["B - PLANILHA DE ENCARGOS SOCIAIS"]
[]
[]
["A1","Previdência Social",{"$nulls":7},20]
["A2","Fundo de Garantia por Tempo de Serviço",{"$nulls":7},8]
["A3","Salário educação",{"$nulls":7},2.5]
["A4","Serviço Social da Indústria (SESI/SESC)",{"$nulls":7},1.5]
["A5","Serviço Nacional de Aprendizagem Industrial (SENAI/SENAC)",{"$nulls":7},1]
["A6","Serviço de Apoio a Pequena e Média Empresa (SEBRAE)",{"$nulls":7},0.6]
["A7","Instituto Nacional de Colonização e Reforma Agrária (INCRA)",{"$nulls":7},0.2]
["A8","Seguro contra acidentes de trabalho (INSS)",{"$nulls":7},3]
["A","Total dos Encargos Sociais Básicos",{"$nulls":7},{"$f":"SUM(J4:J11)","v":36.799999999999997}]
[]
["B1","Férias + abono constitucional [1/3]",{"$nulls":7},7.85]
["B2","Auxílio enfermidade",{"$nulls":7},0.66]
["B3","Licença maternidade",{"$nulls":7},0.02]
["B4","Licença paternidade",{"$nulls":7},0.06]
["B5","Faltas legais",{"$nulls":7},0.56000000000000005]
["B6","Acidente de trabalho",{"$nulls":7},0.08]
["B8","Décimo-terceiro salário",{"$nulls":7},8.33]
["B","Total dos Encargos Sociais que recebem as incidências de A",{"$nulls":7},{"$f":"SUM(J14:J20)","v":17.559999999999999}]
["C1","Avíso prévio (indenizado)",{"$nulls":7},4.13]
["B7","Aviso prévio trabalhado",{"$nulls":7},0.1]
["C2","Indenização Adicional",{"$nulls":7},0.35]
["C3","Férias Indenizadas",{"$nulls":7},2.59]
["C4","Depósito Rescisão sem Justa Causa",{"$nulls":7},2.5499999999999998]
["C","Total dos Encargos Sociais que não recebem as incidências de A",{"$nulls":7},{"$f":"SUM(J22:J26)","v":9.7200000000000006}]
[]
["D1","Reincidência de A sobre B",{"$nulls":7},6.46]
["D2","Reincidência do Grupo A sobre o Aviso Prévio Trabalhado e Reincidência de FGTS exclusivo sobre o aviso prévio indenizado",{"$nulls":7},0.37]
["D","Total das taxas das reincidências",{"$nulls":7},{"$f":"SUM(J29:J30)","v":6.83}]
[]
[null,"Percentagem Total",{"$nulls":7},{"$f":"SUM(J12,J21,J27,J31)","v":70.91}]