{"text_format":"2","workbook":"xlsx","n_sheets":6,"sheets":["Escopo de Fornecimento","SINAPI SICRO MÃO DE OBRA","SINAPI BLOCO DE ANCORAGEM","Cotações Fornecimento","BDI","Cronograma Físico Financeiro"],"not_rendered":{"charts":0,"images":2,"macros":0,"external_links":1,"defined_names":1,"comments":0,"pivot_tables":0},"unopened":[],"bounds":{"document_bytes":16777216,"sheet_cells":100000,"run_cost":"one","rows_first":2000,"rows_last":500,"rows_between":2000,"halvings":0,"cell_chars":16384,"cell_head_chars":4096},"cells_cut":0,"cells_raw":0,"read":"whole","date_system":"1900"}

{"sheet":"Escopo de Fornecimento","index":0,"n_rows":69,"n_cols":8,"rows_kept":69,"cut":false,"hidden":false,"merged":[[30,4,31,4],[30,6,31,6],[30,7,31,7],[16,6,17,6],[16,7,17,7],[18,6,19,6],[18,7,19,7],[20,6,21,6],[20,7,21,7],[11,0,11,4],[16,0,17,0],[18,0,19,0],[18,3,19,3],[16,3,17,3],[16,4,17,4],[18,4,19,4],[55,1,55,4],[37,1,37,4],[30,0,31,0],[16,5,17,5],[13,1,13,4],[18,5,19,5],[16,2,17,2],[18,2,19,2],[20,5,21,5],[30,5,31,5],[20,0,21,0],[20,3,21,3],[20,4,21,4],[20,2,21,2],[30,2,31,2],[30,3,31,3]]}
[null,"                                                                     Ministério do Desenvolvimento Regional - MDR"]
[null,"                                                                     Companhia do Desenvolvimento dos Vales do São Francisco e Parnaíba"]
[null,"                                                                     Codevasf - Brasília"]
[]
[]
[]
["Objeto: Fornecimento e montagem de equipamentos hidromecânicos da descarga de fundo, da barragem "]
["do Paranã , nos municípios de Flores de Goiás e Formosa, localizado no estado de Goiás."]
[]
[]
["Valores com o BDI inclusos"]
["Orçamento"]
[]
[1,"FORNECIMENTOS"]
[{"$nulls":6},"NÃO DESONERADO"]
["Item","Descrição","Unid.","Qtd",null,null,"Vlr Unitário","Vlr Total"]
["1.1","Válvula Dispersora, DN 1000 mm, ASTM A36 x 40 mca, com acion. ","unid.",1,null,null,1203600,{"$f":"D17*G17","v":1203600}]
[null,"Oleodinamico + Quadro elétrico de alimentação e comando"]
["1.2","Comporta desliz., c/quadro de guiam/vedação, acion. Oleodinamico","unid.",2,null,null,467476.66666666669,{"$f":"D19*G19","v":934953.33333333337}]
[null," + Quadro de alimentação e comando"]
["1.3","Sensor/transmissor de nível c/ sonda hidrostática, IP68","unid.",2,null,null,2862.1843999999996,{"$f":"D21*G21","v":5724.3687999999993}]
[null," + cx de interligação"]
["1.4","Tubo de flange ponta (TFP), DN 1000 x 600 mm, PN10, ASTM A36","unid.",2,null,null,32292.666666666668,{"$f":"G23*D23","v":64585.333333333336}]
["1.5","Virola flange-flange, DN 1000 mm PN10, ASTM A36","unid.",2,null,null,57426.666666666664,{"$f":"G24*D24","v":114853.33333333333}]
["1.6","Junta dresser, DN 1000 mm, PN10, ASTM A36","unid.",2,null,null,35400,{"$f":"G25*D25","v":70800}]
["1.7","Crivo de proteção p/fixação das sondas de nível, aço inox","unid.",1,null,null,843.48760000000004,{"$f":"G26*D26","v":843.48760000000004}]
["1.8","Boia de sinaliz.náutica + cabo nylon 1/4\" x 25 m","unid.",1,null,null,544.66833333333329,{"$f":"G27*D27","v":544.66833333333329}]
["1.9","Gerador diesel portátil, trifásico 380V, autonomia de 5 horas","unid.",1,null,null,9236.3673999999992,9236.3673999999992]
["1.10","Cabo tripolar, seção 6 mm², 10m, c/plug indust. 5 pinos 3P+T+N 220V","unid.",1,null,null,30.184399999999997,30.184399999999997]
["1.11","Bloqueador Inflável, Multid. cilindrico, Alta Perf., 600/1200 mm","unid.",2,null,null,17256.32,34512.639999999999]
["1.12","Kit de inflar (Mangueira 30m, conexões, válv.esfera, manometro, ","kit",2,null,null,519.19999999999993,{"$f":"D31*G31","v":1038.3999999999999}]
[null,"eng.rápido, abraçadeira)"]
["1.13","Compressor de ar comprimido 50L, 220V","Unid.",1,null,null,1412.3538000000001,{"$f":"G33*D33","v":1412.3538000000001}]
["1.14","Guindaste Hidráulico 60T, lança de 40 m com motorista e encargos  ","H",70,null,null,106.6752,7467.2640000000001]
["1.15","Construção de abrigo para Unidade Oleodinâmica e Painéis ","m²",36,null,null,1925.1967999999999,69307.084799999997]
[null,"TOTAL DOS FORNECIMENTOS",{"$nulls":5},{"$f":"SUM(H17:H35)","v":2518908.8191333339}]
[]
[2,"MÃO DE OBRA NECESSÁRIA ( COM ENCARGOS COMPLEMENTARES )"]
[{"$nulls":6},"NÃO DESONERADO"]
["Item","Descrição","Unidade","Quantidade",null,null,"Valor Unitário","Valor Total"]
["2.1","Engenheiro Civil responsável pela obra","mês",3,null,null,{"$f":"'SINAPI SICRO MÃO DE OBRA'!F33","v":34965.452799999999},{"$f":"G41*D41","v":104896.3584}]
["2.2","Montador de estruturas metálicas","mês",3,null,null,{"$f":"'SINAPI SICRO MÃO DE OBRA'!F34","v":6234.6624000000002},{"$f":"G42*D42","v":18703.9872}]
["2.3","Ajudante de estruturas metalicas","mês",6,null,null,{"$f":"'SINAPI SICRO MÃO DE OBRA'!F35","v":4768.7168000000001},28612.300800000001]
["2.4","Eletricista de manutenção industrial","mês",3,null,null,{"$f":"'SINAPI SICRO MÃO DE OBRA'!F36","v":5900.6464000000005},17701.939200000001]
["2.5","Montador eletromecânico","H",40,null,null,{"$f":"'SINAPI SICRO MÃO DE OBRA'!F37","v":45.056000000000004},1802.2400000000002]
["2.6","Técnico de Segurança do Trabalho","H",135,null,null,{"$f":"'SINAPI SICRO MÃO DE OBRA'!F38","v":31.756799999999998},4287.1679999999997]
["2.7","Topógrafo","H",40,null,null,{"$f":"'SINAPI SICRO MÃO DE OBRA'!F39","v":25.446400000000001},1017.856]
["2.8","Auxiliar de Topógrafo","H",40,null,null,{"$f":"'SINAPI SICRO MÃO DE OBRA'!F40","v":11.558399999999999},462.33599999999996]
["2.9","Vigia noturno","H",{"$f":"7*90","v":630},null,null,{"$f":"'SINAPI SICRO MÃO DE OBRA'!F41","v":27.852800000000002},17547.264000000003]
["2.10","Vigia diurno","H",408,null,null,{"$f":"'SINAPI SICRO MÃO DE OBRA'!F42","v":22.284800000000001},9092.1984000000011]
["2.11","Assentamento de tubode aço DN 1000 mm","H",48,null,null,{"$f":"'SINAPI SICRO MÃO DE OBRA'!F43","v":78.540800000000004},3769.9584000000004]
["2.12","Mergulhador","H",30,null,null,{"$f":"'SINAPI SICRO MÃO DE OBRA'!E48","v":34.498211519999998},1034.9463455999999]
["2.13","Ajudante especializado para mergulhador","H",30,null,null,{"$f":"'SINAPI SICRO MÃO DE OBRA'!E49","v":21.654800000000002},649.64400000000001]
[null,"TOTAL MÃO DE OBRA",{"$nulls":5},{"$f":"SUM(H41:H53)","v":209578.1967456}]
[]
[3,"BLOCO DE ANCORAGEM"]
[{"$nulls":6},"NÃO DESONERADO"]
["Item","Descrição","Unidade","Quantidade",null,null,"Valor Unitário","Valor Total"]
["3.1","Escavação manual para bloco de coroamento ou sapata sem escavação para formas","M³",15,null,null,{"$f":"'SINAPI BLOCO DE ANCORAGEM'!G21","v":165.61919999999998},{"$f":"G59*D59","v":2484.2879999999996}]
["3.2","Fabricação, montagem e desmontagem de forma para bloco de coroamento","M²",38,null,null,{"$f":"'SINAPI BLOCO DE ANCORAGEM'!G23","v":162.0864},6159.2831999999999]
["3.3","Concretagem de blocos de coroamento , FCK 30, com lançamento, adensamento e acabamento","M³",28,null,null,{"$f":"'SINAPI BLOCO DE ANCORAGEM'!G25","v":778.47039999999993},21797.171199999997]
[null,"TOTAL CONCRETAGEM BLOCO DE ANCORAGEM",{"$nulls":5},{"$f":"SUM(H59:H61)","v":30440.742399999996}]
[]
[null,"RESUMO",null,null,"NÃO DESONERADO"]
["Item","Descrição",null,null,"Valor Total"]
[1,"FORNECIMENTOS",null,null,{"$f":"H36","v":2518908.8191333339}]
[2,"MÃO DE OBRA NECESSÁRIA ( COM ENCARGOS COMPLEMENTARES )",null,null,{"$f":"H54","v":209578.1967456}]
[3,"CONCRETAGEM BLOCO DE ANCORAGEM",null,null,{"$f":"H62","v":30440.742399999996}]
[null,"TOTAL",null,null,{"$f":"SUM(E66:E68)","v":2758927.7582789338}]

{"sheet":"SINAPI SICRO MÃO DE OBRA","index":1,"n_rows":50,"n_cols":8,"rows_kept":50,"cut":false,"hidden":false,"merged":[[7,0,7,5],[5,0,5,5],[29,0,29,5]]}
[null,null,"                                                          Ministério do Desenvolvimento Regional - MDR"]
[null,null,"                                                          Companhia do Desenvolvimento dos Vales do São Francisco e Parnaíba"]
[null,null,"                                                          Codevasf - Brasília"]
[]
[]
["Montagem da Válvula Dispersora, Comportas, unidade oleodinâmica e Painéis elétricos"]
{"$rows_empty":13}
[{"$nulls":7},{"$f":"24*17","v":408}]
{"$rows_empty":9}
["2 - SINAPI PARA MÃO DE OBRA COM ENCARGOS COMPLEMENTARES (não desonerado)"]
["*SINAPI GO fev/22"]
["Ítem","Sinapi","Discriminação","Unidade","Valor Unitário (R$)","Valor com BDI (R$)","Quantidade"]
["2.1",101403,"ENGENHEIRO CIVIL RESPONSÁVEL PELA OBRA","mês",27316.76,{"$f":"E33*(1+BDI!D35)","v":34965.452799999999},"3 meses"]
["2.2",101418,"MONTADOR DE ESTRUTURAS METÁLICAS","mês",4870.83,{"$f":"E34*(1+BDI!D35)","v":6234.6624000000002},"3 meses"]
["2.3",101376,"AJUDANTE DE ESTRUTURAS METALICAS","mês",3725.56,{"$f":"E35*(1+BDI!D35)","v":4768.7168000000001},"3 meses"]
["2.4",101400,"ELETRICISTA DE MANUTENÇÃO INDUSTRIAL","mês",4609.88,{"$f":"E36*(1+BDI!D35)","v":5900.6464000000005},"3 meses"]
["2.5",88279,"MONTADOR ELETROMECÂNICO","H",35.200000000000003,{"$f":"E37*(1+BDI!D35)","v":45.056000000000004},"5 dias x 8 horas/dia"]
["2.6",100309,"TÉCNICO SEGURANÇA DO TRABALHO","H",24.81,{"$f":"E38*(1+BDI!D35)","v":31.756799999999998},"3 dias/semana x 3 horas/dia"]
["2.7",90781,"TOPÓGRAFO","H",19.88,{"$f":"E39*(1+BDI!D35)","v":25.446400000000001},"10 dias x 4 horas/dias"]
["2.8",88253,"AUX. TOPÓGRAFO","H",9.0299999999999994,{"$f":"E40*(1+BDI!D35)","v":11.558399999999999},"10 dias x 4 horas/dias"]
["2.9",88326,"VIGIA NOTURNO","H",21.76,{"$f":"E41*(1+BDI!D35)","v":27.852800000000002},"de 22h a 5 h (90 dias x 7horas)"]
["2.10",100289,"VIGIA DIURNO","H",17.41,{"$f":"E42*(1+BDI!D35)","v":22.284800000000001},"sábado e domingo de 5h a 22h ( 24 dias x 17 horas)",{"$f":"24*17","v":408}]
["2.11",97177,"ASSENTAMENTO DE TUBO DE AÇO DN 1000","H",61.36,{"$f":"E43*(1+BDI!D35)","v":78.540800000000004},"6 dias x 8 horas/dia"]
[]
[]
["*SICRO outubro/2021"]
["Ítem","SICRO","Discriminação","Unidade","Valor Unitário (R$)","Valor com BDI (R$)"]
["2.9","P9860","MERGULHADOR ","H",{"$f":"27.5721*1.2512","v":34.498211519999998},{"$f":"E48*(1+BDI!D35)","v":44.157710745599999},"5 dIas"]
["2.10","P9802","AJUDANTE ESPECIALIZADO PARA MERGULHADOR","H",21.654800000000002,{"$f":"E49*(1+BDI!D35)","v":27.718144000000002},"6 dias x 5 horas/dia"]
["* a equipe de mergulho deverá estar presente no levantamento dimensional inicial, na substituição das comportas e havendo necessidade extra"]

{"sheet":"SINAPI BLOCO DE ANCORAGEM","index":2,"n_rows":25,"n_cols":9,"rows_kept":25,"cut":false,"hidden":false,"merged":[[6,0,6,6],[16,0,16,6]]}
{"$rows_empty":16}
["SINAPI - CONFECÇÃO DO BLOCO DE ANCORAGEM (não desonerado)"]
["*SINAPI GO jan/22"]
["Item ","SINAPI","Descrição","Unidade","Quantidade","Valor Unitário (R$)","Valor Unitário com BDI (R$)","MEMÓRIA DE CÁLCULO","Coef.segurança 10%"]
[]
["1.14",96522,"Escavação manual para bloco de coroamento ou sapata sem escavação para formas","M³",16,129.38999999999999,{"$f":"F21*(1+BDI!D35)","v":165.61919999999998},{"$f":"0.75*3.6*5+(2*((3.1416*(0.1^2)*0.6)))","v":13.5376992},{"$f":"H21*1.1","v":14.891469120000002}]
[]
["1.15",96531,"Fabricação, montagem e desmontagem de forma para bloco de coroamento","M²",37,126.63,{"$f":"F23*(1+BDI!D35)","v":162.0864},{"$f":"(2*(5*2.5))+(2*(2.5*0.96))+(0.96*5)","v":34.6},{"$f":"H23*1.1","v":38.06}]
[]
["1.3",96555,"Concretagem de blocos de coroamento , FCK 30, com lançamento, adensamento e acabamento","M³",29,608.17999999999995,{"$f":"F25*(1+BDI!D35)","v":778.47039999999993},{"$f":"H21+(0.96*5*2.5)+(2*(3.1416*(0.1^2))*0.6)","v":25.575398399999997},{"$f":"H25*1.1","v":28.132938239999998}]

{"sheet":"Cotações Fornecimento","index":3,"n_rows":43,"n_cols":13,"rows_kept":43,"cut":false,"hidden":false,"merged":[[6,0,6,9]]}
[null,null,null,"                                                     Ministério do Desenvolvimento Regional - MDR"]
[null,null,null,"                                                     Companhia do Desenvolvimento dos Vales do São Francisco e Parnaíba"]
[null,null,null,"                                                     Codevasf - Brasília"]
[]
[]
[]
["Cotações - Equipamentos e materiais / Barragem do Paranã"]
[]
["Item ","Descrição","                                  Cotação 1",null,"Cotação 2",null,"Cotação 3",null,"Valor Mediana","Valor Médio","Menor valor (mediana/média) c/ BDI NÃODESONERADO","Menor valor (mediana/média) c/ BDI DESONERADO"]
[]
["1.1","Válvula Dispersora",1100000,"(J&R.NET)",800000,"(Hydrostec)",1160000,"(Hidropoços)",{"$f":"MEDIAN(C11,E11,G11)","v":1100000},{"$f":"(C11+E11+G11)/3","v":1020000},{"$f":"MINA(I11,J11)*(1+[1]BDI!I35)","v":1203600},{"$f":"MINA(I11,J11)*(1+[1]BDI!I34)","v":1294788}]
[]
["1.2","Comporta Deslizante",432000,"(J&R.NET)",326500,"(Hydrostec)",430000,"(Hidropoços)",{"$f":"MEDIAN(C13,E13,G13)","v":430000},{"$f":"(C13+E13+G13)/3","v":396166.66666666669},{"$f":"MINA(I13,J13)*(1+[1]BDI!I35)","v":467476.66666666669},{"$f":"MINA(I13,J13)*(1+[1]BDI!I34)","v":502893.96666666673}]
[]
["1.3","Sensor",7429.5," (Sigma)",1590,"(Zurich)",2425.58,"(Novus)",{"$f":"MEDIAN(C15,E15,G15)","v":2425.58},{"$f":"(C15+E15+G15)/3","v":3815.0266666666666},{"$f":"MINA(I15,J15)*(1+[1]BDI!I35)","v":2862.1843999999996},{"$f":"MINA(I15,J15)*(1+[1]BDI!I34)","v":3079.0312520000002}]
[]
["1.4","Tubo PF",32000,"(J&R.NET)",20100,"(Hydrostec)",30000,"(Hidropoços)",{"$f":"MEDIAN(C17,E17,G17)","v":30000},{"$f":"(C17+E17+G17)/3","v":27366.666666666668},{"$f":"MINA(I17,J17)*(1+[1]BDI!I35)","v":32292.666666666668},{"$f":"MINA(I17,J17)*(1+[1]BDI!I34)","v":34739.246666666673}]
[]
["1.5","Virola FF",55000,"(J&R.NET)",38000,"(Hydrostec)",53000,"(Hidropoços)",{"$f":"MEDIAN(C19,E19,G19)","v":53000},{"$f":"(C19+E19+G19)/3","v":48666.666666666664},{"$f":"MINA(I19,J19)*(1+[1]BDI!I35)","v":57426.666666666664},{"$f":"MINA(I19,J19)*(1+[1]BDI!I34)","v":61777.466666666667}]
[]
["1.6","Junta Dresser",40000,"(J&R.NET)",25000,"(Hydrostec)",30000,"(Hidropoços)",{"$f":"MEDIAN(C21,E21,G21)","v":30000},{"$f":"(C21+E21+G21)/3","v":31666.666666666668},{"$f":"MIN(I21,J21)*(1+[1]BDI!I35)","v":35400},{"$f":"MIN(I21,J21)*(1+[1]BDI!I34)","v":38082}]
[]
["1.7","Crivo",692.06,"(Madeira)",725.4," (Magazine)",727," (Loja do Mec.)",{"$f":"MEDIAN(C23,E23,G23)","v":725.4},{"$f":"(C23+E23+G23)/3","v":714.82},{"$f":"MIN(I23,J23)*(1+[1]BDI!I35)","v":843.48760000000004},{"$f":"MIN(I23,J23)*(1+[1]BDI!I34)","v":907.39250800000013}]
[]
["1.8","Boia",450.55,"(C. Náutica)",465," (Velamar)",469.2," (Âncora)",{"$f":"MEDIAN(C25,E25,G25)","v":465},{"$f":"(C25+E25+G25)/3","v":461.58333333333331},{"$f":"MIN(I25,J25)*(1+[1]BDI!I35)","v":544.66833333333329},{"$f":"MIN(I25,J25)*(1+[1]BDI!I34)","v":585.93388333333337}]
[]
["1.9","Gerador",7781.66,"(Extra)",7827.43," (Estrela)",8128.89,"(Submarino)",{"$f":"MEDIAN(C27,E27,G27)","v":7827.43},{"$f":"(C27+E27+G27)/3","v":7912.66},{"$f":"MIN(I27,J27)*(1+[1]BDI!I35)","v":9236.3673999999992},{"$f":"MIN(I27,J27)*(1+[1]BDI!I34)","v":9936.1396420000019}]
[]
["1.10","Cabo Tripolar",25.58," (SINAPI GO 39260","#",null,"#",null,null,{"$f":"C29","v":25.58},{"$f":"J29*(1+[1]BDI!I35)","v":30.184399999999997},{"$f":"J29*(1+[1]BDI!I34)","v":32.471252}]
[null,null,null,"2022-01-01"]
[]
["1.11","Bloqueador",13140," (Maccafer)",14624," (Nunes)",19583," (Icser)",{"$f":"MEDIAN(C32,E32,G32)","v":14624},{"$f":"(C32+E32+G32)/3","v":15782.333333333334},{"$f":"MIN(I32,J32)*(1+[1]BDI!I35)","v":17256.32},{"$f":"MIN(I32,J32)*(1+[1]BDI!I34)","v":18563.705600000001}]
[]
["1.12","Kit de Inflar",480,"(Icser)",390," (Maccafer)",450," (Nunes)",{"$f":"MEDIAN(C34,E34,G34)","v":450},{"$f":"(C34+E34+G34)/3","v":440},{"$f":"MIN(I34,J34)*(1+[1]BDI!I35)","v":519.19999999999993},{"$f":"MIN(I34,J34)*(1+[1]BDI!I34)","v":558.53600000000006}]
[]
["1.13","Compressor*",1099.9000000000001,"(Loja do Mec.)",1196.9100000000001," (Dutra)",1324," (Submarino)",{"$f":"MEDIAN(C36,E36,G36)","v":1196.9100000000001},{"$f":"(C36+E36+G36)/3","v":1206.9366666666667},{"$f":"MIN(I36,J36)*(1+[1]BDI!I35)","v":1412.3538000000001},{"$f":"MIN(I36,J36)*(1+[1]BDI!I34)","v":1519.3575540000002}]
[]
["1.14","Guindaste hidráulico 60T",83.34," (SINAPI GO 93287","#",null,"#",null,null,{"$f":"C38","v":83.34},{"$f":"J38*(1+[1]BDI!D35)","v":106.6752},{"$f":"J38*(1+[1]BDI!D34)","v":111.67560000000002},"*BDI serviços"]
[null,"custo hora",null,"2022-01-01"]
[]
["1.15","Construção de abrigo",null,"IBGE/SINAPI GO"]
[null,"para Unidade Oleodinâmica",1504.06,"2022-01-01","#",null,"#",null,null,{"$f":"C42","v":1504.06},{"$f":"J42*(1+[1]BDI!D35)","v":1925.1967999999999},{"$f":"J42*(1+[1]BDI!D34)","v":2015.4404},"*BDI serviços"]
[null,"custo m²"]

{"sheet":"BDI","index":4,"n_rows":40,"n_cols":9,"rows_kept":40,"cut":false,"hidden":false,"merged":[[8,0,8,3],[9,0,9,3],[10,0,10,3],[6,0,6,3],[6,5,6,8],[8,5,8,8],[9,5,9,8],[10,5,10,8]]}
[null,"                                                              Ministério do Desenvolvimento Regional - MDR"]
[null,"                                                              Companhia do Desenvolvimento dos Vales do São Francisco e Parnaíba"]
[null,"                                                              Codevasf - Brasília"]
[]
[]
[]
["BDI Serviços",{"$nulls":4},"BDI FORNECIMENTO"]
[]
["DETALHAMENTO DO BDI",{"$nulls":4},"DETALHAMENTO DO BDI"]
["Serviços não desonerados ",{"$nulls":4},"FORMECIMENTO sendo os serviços não desonerados "]
[]
[]
["Item","Descrição dos serviços","Valores de Referência (%)","Preço de Venda (%)",null,"Item","Descrição dos serviços","Valores de Referência (%)","Adotado (%)"]
[]
[1,"Administração Central (Ac)","3,43% - 4,93% - 6,71%",4.9299999999999997E-2,null,1,"Administração Central  (Ac )","1,50% - 3,45% - 4,49%",4.4900000000000002E-2]
["1.1","ESCRITÓRIO CENTRAL",null,null,null,"1.1","ESCRITÓRIO CENTRAL"]
["1.2","VIAGENS",null,null,null,"1.2","VIAGENS"]
["1.3","OUTROS",null,null,null,"1.3","OUTROS"]
[]
[2,"Impostos e Taxas (I)",null,{"$f":"SUM(D21:D24)","v":0.13150000000000001},null,2,"Impostos e Taxas ( I )",null,{"$f":"0.02+SUM(I21:I24)","v":0.10149999999999999}]
["2.1","ISS",0.05,0.05,null,"2.1","ISS","-",0]
["2.2","PIS","de 0,65% a 0,65%",6.4999999999999997E-3,null,"2.2","PIS",6.4999999999999997E-3,6.4999999999999997E-3]
["2.3","Cofins","de 3,00% a 3,00%",0.03,null,"2.3","Cofins",0.03,0.03]
["2.4","CPRB",4.4999999999999998E-2,4.4999999999999998E-2,null,"2.4","CPRB",4.4999999999999998E-2,4.4999999999999998E-2]
[]
["3","Garantia e Seguros ( Gs )","0,28% - 0,49% - 0,75%",4.8999999999999998E-3,null,"3","Garantia e Seguros ( Gs )","0,30% - 0,48% - 0,82%",8.2000000000000007E-3]
[]
[4,"Risco ( R )","1,0% - 1,39% - 6,71%",1.3899999999999999E-2,null,4,"Risco ( R )","0,56 - 0,85% - 0,89%",8.8999999999999999E-3]
[]
[4,"Despesas Financeiras (F)","0,94% - 0,99% - 1,17%",9.9000000000000008E-3,null,5,"Despesas Financeiras ( Df )","de 0,85% - 0,85% -  1,11%",1.11E-2]
[]
[5,"Lucro (L)","6,74% - 8,04% - 9,40%",8.0399999999999999E-2,null,6,"Lucro (  L )","de 3,50% - 5,11% - 6,22%",6.2199999999999998E-2]
[]
[]
[null,"BDI (%) não desonerado",null,{"$f":"ROUND(((((1+D15+D26+D28)*(1+D30)*(1+D32))/(1-(D21+D22+D23)))-1),2)","v":0.28000000000000003},null,null,"BDI (%) não desonerado",null,{"$f":"ROUND(((((1+I15+I26+I28)*(1+I30)*(1+I32))/(1-(I21+I22+I23)))-1),2)","v":0.18}]
[]
[null,"OBS1: ADOTADO VALOR MÉDIO QUARTIL",{"$nulls":4},"OBS1: ADOTADO VALOR 3º QUARTIL"]
[null,"OBS2: Conforme LEI 13.161 /2015:  Em orçamento onde optar-se pelos erviços com desoneração/desonerado, deverá ser incluído no CPRB  o percentual de 4,5% referente a contribuíção previdenciaária.",{"$nulls":4},"OBS2: Conforme LEI 13.161 /2015:  Em orçamento onde optar-se pelos erviços com desoneração/desonerado, deverá ser incluído no CPRB  o percentual de 4,5% referente a contribuíção previdenciaária."]
[null,"OBS3:Adotado Construção de redes de abastecimento de água, coleta de esgoto, e construção correlatas",{"$nulls":4},"OBS3:Adotado Construção de redes de abastecimento de água, coleta de esgoto, e construção correlatas"]
[null,"OBS4: ISS DE 5% REFERÊNCIADO GOIÁS"]

{"sheet":"Cronograma Físico Financeiro","index":5,"n_rows":28,"n_cols":13,"rows_kept":28,"cut":false,"hidden":false,"merged":[[10,4,10,11],[7,0,7,12],[8,0,8,12],[9,0,9,12]]}
[null,null,"Ministério do Desenvolvimento Regional - MDR"]
[null,null,"Companhia do Desenvolvimento dos Vales do São Francisco e Parnaíba"]
[null,null,"Codevasf - Brasília"]
[]
[]
[]
[]
["CRONOGRAMA FÍSICO FINANCEIRO"]
["Fornecimento e Montagem de Equipamentos Hidromecânicos para a Barragem do Paranã"]
[]
[{"$nulls":4},"Mês"]
["Item","Descrição","Unidade","Quantidade",1,2,3,4,5,6,7,8,"Valor (R$)"]
[1,"Fornecimento de Equipamentos"]
["1.1","Fabricação, testes e entrega das Peças","un",15,{"$nulls":8},2518908.8199999998]
[2,"Serviços de Obras Civis"]
["2.1","Escavação Manual","m³",15,{"$nulls":8},19628.532999999999]
["2.2","Montagem e Desmontagem de forma","m²",38,{"$nulls":8},22362.703300000001]
["2.3","Concretagem de Bloco de coroamento","m³",28,{"$nulls":8},36888.613299999997]
[3,"Serviços de Montagem Eletromecânica"]
["3.1 ","Montagem da Válvula Dispersora","un",1,{"$nulls":8},28324.6613]
["3.2","Montagem das Comportas","un",2,{"$nulls":8},29286.330300000001]
["3.3","Montagem da Unidade Oleodinâmica","un",1,{"$nulls":8},32835.052049999998]
["3.4","Montagem Quadro alimentação/comando","un",1,{"$nulls":8},26143.81191]
["3.5","Instalação/Configuração Sensor de nível","un",2,{"$nulls":8},19642.418610000001]
["3.6","Testes e Comissionamento","---","---",{"$nulls":8},24906.815279999999]
[]
[]
[{"$nulls":11},"Total (R$)",{"$f":"SUM(M14:M25)","v":2758927.75905}]