{"text_format":"2","workbook":"xlsx","n_sheets":11,"sheets":["PFP","Plan1","PFP1.1_Topo_RioParaim","PFP1.2_Geo_RioParaim","PFP1.1_Topo_RioStaMaria","PFP1.2_Geo_RioStaMaria","PFP2.1_FatorKa","PFP2.2_FatorKb","PFP3_FatorKc","CRO1_Ins-Pro","CRO2_Ins-Mes"],"not_rendered":{"charts":0,"images":0,"macros":0,"external_links":0,"defined_names":19,"comments":2,"pivot_tables":0},"unopened":[],"bounds":{"document_bytes":16777216,"sheet_cells":100000,"run_cost":"one","rows_first":2000,"rows_last":500,"rows_between":2000,"halvings":0,"cell_chars":16384,"cell_head_chars":4096},"cells_cut":0,"cells_raw":0,"read":"whole","date_system":"1900"}

{"sheet":"PFP","index":0,"n_rows":40,"n_cols":11,"rows_kept":40,"cut":false,"hidden":false,"merged":[[0,0,1,8],[0,9,0,10],[1,9,1,10],[2,0,2,10],[3,0,3,10],[4,0,4,4],[4,5,4,8],[4,9,4,10],[5,0,5,4],[5,5,5,8],[5,9,5,10],[18,0,18,6],[18,7,18,10],[19,0,19,6],[19,7,19,10],[20,0,20,6],[20,7,20,10],[21,0,21,6],[21,7,21,10],[22,0,22,6],[22,7,22,10],[23,0,23,6],[23,9,23,10],[24,0,24,8],[24,9,24,10],[25,0,25,6],[26,0,26,8],[26,9,26,10],[27,0,27,10],[28,0,28,10],[29,0,29,10],[30,0,30,10],[31,0,31,10],[32,0,32,10],[33,0,33,10],[34,0,34,10],[35,0,35,10],[36,0,36,10],[37,0,37,10],[38,0,38,10],[39,0,39,10]]}
["PROPOSTA FINANCEIRA DO PROJETO",{"$nulls":8},"CODIGO:"]
[{"$nulls":9},"PFP"]
["NOME DA CONSULTORA:"]
[]
["PROJETO:",{"$nulls":4},"CONTRATANTE:",null,null,null,"BASE: Setembro/2022"]
["Pontes em Flores de Goiás/GO",{"$nulls":4},"Codevasf (Sede)"]
["Base","Cod1","Cod2","Categoria / Insumo","Uni","Qde","CUD","PU","FatorK","CT","PT"]
["SICRO","MO","P0","Engenheiro Sênior (Coordenador) (P8061)","mês",{"$f":"'CRO1_Ins-Pro'!D4","v":4},16848.3,{"$f":"ROUND(I8*G8,2)","v":41268.23},{"$f":"'PFP2.1_FatorKa'!J8","v":2.4494},{"$f":"ROUND(F8*G8,2)","v":67393.2},{"$f":"ROUND(F8*H8,2)","v":165072.92}]
["SICRO","MO","P1","Engenheiro Sênior – Projetista Ponte (P8067)","mês",{"$f":"'CRO1_Ins-Pro'!D5","v":1.5},14226.86,{"$f":"ROUND(I9*G9,2)","v":34847.27},{"$f":"'PFP2.1_FatorKa'!J9","v":2.4494},{"$f":"ROUND(F9*G9,2)","v":21340.29},{"$f":"ROUND(F9*H9,2)","v":52270.91}]
["SICRO","MO","P2","Engenheiro Pleno – Hídrico/Hidrológico(P8066)","mês",{"$f":"'CRO1_Ins-Pro'!D6","v":1},10864.39,{"$f":"ROUND(I10*G10,2)","v":26611.24},{"$f":"'PFP2.1_FatorKa'!J10","v":2.4494},{"$f":"ROUND(F10*G10,2)","v":10864.39},{"$f":"ROUND(F10*H10,2)","v":26611.24}]
["SICRO","MO","P2","Engenheiro Pleno – Projetista Estrada (P8066)","mês",{"$f":"'CRO1_Ins-Pro'!D7","v":0.5},10864.39,{"$f":"ROUND(I11*G11,2)","v":26611.24},{"$f":"'PFP2.1_FatorKa'!J11","v":2.4494},{"$f":"ROUND(F11*G11,2)","v":5432.2},{"$f":"ROUND(F11*H11,2)","v":13305.62}]
["SICRO","MO","P2","Engenheiro Pleno - Ambiental (P8058)","mês",{"$f":"'CRO1_Ins-Pro'!D8","v":1},10998.07,{"$f":"ROUND(I12*G12,2)","v":26941.97},{"$f":"'PFP2.1_FatorKa'!J12","v":2.4497},{"$f":"ROUND(F12*G12,2)","v":10998.07},{"$f":"ROUND(F12*H12,2)","v":26941.97}]
["SICRO","MO","A1","Administrativo (Secretariado) (P8135)","mês",{"$f":"'CRO1_Ins-Pro'!D9","v":4},2189.27,{"$f":"ROUND(I13*G13,2)","v":5369.4},{"$f":"'PFP2.1_FatorKa'!J13","v":2.4526},{"$f":"ROUND(F13*G13,2)","v":8757.08},{"$f":"ROUND(F13*H13,2)","v":21477.6}]
["CODE","DP","V1","Diárias","dia",{"$f":"'CRO1_Ins-Pro'!D10","v":21},160,{"$f":"ROUND(I14*G14,2)","v":200.93},{"$f":"PFP3_FatorKc!$E$19","v":1.2558},{"$f":"ROUND(F14*G14,2)","v":3360},{"$f":"ROUND(F14*H14,2)","v":4219.53}]
["PROP","LO","V2","Pick-up Cab. Dupla 2.8 4x4 Diesel","dia",{"$f":"'CRO1_Ins-Pro'!D11","v":10},196.18,{"$f":"ROUND(I15*G15,2)","v":246.36},{"$f":"PFP3_FatorKc!$E$19","v":1.2558},{"$f":"ROUND(F15*G15,2)","v":1961.8},{"$f":"ROUND(F15*H15,2)","v":2463.6}]
["CODE","EM","M4","Relatório Final","un",{"$f":"'CRO1_Ins-Pro'!D12","v":1},1478.8,{"$f":"ROUND(I16*G16,2)","v":1857.08},{"$f":"PFP3_FatorKc!$E$19","v":1.2558},{"$f":"ROUND(F16*G16,2)","v":1478.8},{"$f":"ROUND(F16*H16,2)","v":1857.08}]
["CODE","SG","TP","Total Serviços Cartográficos","un",{"$f":"'CRO1_Ins-Pro'!D13","v":1},"-",{"$f":"('PFP1.1_Topo_RioParaim'!G17)+('PFP1.1_Topo_RioStaMaria'!G17)","v":45780.86},"-","-",{"$f":"ROUND(F17*H17,2)","v":45780.86}]
["CODE","SG","GT","Total Serviços Geotécnicos","un",{"$f":"'CRO1_Ins-Pro'!D14","v":1},"-",{"$f":"('PFP1.2_Geo_RioParaim'!G39)+('PFP1.2_Geo_RioStaMaria'!G39)","v":160564.58},"-","-",{"$f":"ROUND(F18*H18,2)","v":160564.58}]
["TOTAL DOS CUSTOS DIRETOS",{"$nulls":6},{"$f":"SUM(J8:J18)","v":131585.83}]
["TOTAL DOS ENCARGOS E DISPESAS DIVERSAS",{"$nulls":6},{"$f":"H21-H19","v":182634.64}]
["TOTAL DA PROPOSTA A PREÇO GLOBAL",{"$nulls":6},{"$f":"SUM(K8:K16)","v":314220.47}]
["TOTAL DA PROPOSTA A PREÇO UNITÁRIO",{"$nulls":6},{"$f":"SUM(K17:K18)","v":206345.44}]
["TOTAL DA PROPOSTA",{"$nulls":6},{"$f":"H21+H22","v":520565.91}]
["NOME DO INFORMANTE:",{"$nulls":8},"QUALIFICAÇÃO"]
[]
["ASSINATURA:",{"$nulls":8},"DATA:"]
[]
["OBSERVAÇÃO:"]
["Alocar os Insumos MO, com respectivo FatorK, dentro da categoria de vínculo contratual (com ou sem) de cada tipo de profissional"]
["Uni - unidade de medição do insumo;"]
["Qde - Quantidade do Insumo (não pode ocorrer alteração pela Licitante)"]
["CUD - Custo Unitário Direto do Insumo (sem encargos, taxas e impostos, valor não pode ser maior que o Orçado pela Codevasf)"]
["CT - Custo Total (sem encargos, taxas e impostos) - CT = Qde x CUD"]
["FatorK - Taxa de Ressarcimento de Despesas e Encargos (detalhar composição nas Planilhas \"PFP2.1\", \"PFP2.2\", \"PFP3\")"]
["PU - Preço Unitário do Insumo (incluído encargos, taxas e impostos) - PU = CUD x FatorK"]
["PT - Preço Total do Insumo (incluído encargos, taxas e impostos) - PT = Qde x PU"]
["P - Profissionais nível superior nas áreas de Engenharia, Química, Arquitetura, Agronomia e Veterinária, conforme disposições da Lei 4.950-A/66"]
["S - Profissionais de nível superior nas demais áreas de atuação, incluindo Arqueólogo, Biólogo, Geógrafo e Socioólogo"]
["T - Profissionais de nível médio técnico nas diversas áreas de atuação"]
["A - Profissionais de nível médio de apoio técnico-administrativo"]

{"sheet":"Plan1","index":1,"n_rows":0,"n_cols":0,"rows_kept":0,"cut":false,"hidden":true,"merged":[]}

{"sheet":"PFP1.1_Topo_RioParaim","index":2,"n_rows":26,"n_cols":7,"rows_kept":26,"cut":false,"hidden":false,"merged":[[0,0,1,5],[2,0,2,6],[3,0,3,6],[4,0,4,3],[4,4,4,5],[5,0,5,3],[5,4,5,5],[16,0,16,5],[17,0,17,4],[18,0,18,4],[19,0,19,4],[20,0,20,4],[21,0,21,6],[22,0,22,6],[23,0,23,6],[24,0,24,6],[25,0,25,6]]}
["SERVIÇOS TOPOGRÁFICOS/CARTOGRÁFICOS",{"$nulls":5},"CODIGO:"]
[{"$nulls":6},"PFP-1.1"]
["NOME DA EMPRESA:"]
[]
["PROJETO:",null,null,null,"CONTRATANTE:",null,{"$f":"PFP!J5","v":"BASE: Setembro/2022"}]
["Ponte sobre o Rio Paraim/GO",null,null,null,{"$f":"PFP!F6","v":"Codevasf (Sede)"}]
["Cod.","Base","Insumos","Uni","Qde","Preço Unitário (PU)","Preço Total (PT)"]
["TP2","CODE","Poligonal classe IIP","km",{"$f":"E9","v":5},1984.3,{"$f":"ROUND(F8*E8,2)","v":9921.5}]
["TP7","CODE","Nivelamento Geométrico classe IN","km",{"$f":"2+3","v":5},1304.85,{"$f":"ROUND(F9*E9,2)","v":6524.25}]
["TP8","CODE","Seções Transversais (Nivelamento IIN)","km",{"$f":"((E9*1000)/20)*0.04","v":10},788.72,{"$f":"ROUND(F10*E10,2)","v":7887.2}]
["TP19","CODE","Pontos GPS de dupla frequencia (L1/L2)","un ",6,981.07,{"$f":"ROUND(F11*E11,2)","v":5886.42}]
["TP21","CODE","Levantamento Topobatimétrico","km",0.35,1260.83,{"$f":"ROUND(F12*E12,2)","v":441.29}]
["TP27","CODE","Marco de Concreto (12x18x60cm)","un ",{"$f":"E11","v":6},53.89,{"$f":"ROUND(F13*E13,2)","v":323.34}]
["TP28","CODE","Barrote de Madeira (10x10x50cm","un ",{"$f":"=E15*0.5","v":125},28.7,{"$f":"ROUND(F14*E14,2)","v":3587.5}]
["TP29","CODE","Piquete de Madeira (2x2x20cm)","un ",{"$f":"(E9*1000)/20","v":250},2.41,{"$f":"ROUND(F15*E15,2)","v":602.5}]
["PD6","CODE","Picada Manual","km",{"$f":"E10","v":10},194.88,{"$f":"ROUND(F16*E16,2)","v":1948.8}]
["TOTAL SERVIÇOS TOPOGRÁFICOS",{"$nulls":5},{"$f":"SUM(G8:G16)","v":37122.8}]
["NOME DO INFORMANTE:",{"$nulls":4},"QUALIFICAÇÃO:"]
[]
["ASSINATURA:",{"$nulls":4},"DATA:"]
[]
["OBSERVAÇÃO:"]
["Uni - unidade de medição do insumo;"]
["Qde - Quantidade do Insumo (não pode ocorrer alteração pela Licitante)"]
["PU - Preço Unitário (composições padrão da Codevasf, já incluso o FatorK)"]
["PT - Preço Total (incluído encargos, taxas e impostos) - PT = Qde x PU"]

{"sheet":"PFP1.2_Geo_RioParaim","index":3,"n_rows":48,"n_cols":7,"rows_kept":48,"cut":false,"hidden":false,"merged":[[0,0,1,5],[2,0,2,6],[3,0,3,6],[4,0,4,3],[4,4,4,5],[5,0,5,3],[5,4,5,5],[38,0,38,5],[39,0,39,4],[40,0,40,4],[41,0,41,4],[42,0,42,4],[43,0,43,6],[44,0,44,6],[45,0,45,6],[46,0,46,6],[47,0,47,6]]}
["SERVIÇOS GEOLÓGICOS/GEOTÉCNICOS",{"$nulls":5},"CODIGO:"]
[{"$nulls":6},"PFP-1.2"]
["NOME DA EMPRESA:"]
[]
["PROJETO:",null,null,null,"CONTRATANTE:",null,{"$f":"PFP!J5","v":"BASE: Setembro/2022"}]
[{"$f":"'PFP1.1_Topo_RioParaim'!A6","v":"Ponte sobre o Rio Paraim/GO"},null,null,null,{"$f":"PFP!F6","v":"Codevasf (Sede)"}]
["Cod.","Base","Insumos","Uni","Qde","Preço Unitário (PU)","Preço Total (PT)"]
["GT1.2","CODE","Sondagem Rotativa: (Des)Mobilização","un",1,4110.46,{"$f":"ROUND(F8*E8,2)","v":4110.46}]
["GT1.3.1","CODE","Sondagem Rotativa: Ø N em rochas","m",30,712.73,{"$f":"ROUND(F9*E9,2)","v":21381.9}]
["GT1.3.2","CODE","Sondagem Rotativa: Ø B em solo","m",30,267.48,{"$f":"ROUND(F10*E10,2)","v":8024.4}]
["GT2.1","CODE","Sondagem Percussão: (Des)Mobilização","un",1,878.94,{"$f":"ROUND(F11*E11,2)","v":878.94}]
["GT2.2","CODE","Sondagem Percursão: com SPT","m",60,77.08,{"$f":"ROUND(F12*E12,2)","v":4624.8}]
["GT4","CODE","Sondagem a Trado","m",20,64.94,{"$f":"ROUND(F13*E13,2)","v":1298.8}]
["GT5","CODE","Poços de Inspeção","m",24,190.68,{"$f":"ROUND(F14*E14,2)","v":4576.32}]
["GT6.1.1","CODE","Ensaio: Umidade Natural ","un",14,84.49,{"$f":"ROUND(F15*E15,2)","v":1182.86}]
["GT6.1.2","CODE","Ensaio: Densidade Natural","un",14,84.49,{"$f":"ROUND(F16*E16,2)","v":1182.86}]
["GT6.1.3","CODE","Ensaio: Limite de Liquidez","un",14,117,{"$f":"ROUND(F17*E17,2)","v":1638}]
["GT6.1.4","CODE","Ensaio: Limite de Plasticidade","un",14,117,{"$f":"ROUND(F18*E18,2)","v":1638}]
["G6.1.5","CODE","Ensaio: Granulometria por Peneiramento","un",14,123.34,{"$f":"ROUND(F19*E19,2)","v":1726.76}]
["GT6.1.6","CODE","Ensaio: Granulometria por Sedimentação","un",14,382.79,{"$f":"ROUND(F20*E20,2)","v":5359.06}]
["GT6.1.7","CODE","Ensaio: Compactação Proctor Normal","un",14,160.41,{"$f":"ROUND(F21*E21,2)","v":2245.74}]
["GT6.1.8","CODE","Ensaio: Massa Especifica Real dos Grãos","un",14,104.27,{"$f":"ROUND(F22*E22,2)","v":1459.78}]
["GT6.1.9","CODE","Ensaio: Adensamento Oedométrico","un",4,283.57,{"$f":"ROUND(F23*E23,2)","v":1134.28}]
["GT6.1.10","CODE","Ensaio: Triaxial UU ñ consolidado ñ drenado","un",4,822.95,{"$f":"ROUND(F24*E24,2)","v":3291.8}]
["GT6.1.11","CODE","Ensaio: Triaxial CU consolidado ñ drenado","un",4,1129.48,{"$f":"ROUND(F25*E25,2)","v":4517.92}]
["GT6.1.12.1","CODE","Ensaio: Expansão colapsividade em anéis de adensamento","un",8,380.8,{"$f":"ROUND(F26*E26,2)","v":3046.4}]
["GT6.1.12.2","CODE","Ensaio: Expansão amostra indeformada com pressão de expansão","un",8,300.93,{"$f":"ROUND(F27*E27,2)","v":2407.44}]
["GT6.1.13.1","CODE","Ensaio: Dispersão Granulometria Comparativa","un",8,228.5,{"$f":"ROUND(F28*E28,2)","v":1828}]
["GT6.1.13.2","CODE","Ensaio: Dispersão Crumb Test","un",8,84.66,{"$f":"ROUND(F29*E29,2)","v":677.28}]
["GT6.1.14","CODE","Ensaio: Infiltração","un",4,228.5,{"$f":"ROUND(F30*E30,2)","v":914}]
["GT6.1.15","CODE","Ensaio: Perda de Água 5 estágios","un",4,361.18,{"$f":"ROUND(F31*E31,2)","v":1444.72}]
["GT6.1.16.1","CODE","Ensaio: Análise Quimica da Areia","un",4,459.82,{"$f":"ROUND(F32*E32,2)","v":1839.28}]
["GT6.1.16.2","CODE","Ensaio: Mineralogia da Areia","un",4,529.2,{"$f":"ROUND(F33*E33,2)","v":2116.8}]
["GT6.1.17","CODE","Ensaio: Análise Petrográfica/Mineralogia","un",4,529.2,{"$f":"ROUND(F34*E34,2)","v":2116.8}]
["GT6.1.18","CODE","Ensaio: Abrasão “LOS ANGELES”","un",4,414.19,{"$f":"ROUND(F35*E35,2)","v":1656.76}]
["GT6.1.19","CODE","Ensaio: Reatividade Potencial","un",4,1382.66,{"$f":"ROUND(F36*E36,2)","v":5530.64}]
["GT6.1.20","CODE","Ensaio: Permeabilidade Vertical de Carga Variável","un",4,649.14,{"$f":"ROUND(F37*E37,2)","v":2596.56}]
["GT6.1.21","CODE","Ensaio: Retirada de Amostra Indeformada","un",8,691.33,{"$f":"ROUND(F38*E38,2)","v":5530.64}]
["TOTAL SERVIÇOS GEOTÉCNICOS",{"$nulls":5},{"$f":"SUM(G8:G38)","v":101978}]
["NOME DO INFORMANTE:",{"$nulls":4},"QUALIFICAÇÃO:"]
[]
["ASSINATURA:",{"$nulls":4},"DATA:"]
[]
["LEGENDA:"]
["Uni - unidade de medição do insumo;"]
["Qde - Quantidade do Insumo (não pode ocorrer alteração pela Licitante)"]
["PU - Preço Unitário (composições padrão da Codevasf, já incluso o FatorK)"]
["PT - Preço Total (incluído encargos, taxas e impostos) - PT = Qde x PU"]

{"sheet":"PFP1.1_Topo_RioStaMaria","index":4,"n_rows":26,"n_cols":7,"rows_kept":26,"cut":false,"hidden":false,"merged":[[0,0,1,5],[2,0,2,6],[3,0,3,6],[4,0,4,3],[4,4,4,5],[5,0,5,3],[5,4,5,5],[16,0,16,5],[17,0,17,4],[18,0,18,4],[19,0,19,4],[20,0,20,4],[21,0,21,6],[22,0,22,6],[23,0,23,6],[24,0,24,6],[25,0,25,6]]}
["SERVIÇOS TOPOGRÁFICOS/CARTOGRÁFICOS",{"$nulls":5},"CODIGO:"]
[{"$nulls":6},"PFP-1.1"]
["NOME DA EMPRESA:"]
[]
["PROJETO:",null,null,null,"CONTRATANTE:",null,{"$f":"PFP!J5","v":"BASE: Setembro/2022"}]
["Ponte sobre Rio Santa Maria/GO",null,null,null,{"$f":"PFP!F6","v":"Codevasf (Sede)"}]
["Cod.","Base","Insumos","Uni","Qde","Preço Unitário (PU)","Preço Total (PT)"]
[{"$f":"'PFP1.1_Topo_RioParaim'!A8","v":"TP2"},"CODE","Poligonal classe IIP","km",{"$f":"E9","v":0.7},1984.3,{"$f":"ROUND(F8*E8,2)","v":1389.01}]
[{"$f":"'PFP1.1_Topo_RioParaim'!A9","v":"TP7"},"CODE","Nivelamento Geométrico classe IN","km",{"$f":"0.3+0.4","v":0.7},1304.85,{"$f":"ROUND(F9*E9,2)","v":913.4}]
[{"$f":"'PFP1.1_Topo_RioParaim'!A10","v":"TP8"},"CODE","Seções Transversais (Nivelamento IIN)","km",{"$f":"((E9*1000)/20)*0.04","v":1.4},788.72,{"$f":"ROUND(F10*E10,2)","v":1104.21}]
[{"$f":"'PFP1.1_Topo_RioParaim'!A11","v":"TP19"},"CODE","Pontos GPS de dupla frequencia (L1/L2)","un ",4,981.07,{"$f":"ROUND(F11*E11,2)","v":3924.28}]
[{"$f":"'PFP1.1_Topo_RioParaim'!A12","v":"TP21"},"CODE","Levantamento Topobatimétrico","km",0.2,1260.83,{"$f":"ROUND(F12*E12,2)","v":252.17}]
[{"$f":"'PFP1.1_Topo_RioParaim'!A13","v":"TP27"},"CODE","Marco de Concreto (12x18x60cm)","un ",{"$f":"E11","v":4},53.89,{"$f":"ROUND(F13*E13,2)","v":215.56}]
[{"$f":"'PFP1.1_Topo_RioParaim'!A14","v":"TP28"},"CODE","Barrote de Madeira (10x10x50cm","un ",{"$f":"=E15*0.5","v":17.5},28.7,{"$f":"ROUND(F14*E14,2)","v":502.25}]
[{"$f":"'PFP1.1_Topo_RioParaim'!A15","v":"TP29"},"CODE","Piquete de Madeira (2x2x20cm)","un ",{"$f":"(E9*1000)/20","v":35},2.41,{"$f":"ROUND(F15*E15,2)","v":84.35}]
[{"$f":"'PFP1.1_Topo_RioParaim'!A16","v":"PD6"},"CODE","Picada Manual","km",{"$f":"E10","v":1.4},194.88,{"$f":"ROUND(F16*E16,2)","v":272.83}]
["TOTAL SERVIÇOS TOPOGRÁFICOS",{"$nulls":5},{"$f":"SUM(G8:G16)","v":8658.06}]
["NOME DO INFORMANTE:",{"$nulls":4},"QUALIFICAÇÃO:"]
[]
["ASSINATURA:",{"$nulls":4},"DATA:"]
[]
["OBSERVAÇÃO:"]
["Uni - unidade de medição do insumo;"]
["Qde - Quantidade do Insumo (não pode ocorrer alteração pela Licitante)"]
["PU - Preço Unitário (composições padrão da Codevasf, já incluso o FatorK)"]
["PT - Preço Total (incluído encargos, taxas e impostos) - PT = Qde x PU"]

{"sheet":"PFP1.2_Geo_RioStaMaria","index":5,"n_rows":48,"n_cols":7,"rows_kept":48,"cut":false,"hidden":false,"merged":[[0,0,1,5],[2,0,2,6],[3,0,3,6],[4,0,4,3],[4,4,4,5],[5,0,5,3],[5,4,5,5],[38,0,38,5],[39,0,39,4],[40,0,40,4],[41,0,41,4],[42,0,42,4],[43,0,43,6],[44,0,44,6],[45,0,45,6],[46,0,46,6],[47,0,47,6]]}
["SERVIÇOS GEOLÓGICOS/GEOTÉCNICOS",{"$nulls":5},"CODIGO:"]
[{"$nulls":6},"PFP-1.2"]
["NOME DA EMPRESA:"]
[]
["PROJETO:",null,null,null,"CONTRATANTE:",null,{"$f":"PFP!J5","v":"BASE: Setembro/2022"}]
[{"$f":"'PFP1.1_Topo_RioStaMaria'!A6","v":"Ponte sobre Rio Santa Maria/GO"},null,null,null,{"$f":"PFP!F6","v":"Codevasf (Sede)"}]
["Cod.","Base","Insumos","Uni","Qde","Preço Unitário (PU)","Preço Total (PT)"]
["GT1.2","CODE","Sondagem Rotativa: (Des)Mobilização","un",0,4110.46,{"$f":"ROUND(F8*E8,2)","v":0}]
["GT1.3.1","CODE","Sondagem Rotativa: Ø N em rochas","m",30,712.73,{"$f":"ROUND(F9*E9,2)","v":21381.9}]
["GT1.3.2","CODE","Sondagem Rotativa: Ø B em solo","m",30,267.48,{"$f":"ROUND(F10*E10,2)","v":8024.4}]
["GT2.1","CODE","Sondagem Percussão: (Des)Mobilização","un",0,878.94,{"$f":"ROUND(F11*E11,2)","v":0}]
["GT2.2","CODE","Sondagem Percursão: com SPT","m",60,77.08,{"$f":"ROUND(F12*E12,2)","v":4624.8}]
["GT4","CODE","Sondagem a Trado","m",0,64.94,{"$f":"ROUND(F13*E13,2)","v":0}]
["GT5","CODE","Poços de Inspeção","m",8,190.68,{"$f":"ROUND(F14*E14,2)","v":1525.44}]
["GT6.1.1","CODE","Ensaio: Umidade Natural ","un",4,84.49,{"$f":"ROUND(F15*E15,2)","v":337.96}]
["GT6.1.2","CODE","Ensaio: Densidade Natural","un",4,84.49,{"$f":"ROUND(F16*E16,2)","v":337.96}]
["GT6.1.3","CODE","Ensaio: Limite de Liquidez","un",4,117,{"$f":"ROUND(F17*E17,2)","v":468}]
["GT6.1.4","CODE","Ensaio: Limite de Plasticidade","un",4,117,{"$f":"ROUND(F18*E18,2)","v":468}]
["G6.1.5","CODE","Ensaio: Granulometria por Peneiramento","un",4,123.34,{"$f":"ROUND(F19*E19,2)","v":493.36}]
["GT6.1.6","CODE","Ensaio: Granulometria por Sedimentação","un",4,382.79,{"$f":"ROUND(F20*E20,2)","v":1531.16}]
["GT6.1.7","CODE","Ensaio: Compactação Proctor Normal","un",4,160.41,{"$f":"ROUND(F21*E21,2)","v":641.64}]
["GT6.1.8","CODE","Ensaio: Massa Especifica Real dos Grãos","un",4,104.27,{"$f":"ROUND(F22*E22,2)","v":417.08}]
["GT6.1.9","CODE","Ensaio: Adensamento Oedométrico","un",2,283.57,{"$f":"ROUND(F23*E23,2)","v":567.14}]
["GT6.1.10","CODE","Ensaio: Triaxial UU ñ consolidado ñ drenado","un",2,822.95,{"$f":"ROUND(F24*E24,2)","v":1645.9}]
["GT6.1.11","CODE","Ensaio: Triaxial CU consolidado ñ drenado","un",2,1129.48,{"$f":"ROUND(F25*E25,2)","v":2258.96}]
["GT6.1.12.1","CODE","Ensaio: Expansão colapsividade em anéis de adensamento","un",2,380.8,{"$f":"ROUND(F26*E26,2)","v":761.6}]
["GT6.1.12.2","CODE","Ensaio: Expansão amostra indeformada com pressão de expansão","un",2,300.93,{"$f":"ROUND(F27*E27,2)","v":601.86}]
["GT6.1.13.1","CODE","Ensaio: Dispersão Granulometria Comparativa","un",2,228.5,{"$f":"ROUND(F28*E28,2)","v":457}]
["GT6.1.13.2","CODE","Ensaio: Dispersão Crumb Test","un",2,84.66,{"$f":"ROUND(F29*E29,2)","v":169.32}]
["GT6.1.14","CODE","Ensaio: Infiltração","un",2,228.5,{"$f":"ROUND(F30*E30,2)","v":457}]
["GT6.1.15","CODE","Ensaio: Perda de Água 5 estágios","un",2,361.18,{"$f":"ROUND(F31*E31,2)","v":722.36}]
["GT6.1.16.1","CODE","Ensaio: Análise Quimica da Areia","un",2,459.82,{"$f":"ROUND(F32*E32,2)","v":919.64}]
["GT6.1.16.2","CODE","Ensaio: Mineralogia da Areia","un",2,529.2,{"$f":"ROUND(F33*E33,2)","v":1058.4}]
["GT6.1.17","CODE","Ensaio: Análise Petrográfica/Mineralogia","un",2,529.2,{"$f":"ROUND(F34*E34,2)","v":1058.4}]
["GT6.1.18","CODE","Ensaio: Abrasão “LOS ANGELES”","un",2,414.19,{"$f":"ROUND(F35*E35,2)","v":828.38}]
["GT6.1.19","CODE","Ensaio: Reatividade Potencial","un",2,1382.66,{"$f":"ROUND(F36*E36,2)","v":2765.32}]
["GT6.1.20","CODE","Ensaio: Permeabilidade Vertical de Carga Variável","un",2,649.14,{"$f":"ROUND(F37*E37,2)","v":1298.28}]
["GT6.1.21","CODE","Ensaio: Retirada de Amostra Indeformada","un",4,691.33,{"$f":"ROUND(F38*E38,2)","v":2765.32}]
["TOTAL SERVIÇOS GEOTÉCNICOS",{"$nulls":5},{"$f":"SUM(G8:G38)","v":58586.58}]
["NOME DO INFORMANTE:",{"$nulls":4},"QUALIFICAÇÃO:"]
[]
["ASSINATURA:",{"$nulls":4},"DATA:"]
[]
["LEGENDA:"]
["Uni - unidade de medição do insumo;"]
["Qde - Quantidade do Insumo (não pode ocorrer alteração pela Licitante)"]
["PU - Preço Unitário (composições padrão da Codevasf, já incluso o FatorK)"]
["PT - Preço Total (incluído encargos, taxas e impostos) - PT = Qde x PU"]

{"sheet":"PFP2.1_FatorKa","index":6,"n_rows":27,"n_cols":10,"rows_kept":27,"cut":false,"hidden":false,"merged":[[0,0,1,8],[0,9,0,10],[1,9,1,10],[2,0,2,10],[3,0,3,10],[4,0,4,4],[4,5,4,8],[4,9,4,10],[5,0,5,4],[5,5,5,8],[5,9,5,10],[6,9,6,10],[7,9,7,10],[8,9,8,10],[9,9,9,10],[10,9,10,10],[11,9,11,10],[12,9,12,10],[13,0,13,10],[14,0,14,6],[14,9,14,10],[15,0,15,8],[15,9,15,10],[16,0,16,6],[17,0,17,8],[17,9,17,10],[18,0,18,10],[19,0,19,10],[20,0,21,10],[22,0,22,10],[23,0,23,10],[24,0,24,10],[25,0,25,10],[26,0,26,10]]}
["DETALHAMENTO DOS ENCARGOS SOCIAIS: Ka",{"$nulls":8},"CODIGO:"]
[{"$nulls":9},"PFP-2.1"]
["NOME DA CONSULTORA:"]
[]
["PROJETO:",{"$nulls":4},"CONTRATANTE:",null,null,null,"BASE: Setembro/2022"]
[{"$f":"PFP!A6","v":"Pontes em Flores de Goiás/GO"},{"$nulls":4},"Codevasf (Sede)"]
["Base","Cod Sicro","Cod1","Cod2","Categoria / Insumo","K1","K2","K3","K4","Ka"]
["SICRO","P8061","MO","P0","Engenheiro Sênior (Coordenador) (P8061)",0.8005,{"$f":"PFP3_FatorKc!$E$15","v":0.15},{"$f":"PFP3_FatorKc!$E$10","v":0.1416},{"$f":"PFP3_FatorKc!$E$14","v":0.1},{"$f":"ROUND((1+F8+G8)*(1+H8)*(1+I8),4)","v":2.4494}]
["SICRO","P8067","MO","P1","Engenheiro Sênior – Projetista Ponte (P8067)",0.8005,{"$f":"PFP3_FatorKc!$E$15","v":0.15},{"$f":"PFP3_FatorKc!$E$10","v":0.1416},{"$f":"PFP3_FatorKc!$E$14","v":0.1},{"$f":"ROUND((1+F9+G9)*(1+H9)*(1+I9),4)","v":2.4494}]
["SICRO","P8066","MO","P2","Engenheiro Pleno – Hídrico/Hidrológico(P8066)",0.8005,{"$f":"PFP3_FatorKc!$E$15","v":0.15},{"$f":"PFP3_FatorKc!$E$10","v":0.1416},{"$f":"PFP3_FatorKc!$E$14","v":0.1},{"$f":"ROUND((1+F10+G10)*(1+H10)*(1+I10),4)","v":2.4494}]
["SICRO","P8066","MO","P2","Engenheiro Pleno – Projetista Estrada (P8066)",0.8005,{"$f":"PFP3_FatorKc!$E$15","v":0.15},{"$f":"PFP3_FatorKc!$E$10","v":0.1416},{"$f":"PFP3_FatorKc!$E$14","v":0.1},{"$f":"ROUND((1+F11+G11)*(1+H11)*(1+I11),4)","v":2.4494}]
["SICRO","P8058","MO","P2","Engenheiro Pleno - Ambiental (P8058)",0.8008,{"$f":"PFP3_FatorKc!$E$15","v":0.15},{"$f":"PFP3_FatorKc!$E$10","v":0.1416},{"$f":"PFP3_FatorKc!$E$14","v":0.1},{"$f":"ROUND((1+F12+G12)*(1+H12)*(1+I12),4)","v":2.4497}]
["SICRO","P8135","MO","A1","Administrativo (Secretariado) (P8135)",0.8031,{"$f":"PFP3_FatorKc!$E$15","v":0.15},{"$f":"PFP3_FatorKc!$E$10","v":0.1416},{"$f":"PFP3_FatorKc!$E$14","v":0.1},{"$f":"ROUND((1+F13+G13)*(1+H13)*(1+I13),4)","v":2.4526}]
[]
["NOME DO INFORMANTE:",{"$nulls":8},"QUALIFICAÇÃO"]
[]
["ASSINATURA:",{"$nulls":8},"DATA:"]
[]
["OBSERVAÇÃO:"]
["Alocar os Insumos MO, com respectivo FatorK, dentro da categoria de vínculo contratual (com ou sem) de cada tipo de profissional"]
["K1 - Encargos Sociais - Valores obtidos do Relatório de Consolidação dos Custos de Mão de obra do SICRO (Tabela 1 - Consolidação dos custos de mão de obra - Tabela de Preços de Consultoria - mês de referência: abril de 2022)"]
[]
["K2 - Custos da Administração Central"]
["K3 - Despesas Fiscais"]
["K4 - Remuneração da empresa (LUCRO)"]
["Ka - Taxa de Ressarcimento de Despesas e Encargos sobre a Mão de Obra COM VINCULO (incide apenas no Insumo Codigo M.O.)"]
["Ka = (1 + K1 + K2) x (1 + K3) x (1 + K4)"]

{"sheet":"PFP2.2_FatorKb","index":7,"n_rows":46,"n_cols":6,"rows_kept":46,"cut":false,"hidden":false,"merged":[[0,0,1,4],[2,0,2,5],[3,0,3,5],[4,2,4,4],[5,0,5,1],[5,2,5,4],[6,0,7,3],[6,4,6,5],[8,1,8,3],[18,1,18,3],[19,1,19,3],[20,1,20,3],[21,1,21,3],[22,1,22,3],[23,1,23,3],[24,1,24,3],[25,1,25,3],[26,1,26,3],[27,1,27,3],[28,1,28,3],[29,1,29,3],[30,1,30,3],[31,1,31,3],[32,1,32,3],[33,1,33,3],[34,1,34,3],[35,1,35,3],[36,1,36,3],[37,4,37,5],[38,4,38,5],[40,0,40,3],[42,0,42,5],[43,0,43,5],[44,0,44,5],[45,0,45,5]]}
["DETALHAMENTO DOS ENCARGOS SOCIAIS: Kb",{"$nulls":4},"CODIGO:"]
[{"$nulls":5},"PFP-3"]
["NOME DA CONSULTORA:"]
[]
["PROJETO:",null,"CONTRATANTE:",null,null,{"$f":"'PFP2.1_FatorKa'!J5","v":"BASE: Setembro/2022"}]
[{"$f":"PFP!A6","v":"Pontes em Flores de Goiás/GO"},null,{"$f":"PFP!F6","v":"Codevasf (Sede)"}]
["DISCRIMINAÇÃO",null,null,null,"VALORES"]
[{"$nulls":4},"%","R$"]
["A","ENCARGOS SOCIAIS BÁSICOS",null,null,{"$f":"ROUND(SUM(E10:E18),4)","v":0.2},{"$f":"ROUND(E9*PFP!$H$19,2)","v":26317.17}]
["A1","Seconci",null,null,0,{"$f":"ROUND(E10*PFP!$H$19,2)","v":0}]
["A2","INSS",null,null,0.2,{"$f":"ROUND(E11*PFP!$H$19,2)","v":26317.17}]
["A3","FGTS",null,null,0,{"$f":"ROUND(E12*PFP!$H$19,2)","v":0}]
["A4","Incra",null,null,0,{"$f":"ROUND(E13*PFP!$H$19,2)","v":0}]
["A5","Salário Educação ",null,null,0,{"$f":"ROUND(E14*PFP!$H$19,2)","v":0}]
["A6","Sebrae",null,null,0,{"$f":"ROUND(E15*PFP!$H$19,2)","v":0}]
["A7","Seguro contra acidente",null,null,0,{"$f":"ROUND(E16*PFP!$H$19,2)","v":0}]
["A8","Senai",null,null,0,{"$f":"ROUND(E17*PFP!$H$19,2)","v":0}]
["A9","Sesi",null,null,0,{"$f":"ROUND(E18*PFP!$H$19,2)","v":0}]
["B"," ENCARGOS SOCIAIS QUE RECEBEM INCIDÊNCIA DE \"A\"",null,null,{"$f":"ROUND(SUM(E20:E26),4)","v":0},{"$f":"ROUND(E19*PFP!$H$19,2)","v":0}]
["B1","13º Salário  ",null,null,0,{"$f":"ROUND(E20*PFP!$H$19,2)","v":0}]
["B2","Auxilio Enfermidade",null,null,0,{"$f":"ROUND(E21*PFP!$H$19,2)","v":0}]
["B3","Licença Paternidade",null,null,0,{"$f":"ROUND(E22*PFP!$H$19,2)","v":0}]
["B4","Faltas Justificadas",null,null,0,{"$f":"ROUND(E23*PFP!$H$19,2)","v":0}]
["B5","Auxílio Acidente de Trabalho",null,null,0,{"$f":"ROUND(E24*PFP!$H$19,2)","v":0}]
["B6","Férias Gozadas",null,null,0,{"$f":"ROUND(E25*PFP!$H$19,2)","v":0}]
["B7","Salário Maternidade",null,null,0,{"$f":"ROUND(E26*PFP!$H$19,2)","v":0}]
["C"," ENCARGOS SOCIAIS QUE NÃO RECEBEM INCIDÊNCIA DE \"A\"",null,null,{"$f":"ROUND(SUM(E28:E32),4)","v":0},{"$f":"ROUND(E27*PFP!$H$19,2)","v":0}]
["C1","Aviso Prévio Indenizado",null,null,0,{"$f":"ROUND(E28*PFP!$H$19,2)","v":0}]
["C2","Aviso Prévio Trabalhado",null,null,0,{"$f":"ROUND(E29*PFP!$H$19,2)","v":0}]
["C3","Férias Indenizadas",null,null,0,{"$f":"ROUND(E30*PFP!$H$19,2)","v":0}]
["C4","Depósito Rescisão Sem Justa Causa",null,null,0,{"$f":"ROUND(E31*PFP!$H$19,2)","v":0}]
["C5","Indenização Adicional",null,null,0,{"$f":"ROUND(E32*PFP!$H$19,2)","v":0}]
["D"," REINCIDÊNCIAS",null,null,{"$f":"ROUND(SUM(E34:E35),4)","v":0},{"$f":"ROUND(E33*PFP!$H$19,2)","v":0}]
["D1","Reincidência de \"A\" sobre \"B\"",null,null,{"$f":"ROUND(E9*E19,4)","v":0},{"$f":"ROUND(E34*PFP!$H$19,2)","v":0}]
["D2","Reincidência de \"A\" sobre Aviso Prévio Trabalhado e reincidência do FGTS sobre Aviso Prévio Indenizado",null,null,{"$f":"ROUND(E9*E29,4)+ROUND(E28*E12,4)","v":0},{"$f":"ROUND(E35*PFP!$H$19,2)","v":0}]
["K1","ENCARGOS SOCIAIS",null,null,{"$f":"ROUND(E9+E19+E27+E33,4)","v":0.2},{"$f":"ROUND(E36*PFP!$H$19,2)","v":26317.17}]
["Kb","TAXA DE RESSARCIMENTO DE DESPESAS E ENCARGOS SOBRE MO SV",null,null,{"$f":"ROUND((1+E36+PFP3_FatorKc!E15)*(1+PFP3_FatorKc!E14)*(1+PFP3_FatorKc!E10),4)","v":1.6953}]
["NOME DO INFORMANTE:",null,null,null,"QUALIFICAÇÃO"]
[]
["ASSINATURA:",null,null,null,"DATA:"]
[]
["OBSERVAÇÃO:"]
["1 - DISCRIMINAR OS ENCARGOS SOCIAIS COM SEUS RESPECTIVOS PERCENTUAS TOTALIZANDO OS MESMOS. "]
["2 - APLICAR O % TOTAL P/ CALCULAR OS E. SOCIAIS INCIDENTES NA MÃO-DE-OBRA SEM VÍNCULO PERMANENTE"]
["Kb - Taxa de Ressarcimento de Despesas e Encargos sobre a Mão de Obra SEM VINCULO (incide apenas no Insumo Codigo M.O.)"]
["Kb = (1 + K1 + K2) x (1 + K3) x (1 + K4)"]

{"sheet":"PFP3_FatorKc","index":8,"n_rows":1048576,"n_cols":6,"rows_kept":1048576,"cut":false,"hidden":false,"merged":[[0,0,1,4],[2,0,2,5],[3,0,3,5],[4,2,4,4],[5,0,5,1],[5,2,5,4],[6,0,7,2],[6,3,6,5],[8,0,9,0],[8,1,9,2],[10,1,10,2],[11,1,11,2],[12,1,12,2],[13,1,13,3],[14,1,14,3],[15,1,15,3],[16,1,16,3],[17,1,17,3],[18,1,18,3],[23,0,23,5],[24,0,24,5],[25,0,25,5],[26,0,26,5],[27,0,27,5],[28,0,28,5],[29,0,29,5],[30,0,30,5],[31,0,31,5],[32,0,32,5],[33,0,33,5],[34,0,34,5],[35,0,35,5],[36,0,36,5],[1048575,0,1048575,5]]}
["DESPESAS FISCAIS E CUSTOS DIVERSOS: Kc",{"$nulls":4},"CODIGO:"]
[{"$nulls":5},"PFP-3"]
["NOME DA CONSULTORA:"]
[]
["PROJETO:",null,"CONTRATANTE:",null,null,{"$f":"PFP!J5","v":"BASE: Setembro/2022"}]
[{"$f":"PFP!A6","v":"Pontes em Flores de Goiás/GO"},null,{"$f":"PFP!F6","v":"Codevasf (Sede)"}]
["DISCRIMINAÇÃO 1",null,null,"VALORES"]
[null,null,null,"% preço","% custo","R$"]
["K4","DESPESAS FISCAIS",null,"K' (%)2","K (%)3"]
[null,null,null,{"$f":"ROUND(D11+D12+D13,4)","v":0.124},{"$f":"ROUND(E11+E12+E13,4)","v":0.1416}]
[1,"ISS",null,0.05,{"$f":"ROUND((1/(1-$D$10))*D11,4)","v":0.0571}]
[2,"PIS - aliquota efetiva com percentual-desconto de 20%",null,{"$f":"ROUND(1.65%*0.8,4)","v":0.0132},{"$f":"ROUND((1/(1-$D$10))*D12,4)","v":0.0151}]
[3,"COFINS - aliquota efetiva com percentual-desconto de 20%",null,{"$f":"ROUND(7.6%*0.8,4)","v":0.0608},{"$f":"ROUND((1/(1-$D$10))*D13,4)","v":0.0694}]
["K3","REMUNERAÇÃO DA EMPRESA (LUCRO)",null,null,0.1]
["K2","CUSTOS DA ADMINISTRAÇÃO CENTRAL",null,null,{"$f":"ROUND(SUM(E16:E18),4)","v":0.15}]
[4,"Custos da administração central da empresa (diretoria, pessoal técnico de apoio e pessoal administrativo não diretamente vinculado à prestação dos serviços)",null,null,0.1]
[5,"Outras despesas que afetam o custo de produção como treinamento, biblioteca, programa de qualidade, programa de benefícios, auditoria interna e externa",null,null,0.03]
[6,"Despesas fixas e variaveis com patrimônio, aluguéis, comunicação, manutenção e transporte não diretamente relacionados com o custo direto dos serviços",null,null,0.02]
["Kc","TAXA RESSARCIMENTO DE DESPESAS SOBRE CUSTOS DIVERSOS",null,null,{"$f":"ROUND((1+E14)*(1+E10),4)","v":1.2558}]
["NOME DO INFORMANTE:",null,null,null,"QUALIFICAÇÃO:"]
[]
["ASSINATURA:",null,null,null,"DATA:"]
[]
["Observação:"]
["1 - RELACIONAR OS CUSTOS DE ADMINISTRAÇÃO COM RESPECTIVOS PERCENTUAIS INCIDENTES NA MÃO -DE-OBRA"]
["1 - DISCRIMINAR OS TRIBUTOS QUE INCIDEM SOBRE OS CUSTOS DA PRESTAÇÃO DOS SERVIÇOS"]
["2 - K4 = INDICAR % DE CADA TRIBUTO E A SOMA DOS MESMOS "]
["3 - PIS e COFINS, Regime de Incidencia Acumulativa ou em Regime de Incidencia Não Acumulativa de acordo com a forma de apuração do lucro no IRPJ. APRESENTAR COMPROVANTES de aproveitamento de créditos tributários dos últimos 12 meses em caso de aplicação de \"percentual de desconto\"."]
["4 - AS DESPESAS FISCAIS (K4) INCIDEM SOBRE O TOTAL DA FATURA E NÃO SOBRE OS CUSTOS INCORRIDOS, "]
["     DEVENDO SER CALCULADO O K4' APLICANDO-SE A SEGUINTE FÓRMULA:"]
["     K4' = { [ 1 / ( 1 - K4) ] - 1 } x 100"]
[{"$f":"CONCATENATE(\"     K4' = { [ 1 / ( 1 - \",D10,\" ) ] - 1 } x 100\")","v":"     K4' = { [ 1 / ( 1 - 0,124 ) ] - 1 } x 100"}]
["Kc - Taxa de Ressarcimento de Despesas sobre Custos Diversos (incide sobre os Insumos Codigo DP e ME)"]
["Kc = (1 + K3) x (1 + K4)"]
["K2 - Incide sobre o Custo Total (CT) da Mão de Obra (MO)"]
["K3 - Incide sobre o Custo Total (CT) Mão de Obra com encargos (MO x Ka ou Kb), demais Custos (DP e EQ), e Custos da Administração Central (K2)"]
["K4 -  Incide sobre o Custo Total (CT) Mão de Obra com encargos (MO x Ka ou Kb), demais Custos (DP e EQ), e Custos da Administração Central (K2) e Lucro (K3)"]
{"$rows_empty":1048538}
["ISS- O ISS informado na proposta da licitante deve corresponder ao seu domicílio fiscal. "]

{"sheet":"CRO1_Ins-Pro","index":9,"n_rows":21,"n_cols":10,"rows_kept":21,"cut":false,"hidden":false,"merged":[[0,0,1,5],[0,6,0,9],[1,6,1,9],[14,0,15,0],[14,1,15,1],[17,0,17,8],[18,0,18,8],[19,0,19,8],[36,7,36,8]]}
["INSUMOS POR ETAPA/PRODUTO",{"$nulls":5},"CODIGO:"]
[{"$nulls":6},"CRO-1"]
["Cod.","Categoria / Insumo","Uni","Qde","CUD","PU","FatorK","1. EVTEA","2. Esc. Alt.","3. PB"]
["SICRO","Engenheiro Sênior (Coordenador) (P8061)","mês",{"$f":"SUM(H4:J4)","v":4},{"$f":"PFP!G8","v":16848.3},{"$f":"ROUND(E4*G4,2)","v":41268.23},{"$f":"PFP!I8","v":2.4494},1,1,2]
["SICRO","Engenheiro Sênior – Projetista Ponte (P8067)","mês",{"$f":"SUM(H5:J5)","v":1.5},{"$f":"PFP!G9","v":14226.86},{"$f":"ROUND(E5*G5,2)","v":34847.27},{"$f":"PFP!I9","v":2.4494},0,0,1.5]
["SICRO","Engenheiro Pleno – Hídrico/Hidrológico(P8066)","mês",{"$f":"SUM(H6:J6)","v":1},{"$f":"PFP!G10","v":10864.39},{"$f":"ROUND(E6*G6,2)","v":26611.24},{"$f":"PFP!I10","v":2.4494},0,0,1]
["SICRO","Engenheiro Pleno – Projetista Estrada (P8066)","mês",{"$f":"SUM(H7:J7)","v":0.5},{"$f":"PFP!G11","v":10864.39},{"$f":"ROUND(E7*G7,2)","v":26611.24},{"$f":"PFP!I11","v":2.4494},0,0,0.5]
["SICRO","Engenheiro Pleno – Ambiental (P8058)","mês",{"$f":"SUM(H8:J8)","v":1},{"$f":"PFP!G12","v":10998.07},{"$f":"ROUND(E8*G8,2)","v":26941.97},{"$f":"PFP!I12","v":2.4497},1,0,0]
["SICRO","Administrativo (Secretariado) (P8135)","mês",{"$f":"SUM(H9:J9)","v":4},{"$f":"PFP!G13","v":2189.27},{"$f":"ROUND(E9*G9,2)","v":5369.4},{"$f":"PFP!I13","v":2.4526},1,1,2]
["CODE","Diárias","dia",{"$f":"SUM(H10:J10)","v":21},{"$f":"PFP!G14","v":160},{"$f":"ROUND(E10*G10,2)","v":200.93},{"$f":"PFP!I14","v":1.2558},15,0,6]
["PROP","Pick-up Cab. Dupla 2.8 4x4 Diesel","dia",10,{"$f":"PFP!G15","v":196.18},{"$f":"ROUND(E11*G11,2)","v":246.36},{"$f":"PFP!I15","v":1.2558},6,4,0]
["CODE","Relatório Final","un",1,{"$f":"PFP!G16","v":1478.8},{"$f":"ROUND(E12*G12,2)","v":1857.08},{"$f":"PFP!I16","v":1.2558},0,0,1]
["CODE","Total Serviços Cartográficos","un",1,{"$f":"PFP!G17","v":"-"},{"$f":"PFP!H17","v":45780.86},"-",0,0,1]
["CODE","Total Serviços Geotécnicos","un",1,{"$f":"PFP!G18","v":"-"},{"$f":"PFP!H18","v":160564.58},"-",0,0,1]
["TOTAL","VALOR POR PRODUTO","R$",{"$f":"SUM(H15:J15)","v":520565.905},null,null,null,{"$f":"SUM(F4:F12*$H4:H$12)","v":78071.71},{"$f":"SUM(I4:I12*$F$4:$F$12)","v":47623.07},{"$f":"SUM(J4:J14*$F$4:$F$14)","v":394871.125}]
[null,null,"%",{"$f":"SUM(H16:J16)","v":0.99999},null,null,null,{"$f":"ROUND(H15/$D$15,5)","v":0.14997},{"$f":"ROUND(I15/$D$15,5)","v":0.09148},{"$f":"ROUND(J15/$D$15,5)","v":0.75854}]
["OBSERVAÇÃO:"]
["P - Profissionais nível superior nas áreas de Engenharia, Química, Arquitetura, Agronomia e Veterinária, conforme disposições da Lei 4.950-A/66"]
["S - Profissionais de nível superior nas demais áreas de atuação, incluindo Arqueólogo, Biólogo, Geógrafo e Socioólogo"]
["T - Profissionais de nível médio técnico nas diversas áreas de atuação"]
["A - Profissionais de nível médio de apoio técnico-administrativo"]

{"sheet":"CRO2_Ins-Mes","index":10,"n_rows":5,"n_cols":7,"rows_kept":5,"cut":false,"hidden":false,"merged":[[0,3,0,6],[28,3,28,6]]}
["CRONOGRAMA SIMPLIFICADO",null,null,"Mês"]
["Produtos","Uni","Qde",1,2,3,4]
["Estudo de Viabilidade Técnica, Econômica e Ambiental","mês",{"$f":"SUM(D3:G3)","v":1},1,0,0,0]
["Escolha das Alternativas","mês",{"$f":"SUM(D4:G4)","v":1},0,1,0,0]
["Estudos de Campo e Projeto Básico","mês",{"$f":"SUM(D5:G5)","v":2},0,0,1,1]