{"text_format":"2","workbook":"xlsx","n_sheets":13,"sheets":["PFP","Plan1","PFP1.1_Topo_Lajes","PFP1.2_Geo_Lajes","PFP1.1_Topo_Jatobá","PFP1.2_Geo_Jatobá","PFP2.1_FatorKa","PFP2.2_FatorKb","PFP3_FatorKc","CPU VEICULOS","CRO1_Ins-Pro","CRO2_Ins-Mes","Encargos Sociais"],"not_rendered":{"charts":0,"images":12,"macros":0,"external_links":34,"defined_names":4278,"comments":2,"pivot_tables":0},"unopened":[],"bounds":{"document_bytes":16777216,"sheet_cells":100000,"run_cost":"one","rows_first":2000,"rows_last":500,"rows_between":2000,"halvings":0,"cell_chars":16384,"cell_head_chars":4096},"cells_cut":0,"cells_raw":0,"read":"whole","date_system":"1900"}

{"sheet":"PFP","index":0,"n_rows":38,"n_cols":11,"rows_kept":38,"cut":false,"hidden":false,"merged":[[35,0,35,10],[36,0,36,10],[37,0,37,10],[30,0,30,10],[31,0,31,10],[32,0,32,10],[33,0,33,10],[34,0,34,10],[25,0,25,10],[26,0,26,10],[27,0,27,10],[28,0,28,10],[29,0,29,10],[22,0,22,8],[22,9,22,10],[23,0,23,6],[24,0,24,8],[24,9,24,10],[19,0,19,6],[19,7,19,10],[20,0,20,6],[20,7,20,10],[21,0,21,6],[21,9,21,10],[16,0,16,6],[16,7,16,10],[17,0,17,6],[17,7,17,10],[18,0,18,6],[18,7,18,10],[4,0,4,4],[4,5,4,8],[4,9,4,10],[5,0,5,4],[5,5,5,8],[5,9,5,10],[0,0,1,8],[0,9,0,10],[1,9,1,10],[2,0,2,10],[3,0,3,10]]}
["PROPOSTA FINANCEIRA DO PROJETO",{"$nulls":8},"CODIGO:"]
[{"$nulls":9},"PFP"]
["NOME DA CONSULTORA:"]
[]
["PROJETO:",{"$nulls":4},"CONTRATANTE:",null,null,null,"BASE: Outubro/2022"]
["Pavimentação em Cristalina/GO",{"$nulls":4},"Codevasf (Sede)"]
["Base","Cod1","Cod2","Categoria / Insumo","Uni","Qde","CUD","PU","FatorK","CT","PT"]
["SICRO","MO","P0","Engenheiro (Coordenador) (P8061)","mês",{"$f":"'CRO1_Ins-Pro'!D4","v":4},16889.91,{"$f":"ROUND(I8*G8,2)","v":28633.46},{"$f":"PFP2.1_FatorKa!J8","v":1.6953},{"$f":"ROUND(F8*G8,2)","v":67559.64},{"$f":"ROUND(F8*H8,2)","v":114533.84}]
["SICRO","MO","P2","Engenheiro Pleno – Projeto (P8066)","mês",{"$f":"'CRO1_Ins-Pro'!D5","v":3},10987.76,25913.53,{"$f":"PFP2.1_FatorKa!J9","v":2.3584000000000001},32963.279999999999,77740.59]
["SICRO","MO","P2","Engenheiro Pleno - Ambiental (P8058)","mês",{"$f":"'CRO1_Ins-Pro'!D6","v":1},10929.35,25775.78,{"$f":"PFP2.1_FatorKa!J10","v":2.3584000000000001},10929.35,25775.78]
["SICRO","MO","A1","Administrativo (Secretariado) (P8135)","mês",{"$f":"'CRO1_Ins-Pro'!D7","v":4},2254.1999999999998,5316.31,{"$f":"PFP2.1_FatorKa!J11","v":2.3584000000000001},9016.7999999999993,21265.24]
["PROP","DP","V1","Diárias","dia",{"$f":"'CRO1_Ins-Pro'!D8","v":21},305.10000000000002,383.14,{"$f":"PFP3_FatorKc!$E$19","v":1.2558},6407.1,8045.94]
["CODE","LO","V2","Pick-up Cab. Dupla 2.8 4x4 Diesel","dia",{"$f":"'CRO1_Ins-Pro'!D9","v":10},{"$f":"'CPU VEICULOS'!D8","v":323.08600547817747},405.73,{"$f":"PFP3_FatorKc!$E$19","v":1.2558},3230.86,4057.3]
["CODE","EM","M4","Relatório Final","un",{"$f":"'CRO1_Ins-Pro'!D10","v":1},1478.8,1857.08,{"$f":"PFP3_FatorKc!$E$19","v":1.2558},1478.8,1857.08]
["CODE","SG","TP","Total Serviços Topográficos","un",{"$f":"'CRO1_Ins-Pro'!D11","v":1},"-",{"$f":"(PFP1.1_Topo_Lajes!G16)+(PFP1.1_Topo_Jatobá!G16)","v":221087.91},"-","-",221087.91]
["CODE","SG","GT","Total Serviços Geotécnicos","un",{"$f":"'CRO1_Ins-Pro'!D12","v":1},"-",{"$f":"(PFP1.2_Geo_Lajes!G34)+(PFP1.2_Geo_Jatobá!G34)","v":437325.90000000008},"-","-",437325.9]
["TOTAL DOS CUSTOS DIRETOS",{"$nulls":6},{"$f":"SUM(J8:J16)","v":131585.83000000002}]
["TOTAL DOS ENCARGOS E DISPESAS DIVERSAS",{"$nulls":6},{"$f":"H19-H17","v":121689.93999999994}]
["TOTAL DA PROPOSTA A PREÇO GLOBAL",{"$nulls":6},{"$f":"SUM(K8:K14)","v":253275.76999999996}]
["TOTAL DA PROPOSTA A PREÇO UNITÁRIO",{"$nulls":6},{"$f":"SUM(K15:K16)","v":658413.81000000006}]
["TOTAL DA PROPOSTA",{"$nulls":6},{"$f":"H19+H20","v":911689.58000000007}]
["NOME DO INFORMANTE:",{"$nulls":8},"QUALIFICAÇÃO"]
[]
["ASSINATURA:",{"$nulls":8},"DATA:"]
[]
["OBSERVAÇÃO:"]
["Alocar os Insumos MO, com respectivo FatorK, dentro da categoria de vínculo contratual (com ou sem) de cada tipo de profissional"]
["Uni - unidade de medição do insumo;"]
["Qde - Quantidade do Insumo (não pode ocorrer alteração pela Licitante)"]
["CUD - Custo Unitário Direto do Insumo (sem encargos, taxas e impostos, valor não pode ser maior que o Orçado pela Codevasf)"]
["CT - Custo Total (sem encargos, taxas e impostos) - CT = Qde x CUD"]
["FatorK - Taxa de Ressarcimento de Despesas e Encargos (detalhar composição nas Planilhas \"PFP2.1\", \"PFP2.2\", \"PFP3\")"]
["PU - Preço Unitário do Insumo (incluído encargos, taxas e impostos) - PU = CUD x FatorK"]
["PT - Preço Total do Insumo (incluído encargos, taxas e impostos) - PT = Qde x PU"]
["P - Profissionais nível superior nas áreas de Engenharia, Química, Arquitetura, Agronomia e Veterinária, conforme disposições da Lei 4.950-A/66"]
["S - Profissionais de nível superior nas demais áreas de atuação, incluindo Arqueólogo, Biólogo, Geógrafo e Socioólogo"]
["T - Profissionais de nível médio técnico nas diversas áreas de atuação"]
["A - Profissionais de nível médio de apoio técnico-administrativo"]

{"sheet":"Plan1","index":1,"n_rows":0,"n_cols":0,"rows_kept":0,"cut":false,"hidden":true,"merged":[]}

{"sheet":"PFP1.1_Topo_Lajes","index":2,"n_rows":25,"n_cols":7,"rows_kept":25,"cut":false,"hidden":false,"merged":[[23,0,23,6],[24,0,24,6],[18,0,18,4],[19,0,19,4],[20,0,20,6],[21,0,21,6],[22,0,22,6],[5,0,5,3],[5,4,5,5],[15,0,15,5],[16,0,16,4],[17,0,17,4],[0,0,1,5],[2,0,2,6],[3,0,3,6],[4,0,4,3],[4,4,4,5]]}
["SERVIÇOS TOPOGRÁFICOS",{"$nulls":5},"CODIGO:"]
[{"$nulls":6},"PFP-1.1"]
["NOME DA EMPRESA:"]
[]
["PROJETO:",null,null,null,"CONTRATANTE:",null,{"$f":"PFP!J5","v":"BASE: Outubro/2022"}]
["Estrada das Lajes/GO",null,null,null,{"$f":"PFP!F6","v":"Codevasf (Sede)"}]
["Cod.","Base","Insumos","Uni","Qde","Preço Unitário (PU)","Preço Total (PT)"]
["TP2","CODE","Poligonal classe IIP","km",{"$f":"E9","v":10.9},1984.3,{"$f":"ROUND(F8*E8,2)","v":21628.87}]
["TP7","CODE","Nivelamento Geométrico classe IN","km",{"$f":"7.9+3","v":10.9},1304.8499999999999,14222.87]
["TP8","CODE","Seções Transversais (Nivelamento IIN)","km",{"$f":"((E9*1000)/20)*0.04","v":21.8},788.72,17194.099999999999]
["TP19","CODE","Pontos GPS de dupla frequencia (L1/L2)","un ",6,981.07,5886.42]
["TP27","CODE","Marco de Concreto (12x18x60cm)","un ",{"$f":"E11","v":6},53.89,323.33999999999997]
["TP28","CODE","Barrote de Madeira (10x10x50cm","un ",{"$f":"E14*0.5","v":272.5},28.7,7820.75]
["TP29","CODE","Piquete de Madeira (2x2x20cm)","un ",{"$f":"(E9*1000)/20","v":545},2.41,1313.45]
["PD6","CODE","Picada Manual","km",{"$f":"E10","v":21.8},194.88,4248.38]
["TOTAL SERVIÇOS TOPOGRÁFICOS",{"$nulls":5},{"$f":"SUM(G8:G15)","v":72638.179999999993}]
["NOME DO INFORMANTE:",{"$nulls":4},"QUALIFICAÇÃO:"]
[]
["ASSINATURA:",{"$nulls":4},"DATA:"]
[]
["OBSERVAÇÃO:"]
["Uni - unidade de medição do insumo;"]
["Qde - Quantidade do Insumo (não pode ocorrer alteração pela Licitante)"]
["PU - Preço Unitário (composições padrão da Codevasf, já incluso o FatorK)"]
["PT - Preço Total (incluído encargos, taxas e impostos) - PT = Qde x PU"]

{"sheet":"PFP1.2_Geo_Lajes","index":3,"n_rows":43,"n_cols":7,"rows_kept":43,"cut":false,"hidden":false,"merged":[[41,0,41,6],[42,0,42,6],[36,0,36,4],[37,0,37,4],[38,0,38,6],[39,0,39,6],[40,0,40,6],[5,0,5,3],[5,4,5,5],[33,0,33,5],[34,0,34,4],[35,0,35,4],[0,0,1,5],[2,0,2,6],[3,0,3,6],[4,0,4,3],[4,4,4,5]]}
["SERVIÇOS GEOLÓGICOS/GEOTÉCNICOS",{"$nulls":5},"CODIGO:"]
[{"$nulls":6},"PFP-1.2"]
["NOME DA EMPRESA:"]
[]
["PROJETO:",null,null,null,"CONTRATANTE:",null,{"$f":"PFP!J5","v":"BASE: Outubro/2022"}]
[{"$f":"PFP1.1_Topo_Lajes!A6","v":"Estrada das Lajes/GO"},null,null,null,{"$f":"PFP!F6","v":"Codevasf (Sede)"}]
["Cod.","Base","Insumos","Uni","Qde","Preço Unitário (PU)","Preço Total (PT)"]
["GT1.2","CODE","Sondagem Rotativa: (Des)Mobilização","un",1,4110.46,{"$f":"ROUND(F8*E8,2)","v":4110.46}]
["GT1.3.1","CODE","Sondagem Rotativa: Ø N em rochas","m",20,712.73,14254.6]
["GT2.1","CODE","Sondagem Percussão: (Des)Mobilização","un",1,878.94,878.94]
["GT2.2","CODE","Sondagem Percussão: com SPT","m",{"$f":"(16*1.5)+(4*1.5)","v":30},77.08,2312.4]
["GT5","CODE","Poços de Inspeção","m",24,190.68,4576.32]
["GT6.1.1","CODE","Ensaio: Umidade Natural ","un",{"$f":"16+4","v":20},84.49,1689.8]
["GT6.1.2","CODE","Ensaio: Densidade Natural","un",{"$f":"16+4","v":20},84.49,1689.8]
["GT6.1.3","CODE","Ensaio: Limite de Liquidez","un",20,117,2340]
["GT6.1.4","CODE","Ensaio: Limite de Plasticidade","un",20,117,2340]
["G6.1.5","CODE","Ensaio: Granulometria por Peneiramento","un",20,123.34,2466.8000000000002]
["GT6.1.6","CODE","Ensaio: Granulometria por Sedimentação","un",20,382.79,7655.8]
["GT6.1.7","CODE","Ensaio: Compactação Proctor Normal","un",20,160.41,3208.2]
["GT6.1.8","CODE","Ensaio: Massa Especifica Real dos Grãos","un",20,104.27,2085.4]
["GT6.1.9","CODE","Ensaio: Adensamento Oedométrico","un",20,283.57,5671.4]
["GT6.1.10","CODE","Ensaio: Triaxial UU ñ consolidado ñ drenado","un",20,822.95,16459]
["GT6.1.11","CODE","Ensaio: Triaxial CU consolidado ñ drenado","un",20,1129.48,22589.599999999999]
["GT6.1.12.1","CODE","Ensaio: Expansão colapsividade em anéis de adensamento","un",20,380.8,7616]
["GT6.1.12.2","CODE","Ensaio: Expansão amostra indeformada com pressão de expansão","un",20,300.93,6018.6]
["GT6.1.14","CODE","Ensaio: Infiltração","un",4,228.5,914]
["GT6.1.16.1","CODE","Ensaio: Análise Quimica da Areia","un",4,459.82,1839.28]
["GT6.1.16.2","CODE","Ensaio: Mineralogia da Areia","un",4,529.20000000000005,2116.8000000000002]
["GT6.1.17","CODE","Ensaio: Análise Petrográfica/Mineralogia","un",4,529.20000000000005,2116.8000000000002]
["GT6.1.18","CODE","Ensaio: Abrasão “LOS ANGELES”","un",4,414.19,1656.76]
["GT6.1.19","CODE","Ensaio: Reatividade Potencial","un",4,1382.66,5530.64]
["GT6.1.21","CODE","Ensaio: Retirada de Amostra Indeformada","un",8,691.33,5530.64]
["AD 04.05.0450","SCO","Ensaio para determinação do ISC - 3 pontos - com energia Proctor Normal","un",{"$f":"16+4","v":20},1242.24,24844.799999999999]
["TOTAL SERVIÇOS GEOTÉCNICOS",{"$nulls":5},{"$f":"SUM(G8:G33)","v":152512.84000000003}]
["NOME DO INFORMANTE:",{"$nulls":4},"QUALIFICAÇÃO:"]
[]
["ASSINATURA:",{"$nulls":4},"DATA:"]
[]
["LEGENDA:"]
["Uni - unidade de medição do insumo;"]
["Qde - Quantidade do Insumo (não pode ocorrer alteração pela Licitante)"]
["PU - Preço Unitário (composições padrão da Codevasf, já incluso o FatorK)"]
["PT - Preço Total (incluído encargos, taxas e impostos) - PT = Qde x PU"]

{"sheet":"PFP1.1_Topo_Jatobá","index":4,"n_rows":25,"n_cols":7,"rows_kept":25,"cut":false,"hidden":false,"merged":[[23,0,23,6],[24,0,24,6],[18,0,18,4],[19,0,19,4],[20,0,20,6],[21,0,21,6],[22,0,22,6],[5,0,5,3],[5,4,5,5],[15,0,15,5],[16,0,16,4],[17,0,17,4],[0,0,1,5],[2,0,2,6],[3,0,3,6],[4,0,4,3],[4,4,4,5]]}
["SERVIÇOS TOPOGRÁFICOS/CARTOGRÁFICOS",{"$nulls":5},"CODIGO:"]
[{"$nulls":6},"PFP-1.1"]
["NOME DA EMPRESA:"]
[]
["PROJETO:",null,null,null,"CONTRATANTE:",null,{"$f":"PFP!J5","v":"BASE: Outubro/2022"}]
["Estrada do Jatobá/GO",null,null,null,{"$f":"PFP!F6","v":"Codevasf (Sede)"}]
["Cod.","Base","Insumos","Uni","Qde","Preço Unitário (PU)","Preço Total (PT)"]
[{"$f":"PFP1.1_Topo_Lajes!A8","v":"TP2"},"CODE","Poligonal classe IIP","km",{"$f":"E9","v":23},1984.3,{"$f":"ROUND(F8*E8,2)","v":45638.9}]
[{"$f":"PFP1.1_Topo_Lajes!A9","v":"TP7"},"CODE","Nivelamento Geométrico classe IN","km",{"$f":"16.5+6.5","v":23},1304.8499999999999,30011.55]
[{"$f":"PFP1.1_Topo_Lajes!A10","v":"TP8"},"CODE","Seções Transversais (Nivelamento IIN)","km",{"$f":"((E9*1000)/20)*0.04","v":46},788.72,36281.120000000003]
[{"$f":"PFP1.1_Topo_Lajes!A11","v":"TP19"},"CODE","Pontos GPS de dupla frequencia (L1/L2)","un ",8,981.07,7848.56]
[{"$f":"PFP1.1_Topo_Lajes!A12","v":"TP27"},"CODE","Marco de Concreto (12x18x60cm)","un ",{"$f":"E11","v":8},53.89,431.12]
[{"$f":"PFP1.1_Topo_Lajes!A13","v":"TP28"},"CODE","Barrote de Madeira (10x10x50cm","un ",{"$f":"E14*0.5","v":575},28.7,16502.5]
[{"$f":"PFP1.1_Topo_Lajes!A14","v":"TP29"},"CODE","Piquete de Madeira (2x2x20cm)","un ",{"$f":"(E9*1000)/20","v":1150},2.41,2771.5]
[{"$f":"PFP1.1_Topo_Lajes!A15","v":"PD6"},"CODE","Picada Manual","km",{"$f":"E10","v":46},194.88,8964.48]
["TOTAL SERVIÇOS TOPOGRÁFICOS",{"$nulls":5},{"$f":"SUM(G8:G15)","v":148449.73000000001}]
["NOME DO INFORMANTE:",{"$nulls":4},"QUALIFICAÇÃO:"]
[]
["ASSINATURA:",{"$nulls":4},"DATA:"]
[]
["OBSERVAÇÃO:"]
["Uni - unidade de medição do insumo;"]
["Qde - Quantidade do Insumo (não pode ocorrer alteração pela Licitante)"]
["PU - Preço Unitário (composições padrão da Codevasf, já incluso o FatorK)"]
["PT - Preço Total (incluído encargos, taxas e impostos) - PT = Qde x PU"]

{"sheet":"PFP1.2_Geo_Jatobá","index":5,"n_rows":43,"n_cols":7,"rows_kept":43,"cut":false,"hidden":false,"merged":[[41,0,41,6],[42,0,42,6],[36,0,36,4],[37,0,37,4],[38,0,38,6],[39,0,39,6],[40,0,40,6],[5,0,5,3],[5,4,5,5],[33,0,33,5],[34,0,34,4],[35,0,35,4],[0,0,1,5],[2,0,2,6],[3,0,3,6],[4,0,4,3],[4,4,4,5]]}
["SERVIÇOS GEOLÓGICOS/GEOTÉCNICOS",{"$nulls":5},"CODIGO:"]
[{"$nulls":6},"PFP-1.2"]
["NOME DA EMPRESA:"]
[]
["PROJETO:",null,null,null,"CONTRATANTE:",null,{"$f":"PFP!J5","v":"BASE: Outubro/2022"}]
[{"$f":"PFP1.1_Topo_Jatobá!A6","v":"Estrada do Jatobá/GO"},null,null,null,{"$f":"PFP!F6","v":"Codevasf (Sede)"}]
["Cod.","Base","Insumos","Uni","Qde","Preço Unitário (PU)","Preço Total (PT)"]
["GT1.2","CODE","Sondagem Rotativa: (Des)Mobilização","un",0,4110.46,{"$f":"ROUND(F8*E8,2)","v":0}]
["GT1.3.1","CODE","Sondagem Rotativa: Ø N em rochas","m",40,712.73,28509.200000000001]
["GT2.1","CODE","Sondagem Percussão: (Des)Mobilização","un",0,878.94,0]
["GT2.2","CODE","Sondagem Percursão: com SPT","m",{"$f":"ROUNDUP(((33*1.5)+(6*1.5)),-1)","v":60},77.08,4624.8]
["GT5","CODE","Poços de Inspeção","m",{"$f":"40+6","v":46},190.68,8771.2800000000007]
["GT6.1.1","CODE","Ensaio: Umidade Natural ","un",{"$f":"ROUNDUP(33+6,-1)","v":40},84.49,3379.6]
["GT6.1.2","CODE","Ensaio: Densidade Natural","un",{"$f":"ROUNDUP(33+6,-1)","v":40},84.49,3379.6]
["GT6.1.3","CODE","Ensaio: Limite de Liquidez","un",40,117,4680]
["GT6.1.4","CODE","Ensaio: Limite de Plasticidade","un",40,117,4680]
["G6.1.5","CODE","Ensaio: Granulometria por Peneiramento","un",40,123.34,4933.6000000000004]
["GT6.1.6","CODE","Ensaio: Granulometria por Sedimentação","un",40,382.79,15311.6]
["GT6.1.7","CODE","Ensaio: Compactação Proctor Normal","un",40,160.41,6416.4]
["GT6.1.8","CODE","Ensaio: Massa Especifica Real dos Grãos","un",40,104.27,4170.8]
["GT6.1.9","CODE","Ensaio: Adensamento Oedométrico","un",40,283.57,11342.8]
["GT6.1.10","CODE","Ensaio: Triaxial UU ñ consolidado ñ drenado","un",40,822.95,32918]
["GT6.1.11","CODE","Ensaio: Triaxial CU consolidado ñ drenado","un",40,1129.48,45179.199999999997]
["GT6.1.12.1","CODE","Ensaio: Expansão colapsividade em anéis de adensamento","un",40,380.8,15232]
["GT6.1.12.2","CODE","Ensaio: Expansão amostra indeformada com pressão de expansão","un",40,300.93,12037.2]
["GT6.1.14","CODE","Ensaio: Infiltração","un",6,228.5,1371]
["GT6.1.16.1","CODE","Ensaio: Análise Quimica da Areia","un",6,459.82,2758.92]
["GT6.1.16.2","CODE","Ensaio: Mineralogia da Areia","un",6,529.20000000000005,3175.2]
["GT6.1.17","CODE","Ensaio: Análise Petrográfica/Mineralogia","un",6,529.20000000000005,3175.2]
["GT6.1.18","CODE","Ensaio: Abrasão “LOS ANGELES”","un",6,414.19,2485.14]
["GT6.1.19","CODE","Ensaio: Reatividade Potencial","un",6,1382.66,8295.9599999999991]
["GT6.1.21","CODE","Ensaio: Retirada de Amostra Indeformada","un",12,691.33,8295.9599999999991]
["AD 04.05.0450","SCO","Ensaio para determinação do ISC - 3 pontos - com energia Proctor Normal","un",40,1242.24,49689.599999999999]
["TOTAL SERVIÇOS GEOTÉCNICOS",{"$nulls":5},{"$f":"SUM(G8:G33)","v":284813.06000000006}]
["NOME DO INFORMANTE:",{"$nulls":4},"QUALIFICAÇÃO:"]
[]
["ASSINATURA:",{"$nulls":4},"DATA:"]
[]
["LEGENDA:"]
["Uni - unidade de medição do insumo;"]
["Qde - Quantidade do Insumo (não pode ocorrer alteração pela Licitante)"]
["PU - Preço Unitário (composições padrão da Codevasf, já incluso o FatorK)"]
["PT - Preço Total (incluído encargos, taxas e impostos) - PT = Qde x PU"]

{"sheet":"PFP2.1_FatorKa","index":6,"n_rows":25,"n_cols":10,"rows_kept":25,"cut":false,"hidden":false,"merged":[[22,0,22,10],[23,0,23,10],[24,0,24,10],[16,0,16,10],[17,0,17,10],[18,0,19,10],[20,0,20,10],[21,0,21,10],[13,0,13,8],[13,9,13,10],[14,0,14,6],[15,0,15,8],[15,9,15,10],[9,9,9,10],[10,9,10,10],[11,0,11,10],[12,0,12,6],[12,9,12,10],[6,9,6,10],[7,9,7,10],[8,9,8,10],[4,0,4,4],[4,5,4,8],[4,9,4,10],[5,0,5,4],[5,5,5,8],[5,9,5,10],[0,0,1,8],[0,9,0,10],[1,9,1,10],[2,0,2,10],[3,0,3,10]]}
["DETALHAMENTO DOS ENCARGOS SOCIAIS: Ka",{"$nulls":8},"CODIGO:"]
[{"$nulls":9},"PFP-2.1"]
["NOME DA CONSULTORA:"]
[]
["PROJETO:",{"$nulls":4},"CONTRATANTE:",null,null,null,"BASE: Outubro/2022"]
[{"$f":"PFP!A6","v":"Pavimentação em Cristalina/GO"},{"$nulls":4},"Codevasf (Sede)"]
["Base","Cod Sicro","Cod1","Cod2","Categoria / Insumo","K1","K2","K3","K4","Ka"]
["SICRO","P8061","MO","P0","Engenheiro  (Coordenador) (P8061)",0.2,{"$f":"PFP3_FatorKc!$E$15","v":0.15},{"$f":"PFP3_FatorKc!$E$10","v":0.1416},{"$f":"PFP3_FatorKc!$E$14","v":0.1},{"$f":"ROUND((1+F8+G8)*(1+H8)*(1+I8),4)","v":1.6953}]
["SICRO","P8066","MO","P1","Engenheiro Pleno – Projeto (P8066)",0.72809999999999997,{"$f":"PFP3_FatorKc!$E$15","v":0.15},{"$f":"PFP3_FatorKc!$E$10","v":0.1416},{"$f":"PFP3_FatorKc!$E$14","v":0.1},{"$f":"ROUND((1+F9+G9)*(1+H9)*(1+I9),4)","v":2.3584000000000001}]
["SICRO","P8058","MO","P2","Engenheiro Pleno - Ambiental (P8058)",0.72809999999999997,{"$f":"PFP3_FatorKc!$E$15","v":0.15},{"$f":"PFP3_FatorKc!$E$10","v":0.1416},{"$f":"PFP3_FatorKc!$E$14","v":0.1},{"$f":"ROUND((1+F10+G10)*(1+H10)*(1+I10),4)","v":2.3584000000000001}]
["SICRO","P8135","MO","A1","Administrativo (Secretariado) (P8135)",0.72809999999999997,{"$f":"PFP3_FatorKc!$E$15","v":0.15},{"$f":"PFP3_FatorKc!$E$10","v":0.1416},{"$f":"PFP3_FatorKc!$E$14","v":0.1},{"$f":"ROUND((1+F11+G11)*(1+H11)*(1+I11),4)","v":2.3584000000000001}]
[]
["NOME DO INFORMANTE:",{"$nulls":8},"QUALIFICAÇÃO"]
[]
["ASSINATURA:",{"$nulls":8},"DATA:"]
[]
["OBSERVAÇÃO:"]
["Alocar os Insumos MO, com respectivo FatorK, dentro da categoria de vínculo contratual (com ou sem) de cada tipo de profissional"]
["K1 - Encargos Sociais - Valores obtidos do Relatório de Consolidação dos Custos de Mão de obra do SICRO (Tabela 1 - Consolidação dos custos de mão de obra - Tabela de Preços de Consultoria - mês de referência: abril de 2022)"]
[]
["K2 - Custos da Administração Central"]
["K3 - Despesas Fiscais"]
["K4 - Remuneração da empresa (LUCRO)"]
["Ka - Taxa de Ressarcimento de Despesas e Encargos sobre a Mão de Obra COM VINCULO (incide apenas no Insumo Codigo M.O.)"]
["Ka = (1 + K1 + K2) x (1 + K3) x (1 + K4)"]

{"sheet":"PFP2.2_FatorKb","index":7,"n_rows":46,"n_cols":6,"rows_kept":46,"cut":false,"hidden":false,"merged":[[42,0,42,5],[43,0,43,5],[44,0,44,5],[45,0,45,5],[35,1,35,3],[36,1,36,3],[37,4,37,5],[38,4,38,5],[40,0,40,3],[30,1,30,3],[31,1,31,3],[32,1,32,3],[33,1,33,3],[34,1,34,3],[25,1,25,3],[26,1,26,3],[27,1,27,3],[28,1,28,3],[29,1,29,3],[20,1,20,3],[21,1,21,3],[22,1,22,3],[23,1,23,3],[24,1,24,3],[6,0,7,3],[6,4,6,5],[8,1,8,3],[18,1,18,3],[19,1,19,3],[0,0,1,4],[2,0,2,5],[3,0,3,5],[4,2,4,4],[5,0,5,1],[5,2,5,4]]}
["DETALHAMENTO DOS ENCARGOS SOCIAIS: Kb",{"$nulls":4},"CODIGO:"]
[{"$nulls":5},"PFP-2.2"]
["NOME DA CONSULTORA:"]
[]
["PROJETO:",null,"CONTRATANTE:",null,null,{"$f":"PFP2.1_FatorKa!J5","v":"BASE: Outubro/2022"}]
[{"$f":"PFP!A6","v":"Pavimentação em Cristalina/GO"},null,{"$f":"PFP!F6","v":"Codevasf (Sede)"}]
["DISCRIMINAÇÃO",null,null,null,"VALORES"]
[{"$nulls":4},"%","R$"]
["A","ENCARGOS SOCIAIS BÁSICOS",null,null,{"$f":"ROUND(SUM(E10:E18),4)","v":0.2},{"$f":"ROUND(E9*PFP!$H$17,2)","v":26317.17}]
["A1","Seconci",null,null,0,{"$f":"ROUND(E10*PFP!$H$17,2)","v":0}]
["A2","INSS",null,null,0.2,{"$f":"ROUND(E11*PFP!$H$17,2)","v":26317.17}]
["A3","FGTS",null,null,0,{"$f":"ROUND(E12*PFP!$H$17,2)","v":0}]
["A4","Incra",null,null,0,{"$f":"ROUND(E13*PFP!$H$17,2)","v":0}]
["A5","Salário Educação ",null,null,0,{"$f":"ROUND(E14*PFP!$H$17,2)","v":0}]
["A6","Sebrae",null,null,0,{"$f":"ROUND(E15*PFP!$H$17,2)","v":0}]
["A7","Seguro contra acidente",null,null,0,{"$f":"ROUND(E16*PFP!$H$17,2)","v":0}]
["A8","Senai",null,null,0,{"$f":"ROUND(E17*PFP!$H$17,2)","v":0}]
["A9","Sesi",null,null,0,{"$f":"ROUND(E18*PFP!$H$17,2)","v":0}]
["B"," ENCARGOS SOCIAIS QUE RECEBEM INCIDÊNCIA DE \"A\"",null,null,{"$f":"ROUND(SUM(E20:E26),4)","v":0},{"$f":"ROUND(E19*PFP!$H$17,2)","v":0}]
["B1","13º Salário  ",null,null,0,{"$f":"ROUND(E20*PFP!$H$17,2)","v":0}]
["B2","Auxilio Enfermidade",null,null,0,{"$f":"ROUND(E21*PFP!$H$17,2)","v":0}]
["B3","Licença Paternidade",null,null,0,{"$f":"ROUND(E22*PFP!$H$17,2)","v":0}]
["B4","Faltas Justificadas",null,null,0,{"$f":"ROUND(E23*PFP!$H$17,2)","v":0}]
["B5","Auxílio Acidente de Trabalho",null,null,0,{"$f":"ROUND(E24*PFP!$H$17,2)","v":0}]
["B6","Férias Gozadas",null,null,0,{"$f":"ROUND(E25*PFP!$H$17,2)","v":0}]
["B7","Salário Maternidade",null,null,0,{"$f":"ROUND(E26*PFP!$H$17,2)","v":0}]
["C"," ENCARGOS SOCIAIS QUE NÃO RECEBEM INCIDÊNCIA DE \"A\"",null,null,{"$f":"ROUND(SUM(E28:E32),4)","v":0},{"$f":"ROUND(E27*PFP!$H$17,2)","v":0}]
["C1","Aviso Prévio Indenizado",null,null,0,{"$f":"ROUND(E28*PFP!$H$17,2)","v":0}]
["C2","Aviso Prévio Trabalhado",null,null,0,{"$f":"ROUND(E29*PFP!$H$17,2)","v":0}]
["C3","Férias Indenizadas",null,null,0,{"$f":"ROUND(E30*PFP!$H$17,2)","v":0}]
["C4","Depósito Rescisão Sem Justa Causa",null,null,0,{"$f":"ROUND(E31*PFP!$H$17,2)","v":0}]
["C5","Indenização Adicional",null,null,0,{"$f":"ROUND(E32*PFP!$H$17,2)","v":0}]
["D"," REINCIDÊNCIAS",null,null,{"$f":"ROUND(SUM(E34:E35),4)","v":0},{"$f":"ROUND(E33*PFP!$H$17,2)","v":0}]
["D1","Reincidência de \"A\" sobre \"B\"",null,null,{"$f":"ROUND(E9*E19,4)","v":0},{"$f":"ROUND(E34*PFP!$H$17,2)","v":0}]
["D2","Reincidência de \"A\" sobre Aviso Prévio Trabalhado e reincidência do FGTS sobre Aviso Prévio Indenizado",null,null,{"$f":"ROUND(E9*E29,4)+ROUND(E28*E12,4)","v":0},{"$f":"ROUND(E35*PFP!$H$17,2)","v":0}]
["K1","ENCARGOS SOCIAIS",null,null,{"$f":"ROUND(E9+E19+E27+E33,4)","v":0.2},{"$f":"ROUND(E36*PFP!$H$17,2)","v":26317.17}]
["Kb","TAXA DE RESSARCIMENTO DE DESPESAS E ENCARGOS SOBRE MO SV",null,null,{"$f":"ROUND((1+E36+PFP3_FatorKc!E15)*(1+PFP3_FatorKc!E14)*(1+PFP3_FatorKc!E10),4)","v":1.6953}]
["NOME DO INFORMANTE:",null,null,null,"QUALIFICAÇÃO"]
[]
["ASSINATURA:",null,null,null,"DATA:"]
[]
["OBSERVAÇÃO:"]
["1 - DISCRIMINAR OS ENCARGOS SOCIAIS COM SEUS RESPECTIVOS PERCENTUAS TOTALIZANDO OS MESMOS. "]
["2 - APLICAR O % TOTAL P/ CALCULAR OS E. SOCIAIS INCIDENTES NA MÃO-DE-OBRA SEM VÍNCULO PERMANENTE"]
["Kb - Taxa de Ressarcimento de Despesas e Encargos sobre a Mão de Obra SEM VINCULO (incide apenas no Insumo Codigo M.O.)"]
["Kb = (1 + K1 + K2) x (1 + K3) x (1 + K4)"]

{"sheet":"PFP3_FatorKc","index":8,"n_rows":1048576,"n_cols":6,"rows_kept":1048576,"cut":false,"hidden":false,"merged":[[35,0,35,5],[36,0,36,5],[1048575,0,1048575,5],[30,0,30,5],[31,0,31,5],[32,0,32,5],[33,0,33,5],[34,0,34,5],[25,0,25,5],[26,0,26,5],[27,0,27,5],[28,0,28,5],[29,0,29,5],[16,1,16,3],[17,1,17,3],[18,1,18,3],[23,0,23,5],[24,0,24,5],[11,1,11,2],[12,1,12,2],[13,1,13,3],[14,1,14,3],[15,1,15,3],[6,0,7,2],[6,3,6,5],[8,0,9,0],[8,1,9,2],[10,1,10,2],[0,0,1,4],[2,0,2,5],[3,0,3,5],[4,2,4,4],[5,0,5,1],[5,2,5,4]]}
["DESPESAS FISCAIS E CUSTOS DIVERSOS: Kc",{"$nulls":4},"CODIGO:"]
[{"$nulls":5},"PFP-3"]
["NOME DA CONSULTORA:"]
[]
["PROJETO:",null,"CONTRATANTE:",null,null,{"$f":"PFP!J5","v":"BASE: Outubro/2022"}]
[{"$f":"PFP!A6","v":"Pavimentação em Cristalina/GO"},null,{"$f":"PFP!F6","v":"Codevasf (Sede)"}]
["DISCRIMINAÇÃO 1",null,null,"VALORES"]
[null,null,null,"% preço","% custo","R$"]
["K4","DESPESAS FISCAIS",null,"K' (%)2","K (%)3"]
[null,null,null,{"$f":"ROUND(D11+D12+D13,4)","v":0.124},{"$f":"ROUND(E11+E12+E13,4)","v":0.1416}]
[1,"ISS",null,0.05,{"$f":"ROUND((1/(1-$D$10))*D11,4)","v":5.7099999999999998E-2}]
[2,"PIS - aliquota efetiva com percentual-desconto de 20%",null,{"$f":"ROUND(1.65%*0.8,4)","v":1.32E-2},{"$f":"ROUND((1/(1-$D$10))*D12,4)","v":1.5100000000000001E-2}]
[3,"COFINS - aliquota efetiva com percentual-desconto de 20%",null,{"$f":"ROUND(7.6%*0.8,4)","v":6.08E-2},{"$f":"ROUND((1/(1-$D$10))*D13,4)","v":6.9400000000000003E-2}]
["K3","REMUNERAÇÃO DA EMPRESA (LUCRO)",null,null,0.1]
["K2","CUSTOS DA ADMINISTRAÇÃO CENTRAL",null,null,{"$f":"ROUND(SUM(E16:E18),4)","v":0.15}]
[4,"Custos da administração central da empresa (diretoria, pessoal técnico de apoio e pessoal administrativo não diretamente vinculado à prestação dos serviços)",null,null,0.1]
[5,"Outras despesas que afetam o custo de produção como treinamento, biblioteca, programa de qualidade, programa de benefícios, auditoria interna e externa",null,null,0.03]
[6,"Despesas fixas e variaveis com patrimônio, aluguéis, comunicação, manutenção e transporte não diretamente relacionados com o custo direto dos serviços",null,null,0.02]
["Kc","TAXA RESSARCIMENTO DE DESPESAS SOBRE CUSTOS DIVERSOS",null,null,{"$f":"ROUND((1+E14)*(1+E10),4)","v":1.2558}]
["NOME DO INFORMANTE:",null,null,null,"QUALIFICAÇÃO:"]
[]
["ASSINATURA:",null,null,null,"DATA:"]
[]
["Observação:"]
["1 - RELACIONAR OS CUSTOS DE ADMINISTRAÇÃO COM RESPECTIVOS PERCENTUAIS INCIDENTES NA MÃO -DE-OBRA"]
["1 - DISCRIMINAR OS TRIBUTOS QUE INCIDEM SOBRE OS CUSTOS DA PRESTAÇÃO DOS SERVIÇOS"]
["2 - K4 = INDICAR % DE CADA TRIBUTO E A SOMA DOS MESMOS "]
["3 - PIS e COFINS, Regime de Incidencia Acumulativa ou em Regime de Incidencia Não Acumulativa de acordo com a forma de apuração do lucro no IRPJ. APRESENTAR COMPROVANTES de aproveitamento de créditos tributários dos últimos 12 meses em caso de aplicação de \"percentual de desconto\"."]
["4 - AS DESPESAS FISCAIS (K4) INCIDEM SOBRE O TOTAL DA FATURA E NÃO SOBRE OS CUSTOS INCORRIDOS, "]
["     DEVENDO SER CALCULADO O K4' APLICANDO-SE A SEGUINTE FÓRMULA:"]
["     K4' = { [ 1 / ( 1 - K4) ] - 1 } x 100"]
[{"$f":"CONCATENATE(\"     K4' = { [ 1 / ( 1 - \",D10,\" ) ] - 1 } x 100\")","v":"     K4' = { [ 1 / ( 1 - 0,124 ) ] - 1 } x 100"}]
["Kc - Taxa de Ressarcimento de Despesas sobre Custos Diversos (incide sobre os Insumos Codigo DP e ME)"]
["Kc = (1 + K3) x (1 + K4)"]
["K2 - Incide sobre o Custo Total (CT) da Mão de Obra (MO)"]
["K3 - Incide sobre o Custo Total (CT) Mão de Obra com encargos (MO x Ka ou Kb), demais Custos (DP e EQ), e Custos da Administração Central (K2)"]
["K4 -  Incide sobre o Custo Total (CT) Mão de Obra com encargos (MO x Ka ou Kb), demais Custos (DP e EQ), e Custos da Administração Central (K2) e Lucro (K3)"]
{"$rows_empty":1048538}
["ISS- O ISS informado na proposta da licitante deve corresponder ao seu domicílio fiscal. "]

{"sheet":"CPU VEICULOS","index":9,"n_rows":58,"n_cols":28,"rows_kept":58,"cut":false,"hidden":false,"merged":[[47,9,47,19],[47,20,47,27],[1,0,1,3],[2,0,2,3],[3,0,3,3],[3,5,3,8],[4,0,4,2],[5,0,5,3]]}
[]
["Composição de Preços de Locação de Veículos"]
["\nCONTRATAÇÃO DE EMPRESA PARA PRESTAÇÃO DE SERVIÇOS DE LOCAÇÃO DE VEÍCULOS TIPO CAMINHONETE PICK-UP 4X4, PARA USO NA EXECUÇÃO, ACOMPANHAMENTO E FISCALIZAÇÃO DE PROJETOS, SERVIÇOS, OBRAS E CONTRATOS, SOB GESTÃO DO CENTRO DE CONTROLE E OPERAÇÃO DO PISF – AD/GOI/CCO, EM SALGUEIRO-PE.\n"]
["CODEVASF ",{"$nulls":4},"Preço FIPE - setembro/2022",{"$nulls":4},"PRODUTO","MÉDIA ","COT. 1","COT. 2","COT. 3","COT. 4","COT. 5","COT. 6","COT. 7","COT. 8",null,"PRODUTO","MÉDIA ","COT. 1","COT. 2","COT. 3","COT. 4","COT. 5"]
["                                                                                       BDI=",null,null,0,null,"Toro Endurance 2.0 16V 4x4 Diesel Aut.","Toro Freedom 2.0 16V 4x4 TB Diesel Aut.","Toro Volcano 2.0 16V 4x4 TB Diesel Aut."," Toro Ranch 2.0 16V 4x4 TB Diesel Aut.\n",null,"LUBRIFICANTE 5W30",{"$f":"AVERAGE(M5:T5)","v":40.492499999999993},29.9,52,30.94,40.17,62.97,25,54.06,28.9,null,"Pneu 225/65 R17",{"$f":"AVERAGE(X5:AE5)","v":575.26800000000003},459.44,679,679,519.9,539]
["Veículo tipo pick-up, cabine dupla - 2.0 16V 4x4 diesel Aut. ",{"$nulls":4},166823,198620,213614,221660]
[null,null,"Mensal (R$):",{"$f":"D47","v":7107.892120519904}]
[null,null,"Diária (R$):",{"$f":"D7/22","v":323.08600547817747}]
["A",null,"Depreciação mensal do equipamento"]
["A1",null,"Preço de Aquisição ",{"$f":"SMALL(F6:I6,1)","v":166823}]
["A2",null,"Tempo previsto de vida útil (meses)",36]
["A3",null,"Previsão de recup. Na venda do bem usado",0.4]
["A4",null,"Custo mensal [A1-(A3xA1)]/A2",{"$f":"(D10-(D12*D10))/D11","v":2780.3833333333332}]
["B",null,"Juros pelo Capital empregado"]
["B1",null,"Taxa mensal de Juros *",{"$f":"POWER(1+D53,1/12)-1","v":1.0793911082132235E-2}]
["B2",null,"Juros s/depreciação/aluguel (B1xA4)",{"$f":"D15*D13","v":30.011210474242429}]
["C",null,"Conservação e manutenção **",0.75]
["C1",null,"Taxa de gastos s/a deprec. Inc. seguros (%)",{"$f":"D17","v":0.75}]
["C2",null,"Incidência mensal (C1xA4)",{"$f":"D18*D13","v":2085.2874999999999}]
["D",null,"Combustível"]
["D1",null,"Média mensal de quilômetro por veículo",3000]
["D2",null,"Preço do litro de combustível",6.67]
["D3",null,"Quilômetros rodados com um litro combustivel",10]
["D4",null,"Combustivel    (D1/D3)*D2",{"$f":"(D21/D23)*D22","v":2001}]
["E",null,"Lubrificantes"]
["E1",null,"Quilometragem do Contrato (D1*12)",36000]
["E2",null,"Franquia por troca de óleo (km)",10000]
["E3",null,"Preço do litro de óleo",{"$f":"L5","v":40.492499999999993}]
["E4",null,"Quantidade de litros de óleo por troca",5]
["E5",null,"Quantidade de dias do Contrato",365]
["E6",null,"Lubrificantes  E = (E1*E3*E4*30)/E2*E5",{"$f":"(D26*D28*D29*30)/(D27*D30)","v":59.906712328767114}]
["F",null,"Pneus"]
["F1",null,"Quilometragem do Contrato ",{"$f":"D26","v":36000}]
["F2",null,"Vida do Pneu em quilômetros",45000]
["F3",null,"Quantidade de pneus",4]
["F4",null,"Preço do Pneu",{"$f":"W5","v":575.26800000000003}]
["F5",null,"Quantidade de dias do contrato ",{"$f":"D30","v":365}]
["F6",null,"Pneus = (F1*F3*F4*30)/(F2*F5)",{"$f":"(D33*D35*D36*30)/(D34*D37)","v":151.30336438356164}]
["G",null,"Motorista"]
["G1",null,"Salário com encargos sociais","Não se aplica "]
["H",null,"Custo Mensal"," "]
[null,null,"Sem Motorista (A4+B2+C2+D4+E6+F6)",{"$f":"D13+D16+D19+D24+D31+D38","v":7107.892120519904}]
[null,null,"Com Motorista","Não se aplica "]
["I",null,"Custo Direto p/ km Rodado"]
[null,null,"Sem Motorista",{"$f":"D42/D21","v":2.3692973735066345}]
[null,null,"Com Motorista","Não se aplica "]
["J",null,"Preço cobrado com BDI",{"$f":"D42*(1+D5)","v":7107.892120519904}]
["J1",null,"Sem Motorista",{"$f":"D47","v":7107.892120519904},{"$nulls":5},"https://www.google.com/search?q=óleo+lubrificante+5w30&sa=X&biw=1600&bih=789&tbm=shop&ei=fZIXY84IteXWxA_Vw4vYDg&ved=0ahUKEwiOu-_35oD6AhW1spUCHdXhAusQ4dUDCAY&uact=5&oq=óleo+lu… 2/15\n",{"$nulls":10},"https://www.google.com/search?q=pneu+225/65+R17+original&source=lmns&tbm=shop&bih=789&biw=1600&hl=pt-BR&sa=X&ved=2ahUKEwjCqaH134D6AhWQK7kGHU3KA2UQ_AUoAXoECAEQAQ 2/15"]
["J2",null,"Com Motorista",{"$f":"D43","v":"Não se aplica "}]
[]
[null,null,"OBSERVAÇÕES:"]
["*",null,"Calculado com base na taxa SELIC agosto/2022 - 13,75 % a.a"]
[null,null,"SELIC AGOSTO / 2022  -  Taxa de Juros Selic — Português (Brasil) (www.gov.br) ",0.13750000000000001]
[]
["**",null,"Conservação e manutenção - é calculado com o uso de um coeficiente multiplicador \"k\", conforme tabela abaixo, sobre a "]
[null,null,"depreciação mensal do equipamento (Item A da planilha de composição de preços). Os valores de K são fornecidos por"]
[null,null," fabricantes. "]
[null,null,"Metodologia conforme a bibliografia \"Como Preparar Orçamentos de Obras\", 3 edição, Aldo Dórea Mattos, 2019."]

{"sheet":"CRO1_Ins-Pro","index":10,"n_rows":19,"n_cols":10,"rows_kept":19,"cut":false,"hidden":false,"merged":[[15,0,15,8],[16,0,16,8],[17,0,17,8],[34,7,34,8],[0,0,1,5],[0,6,0,9],[1,6,1,9],[12,0,13,0],[12,1,13,1]]}
["INSUMOS POR ETAPA/PRODUTO",{"$nulls":5},"CODIGO:"]
[{"$nulls":6},"CRO-1"]
["Cod.","Categoria / Insumo","Uni","Qde","CUD","PU","FatorK","1. EVTEA","2. Esc. Alt.","3. PB"]
["SICRO","Engenheiro Sênior (Coordenador) (P8061)","mês",{"$f":"SUM(H4:J4)","v":4},{"$f":"PFP!G8","v":16889.91},{"$f":"ROUND(E4*G4,2)","v":28633.46},{"$f":"PFP!I8","v":1.6953},1,1,2]
["SICRO","Engenheiro Pleno – Projetista Estrada (P8066)","mês",{"$f":"SUM(H5:J5)","v":3},{"$f":"PFP!G9","v":10987.76},25913.53,{"$f":"PFP!I9","v":2.3584000000000001},0,1,2]
["SICRO","Engenheiro Pleno – Ambiental (P8058)","mês",{"$f":"SUM(H6:J6)","v":1},{"$f":"PFP!G10","v":10929.35},25775.78,{"$f":"PFP!I10","v":2.3584000000000001},1,0,0]
["SICRO","Administrativo (Secretariado) (P8135)","mês",{"$f":"SUM(H7:J7)","v":4},{"$f":"PFP!G11","v":2254.1999999999998},5316.31,{"$f":"PFP!I11","v":2.3584000000000001},1,1,2]
["CODE","Diárias","dia",{"$f":"SUM(H8:J8)","v":21},{"$f":"PFP!G12","v":305.10000000000002},383.14,{"$f":"PFP!I12","v":1.2558},15,0,6]
["PROP","Pick-up Cab. Dupla 2.8 4x4 Diesel","dia",10,{"$f":"PFP!G13","v":323.08600547817747},405.73,{"$f":"PFP!I13","v":1.2558},6,4,0]
["CODE","Relatório Final","un",1,{"$f":"PFP!G14","v":1478.8},1857.08,{"$f":"PFP!I14","v":1.2558},0,0,1]
["CODE","Total Serviços Cartográficos","un",1,{"$f":"PFP!G15","v":"-"},{"$f":"PFP!H15","v":221087.91},"-",0,0,1]
["CODE","Total Serviços Geotécnicos","un",1,{"$f":"PFP!G16","v":"-"},{"$f":"PFP!H16","v":437325.90000000008},"-",0,0,1]
["TOTAL","VALOR POR PRODUTO","R$",{"$f":"SUM(H13:J13)","v":911689.58000000007},null,null,null,{"$f":"SUM(F4:F10*$H4:H$10)","v":67907.03},{"$f":"SUM(I4:I10*$F$4:$F$10)","v":61486.219999999994},{"$f":"SUM(J4:J12*$F$4:$F$12)","v":782296.33000000007}]
[null,null,"%",{"$f":"SUM(H14:J14)","v":0.99998999999999993},null,null,null,{"$f":"ROUND(H13/$D$13,5)","v":7.4480000000000005E-2},{"$f":"ROUND(I13/$D$13,5)","v":6.744E-2},{"$f":"ROUND(J13/$D$13,5)","v":0.85807}]
["OBSERVAÇÃO:"]
["P - Profissionais nível superior nas áreas de Engenharia, Química, Arquitetura, Agronomia e Veterinária, conforme disposições da Lei 4.950-A/66"]
["S - Profissionais de nível superior nas demais áreas de atuação, incluindo Arqueólogo, Biólogo, Geógrafo e Socioólogo"]
["T - Profissionais de nível médio técnico nas diversas áreas de atuação"]
["A - Profissionais de nível médio de apoio técnico-administrativo"]

{"sheet":"CRO2_Ins-Mes","index":11,"n_rows":5,"n_cols":7,"rows_kept":5,"cut":false,"hidden":false,"merged":[[0,3,0,6],[28,3,28,6]]}
["CRONOGRAMA SIMPLIFICADO",null,null,"Mês"]
["Produtos","Uni","Qde",1,2,3,4]
["Estudo de Viabilidade Técnica, Econômica e Ambiental","mês",{"$f":"SUM(D3:G3)","v":1},1,0,0,0]
["Escolha das Alternativas","mês",{"$f":"SUM(D4:G4)","v":1},0,1,0,0]
["Estudos de Campo e Projeto Básico","mês",{"$f":"SUM(D5:G5)","v":2},0,0,1,1]

{"sheet":"Encargos Sociais","index":12,"n_rows":0,"n_cols":0,"rows_kept":0,"cut":false,"hidden":false,"merged":[]}