{"text_format":"2","workbook":"xlsx","n_sheets":5,"sheets":["Geral Vigilância","Quadro Resumo ","Posto Fixo 24 h","Encargos Sociais","Insumos"],"not_rendered":{"charts":0,"images":1,"macros":0,"external_links":0,"defined_names":5,"comments":1,"pivot_tables":0},"unopened":[],"bounds":{"document_bytes":16777216,"sheet_cells":100000,"run_cost":"one","rows_first":2000,"rows_last":500,"rows_between":2000,"halvings":0,"cell_chars":16384,"cell_head_chars":4096},"cells_cut":0,"cells_raw":0,"read":"whole","date_system":"1900"}

{"sheet":"Geral Vigilância","index":0,"n_rows":18,"n_cols":5,"rows_kept":18,"cut":false,"hidden":false,"merged":[[0,0,2,4],[17,0,17,3],[12,0,12,1],[16,0,16,3],[10,0,10,4],[13,0,15,1],[13,2,15,2],[13,3,15,3],[13,4,15,4],[5,0,8,4]]}
[]
[]
[]
[]
[]
["Prestação de serviços continuados empresa especializada na prestação de serviços continuados de vigilância armada, diurna e noturna, a ser executada nas dependências do pátio do Sindicato Rural de Anápolis, localizado no Parque de Exposição Agropecuário de Anápolis, estado de Goiás."]
[]
[]
[]
[]
["ANEXO I - A: QUADRO RESUMO DE FORMAÇÃO DE PREÇOS"]
[]
["Discriminação dos Postos",null,"Nº de Postos","Valor do Posto","Valor Mensal"]
["Posto Fixo de 24 (vinte e quatro) horas diárias, inclusive aos sábados, domingos e feriados, envolvendo 2 (dois) vigilantes em turnos revezados de 12 (doze) x 36 (trinta e seis) horas.",null,4,{"$f":"'Posto Fixo 24 h'!E93","v":21446.29},{"$f":"C14*D14","v":85785.16}]
[]
[]
["TOTAL MENSAL:",null,null,null,{"$f":"SUM(E14:E14)","v":85785.16}]
["TOTAL 12 MESES:",null,null,null,{"$f":"SUM(E17*12)","v":1029421.92}]

{"sheet":"Quadro Resumo ","index":1,"n_rows":16,"n_cols":7,"rows_kept":16,"cut":false,"hidden":false,"merged":[[0,0,2,4],[5,0,8,6],[10,0,10,6],[12,0,13,1],[15,0,15,5]]}
[]
[]
[]
[]
[]
["Prestação de serviços continuados empresa especializada na prestação de serviços continuados de vigilância armada, diurna e noturna, a ser executada nas dependências do pátio do Sindicato Rural de Anápolis, localizado no Parque de Exposição Agropecuário de Anápolis, estado de Goiás"]
[]
[]
[]
[]
["ANEXO I - B: QUADRO RESUMO - VALOR MENSAL DOS SERVIÇOS"]
[]
["Tipo de Serviço",null,"Valor proposto por empregado","Quant. de empregados por posto","Valor proposto por posto","Quant. de postos","Valor total do serviço"]
[null,null,"( A )","( B )","( C )","( D )","(E = C x D)"]
[1,"Posto Fixo de 24 (vinte e quatro) horas diárias, inclusive aos sábados, domingos e feriados, envolvendo 2 (dois) vigilantes em turnos revezados de 12 (doze) x 36 (trinta e seis) horas.",{"$f":"ROUND(E15/D15,2)","v":10723.15},2,{"$f":"'Posto Fixo 24 h'!E93","v":21446.29},4,{"$f":"E15*F15","v":85785.16}]
["Valor Mensal dos Serviços :",{"$nulls":5},{"$f":"SUM(G15:G15)","v":85785.16}]

{"sheet":"Posto Fixo 24 h","index":2,"n_rows":103,"n_cols":9,"rows_kept":103,"cut":false,"hidden":false,"merged":[[76,1,76,2],[85,0,85,3],[69,1,69,2],[74,0,74,4],[80,1,80,2],[82,0,82,2],[9,0,9,4],[66,0,66,4],[24,0,24,4],[20,0,21,1],[20,2,21,2],[20,3,21,4],[49,0,49,4],[58,0,58,3],[29,0,29,4],[59,0,59,4],[26,0,26,4],[27,0,28,4],[34,1,34,2],[30,1,30,2],[30,3,30,4],[31,3,31,4],[19,0,19,4],[18,0,18,4],[65,0,65,3],[36,3,36,4],[37,0,37,4],[48,0,48,3],[50,0,50,4],[61,0,61,4],[32,3,32,4],[33,3,33,4],[34,3,34,4],[31,1,31,2],[32,1,32,2],[33,1,33,2],[101,0,101,2],[102,0,102,2],[70,1,70,2],[71,1,71,2],[72,1,72,2],[89,1,89,3],[88,1,88,3],[91,1,91,3],[90,0,90,3],[87,1,87,3],[83,0,83,4],[81,1,81,2],[84,0,84,4],[78,1,78,2],[86,1,86,3],[73,0,73,2],[97,0,97,3],[79,1,79,2],[98,0,98,2],[99,0,99,2],[100,0,100,2],[4,0,7,4],[68,1,68,2],[75,1,75,2],[77,1,77,4],[92,0,93,3],[92,4,93,4],[10,0,10,4],[22,3,22,4],[14,1,14,3],[15,1,15,3],[11,0,11,4],[22,0,22,1],[16,1,16,3],[12,0,12,4],[13,1,13,3],[25,0,25,4]]}
[]
[]
[]
[]
["Prestação de serviços continuados empresa especializada na prestação de serviços continuados de vigilância armada, diurna e noturna, a ser executada nas dependências do pátio do Sindicato Rural de Anápolis, localizado no Parque de Exposição Agropecuário de Anápolis, estado de Goiás"]
[]
[]
[]
[]
["ANEXO I - C : PLANILHA DE CUSTOS E FORMAÇÃO DE PREÇOS"]
["PORTARIA Nº 07 DE 09/03/2011 - SLTI/MPOG"]
[]
["DISCRIMINAÇÃO DOS SERVIÇOS (Dados referentes à contratação)"]
["A","Data de apresentação da proposta (dia/mês/ano)"]
["B","Município/UF",null,null,"Anápolis-GO"]
["C","Ano Acordo, Convenção ou Sentença Normativa em Dissídio Coletivo",null,null,2021]
["D ","Nº de meses de execução contratual",null,null,"12 meses"]
[]
[]
["IDENTIFICAÇÃO DO SERVIÇO"]
["Tipo de serviço",null,"Unidade de Medida"," Quantidade total a contratar (em função da unidade de medida)"]
[]
["Vigilância do Escritório Central  (Nas obras civis, instalações dos canteiros de obras e dos equipamentos hidromecânicos do Eixo Norte e Eixo Leste do PISF)",null,"Posto Fixo",2]
[]
[]
["MÃO-DE-OBRA VINCULADA À EXECUÇÃO CONTRATUAL "]
["Descrição:"]
["Posto Fixo de 24 (vinte e quatro) horas diárias, inclusive aos sábados, domingos e feriados, envolvendo 2 (dois) vigilantes em turnos revezados de 12 (doze) x 36 (trinta e seis) horas."]
[]
["Dados complementares para composição dos custos referente à mão de obra"]
[1,"Tipo de Serviço",null,"Vigilância Patrimonial",null,null,"Hora trabalhada = salario / 200"]
[2,"Classificação Brasileira de Ocupações (CBO)",null,"5173-30",null,null,{"$f":"G40/200","v":7.71},"/ hora"]
[3,"Salário Normativo da Categoria Proifissinal",null,1408.24,null,null,"Adic Noturno = 7,71*20%=",{"$f":"7.71*0.2","v":1.542}]
[4,"Categoria profissional (vinculada à execução contratual)",null,"Vigilante"]
[5,"Data-base da categoria (dia/mês/ano)",null,"2021-01-01"]
[]
[]
["MÓDULO 1: COMPOSIÇÃO DA REMUNERAÇÃO"]
["ITEM","DESCRIÇÃO","Valor Unitário (R$)","Quantidade ","Valor Total (R$)",null,"Salario","Encargo ","Salário s/ enc."]
["A","Salário Base (CCT 2021 - Cláusula 3ª)",1408.24,4,{"$f":"C40*D40","v":5632.96},null,1541.51,0.72809999999999997,{"$f":"G40*H40","v":1122.3699999999999}]
["B","Adicional de Periculosidade (CCT 2021 - cláusula 3ª)",{"$f":"C40*0.3","v":422.47},4,{"$f":"C41*D41","v":1689.88}]
["C","Adicional Noturno (CCT 2021 - cláusula 43ª)",{"$f":"7*4.345*8*1.54/2","v":187.36},2,{"$f":"C42*D42","v":374.72}]
["D","Hora Noturna Reduzida ",{"$f":"(1*30.42*(((C40+C41)/220)+((C40+C41)/220)*0.2))/2","v":151.88},2,{"$f":"C43*D43","v":303.76}]
["E","Adicional sobre Hora Noturna Reduzida",{"$f":"C43*0.2","v":30.38},2,{"$f":"C44*D44","v":60.76}]
["F","Intervalo intrajornada (CCT 2021 - Cláusula 42ª) - (CCT 2021 - Cláusula 42ª)",{"$f":"(((C40+C41)/220*1.5))*15","v":187.23},4,{"$f":"C45*D45","v":748.92}]
["G","DSR sobre Adicionais Noturnos (CCT 2021 - cláusula 42ª )",{"$f":"C42/6","v":31.23},2,62.46]
["H","DSR sobre intrajornada (CCT 2021 - cláusula 42ª) ",24.58,4,{"$f":"C47*D47","v":98.32}]
["I","Feriados trabalhados (CCT 2021 - cláusula 42ª)",{"$f":"((((C40+C41)/220)*2)*12*1.17)/2","v":116.83},4,{"$f":"C48*D48","v":467.32}]
["Total da Remuneração Mensal - Total (01 Posto):",null,null,null,{"$f":"SUM(E40:E48)","v":9439.1}]
[]
["MÓDULO 2: BENEFÍCIOS MENSAIS E DIÁRIOS"]
["ITEM","DESCRIÇÃO","Valor Unitário (R$)","Quantidade ","Valor Total (R$)"]
["A","Vale Transporte (parcela da empresa)",{"$f":"(3.5*2*15)-(C40*6%)","v":20.51},2,{"$f":"C53*D53","v":41.02}]
["B","Auxílio alimentação (Vales, cesta básica, etc.) - CCT 2021 - cláusula 3ª - Parágrafo 2",396,2,{"$f":"C54*D54","v":792}]
["C","Assistência médica/social",40.96,2,{"$f":"C55*D55","v":81.92}]
["D","Auxílio creche","-","-","-"]
["E","Seguro de vida, invalidez e funeral ",16.079999999999998,2,{"$f":"C57*D57","v":32.159999999999997}]
["F","Outros (especificar)","-","-","-"]
["Total de Benefícios Mensais e Diários (01 Posto):",null,null,null,{"$f":"SUM(E53:E58)","v":947.1}]
["Nota: o valor informado deverá ser o custo real do insumo (descontado o valor eventualmente pago pelo empregado)."]
[]
["MÓDULO 3: INSUMOS DIVERSOS"]
["ITEM","DESCRIÇÃO","Valor Unitário (R$)","Quantidade ","Valor Total (R$)"]
["A","Uniformes",{"$f":"Insumos!I6","v":48.48},2,{"$f":"C64*D64","v":96.96}]
["B","Armas, materiais e equipamentos, inclusive de proteção individual (EPI)",{"$f":"Insumos!I12","v":32.409999999999997},2,{"$f":"C65*D65","v":64.819999999999993}]
["Total de Insumos Diversos (01 Posto):",null,null,null,{"$f":"SUM(E64:E65)","v":161.78}]
["Nota: Valores mensais por empregado."]
[]
[4,"MÓDULO 4: ENCARGOS SOCIAIS E TRABALHISTAS - QUADRO-RESUMO",null,"%","Valor (R$)"]
["4.1","GRUPO \"A\"",null,{"$f":"'Encargos Sociais'!D26","v":0.378},{"$f":"'Encargos Sociais'!E26","v":3567.98}]
["4.2","GRUPO \"B\"",null,{"$f":"'Encargos Sociais'!D36","v":0.17269999999999999},{"$f":"'Encargos Sociais'!E36","v":1630.13}]
["4.3","GRUPO \"C\"",null,{"$f":"'Encargos Sociais'!D44","v":0.1067},{"$f":"'Encargos Sociais'!E44","v":1007.15}]
["4.4","GRUPO \"D\"",null,{"$f":"'Encargos Sociais'!D50","v":6.9199999999999998E-2},{"$f":"'Encargos Sociais'!E50","v":616.37}]
["TOTAL - Encargos Sociais e Trabalhistas:",null,null,{"$f":"SUM(D70:D73)","v":0.72660000000000002},{"$f":"SUM(E70:E73)","v":6821.63}]
[]
[5,"MÓDULO 5: CUSTOS INDIRETOS, TRIBUTOS E LUCRO",null,"%","Valor (R$)"]
["A","Custos Indiretos (CI)",null,0.06,{"$f":"D77*(E49+E59+E66+E74)","v":1042.18}]
["B","Tributos (percentual sobre o valor do faturamento)"]
["B.1","Tributos Federais (COFINS/PIS)",null,3.6499999999999998E-2,{"$f":"D102","v":782.79}]
["B.2","Tributos Estaduais (especificar)",null,0,{"$f":"D80*(E49+E59+E66+E74+E77+E82)","v":0}]
["B.3","Tributos Municipais (ISSQN ou ISS)",null,0.05,{"$f":"D103","v":1072.31}]
["C","Lucro (L)",null,6.7900000000000002E-2,{"$f":"D82*(E49+E59+E66+E74)","v":1179.4000000000001}]
["TOTAL - Custos Indiretos, Tributos e Lucro",null,null,{"$f":"SUM(D77:D82)","v":0.21440000000000001},{"$f":"SUM(E77:E82)","v":4076.68}]
[]
["Quadro Resumo do Custo"]
["Mão de obra vinculada à execução contratual (Valor para 01 Posto = 04 Empregados)",null,null,null,"Valor (R$)"]
["A","Módulo 1 – Composição da Remuneração",null,null,{"$f":"E49","v":9439.1}]
["B","Módulo 2 – Benefícios Mensais e Diários",null,null,{"$f":"E59","v":947.1}]
["C","Módulo 3 – Insumos Diversos (uniformes e outros)",null,null,{"$f":"E66","v":161.78}]
["D","Módulo 4 – Encargos Sociais e Trabalhistas",null,null,{"$f":"E74","v":6821.63}]
["Subtotal (A + B + C + D):",null,null,null,{"$f":"SUM(E87:E90)","v":17369.61}]
["E","Módulo 5 – Custos indiretos, tributos e lucro",null,null,{"$f":"E83","v":4076.68}]
["Valor Total de Posto Fixo de 24 (vinte e quatro) horas diárias, inclusive aos sábados, domingos e feriados, envolvendo 4 (quatro) vigilantes em turnos revezados de 12 (doze) x 36 (trinta e seis) horas:",null,null,null,{"$f":"ROUND(E91+E92,2)","v":21446.29}]
[]
[]
[]
[]
["CÁLCULO PIS/COFINS"]
["P0 = (MÓD 1 + MÓD 2 + MÓD 3 + MÓD 4) + (CI) + (L)",null,null,{"$f":"E49+E59+E66+E74+E77+E82","v":19591.189999999999}]
["P1 = P0/(1 - 0,0865)",null,null,{"$f":"D99/(1-0.0865)","v":21446.29}]
["T = P1 - P0",null,null,{"$f":"D100-D99","v":1855.1}]
["COFINS/PIS = (3,65/8,65) x T",null,null,{"$f":"(3.65/8.65)*D101","v":782.79}]
["ISS = (5,00/8,65) x T",null,null,{"$f":"(5/8.65)*D101","v":1072.31}]

{"sheet":"Encargos Sociais","index":3,"n_rows":58,"n_cols":9,"rows_kept":58,"cut":false,"hidden":false,"merged":[[29,1,29,2],[4,0,7,4],[9,0,9,4],[10,0,10,4],[22,1,22,2],[13,0,13,4],[14,0,14,4],[15,1,15,2],[16,1,16,2],[17,1,17,2],[18,1,18,2],[19,1,19,2],[20,1,20,2],[21,1,21,2],[11,0,11,3],[24,1,24,2],[25,0,25,2],[26,0,26,4],[27,1,27,2],[28,1,28,2],[57,0,57,2],[45,0,45,4],[46,1,46,2],[47,1,47,2],[49,0,49,2],[50,0,50,4],[52,1,52,2],[53,1,53,2],[54,1,54,2],[55,1,55,2],[56,1,56,2],[44,0,44,4],[30,1,30,2],[31,1,31,2],[33,1,33,2],[34,1,34,2],[35,0,35,2],[36,0,36,4],[48,1,48,2],[39,1,39,2],[40,1,40,2],[37,1,37,2],[38,1,38,2],[41,1,41,2],[42,1,42,2],[43,0,43,2]]}
[]
[]
[]
[]
["Prestação de serviços continuados empresa especializada na prestação de serviços continuados de vigilância armada, diurna e noturna, a ser executada nas dependências do pátio do Sindicato Rural de Anápolis, localizado no Parque de Exposição Agropecuário de Anápolis, estado de Goiás."]
[]
[]
[]
[]
["MÓDULO 4: ENCARGOS SOCIAIS E TRABALHISTAS"]
[]
["Total da Remuneração Mensal - Total (01 Posto):",null,null,null,{"$f":"'Posto Fixo 24 h'!$E$49","v":9439.1}]
[]
["MÓDULO 4: ENCARGOS SOCIAIS E TRABALHISTAS - ENCARGOS SINAPI 2021 -GO"]
["NOTA: Os percentuais dos encargos previdenciários e FGTS, a serem preenchidos na coluna %, são aqueles estabelecidos pela legislação vigente, incidentes sobre a remuneração"]
["4.1","GRUPO \"A\"",null,"%","Valor (R$)"]
["A","INSS (Art. 22 inciso I da Lei 8.212/91) ",null,0.2,{"$f":"D17*$E$12","v":1887.82}]
["B","FGTS (Art. 15 da Lei 8030/90 art. 7° inciso III CF/88)",null,0.08,{"$f":"D18*$E$12","v":755.13}]
["C","Riscos Ambientais do Trabalho - RAT x FAP - (Decreto 3.048/1999, Anexo V e Decreto 6.957/2009)  ",null,0.03,283.17]
["D","Salário Educação (Art. 3° inciso I Decreto 87.043/)",null,2.5000000000000001E-2,235.98]
["E","SESC/SESI (Art. 3° da Lei 8036/90)",null,1.4999999999999999E-2,141.59]
["F","SENAC/SENAI (Decreto 2.318/86)",null,0.01,94.39]
["G","SEBRAE (Art. 8° Lei 8029/90 e 8154 de 28/12/90)",null,6.0000000000000001E-3,56.63]
["H","SECONCI",null,0.01,94.39]
["I","INCRA  (Lei 7787 de 30/06/890e DL 1146/70)",null,2E-3,18.88]
["TOTAL - Grupo A:",null,null,{"$f":"SUM(D17:D25)","v":0.378},{"$f":"SUM(E17:E25)","v":3567.98}]
[]
["4.2","GRUPO \"B\"",null,"%","Valor (R$)"]
["A","Férias e Um Terço Constitucional",null,7.5399999999999995E-2,{"$f":"D29*$E$12","v":711.71}]
["B","Auxílio Doença",null,6.7000000000000002E-3,{"$f":"D30*$E$12","v":63.24}]
["C","Licença Paternidade",null,5.9999999999999995E-4,5.66]
["D","Faltas Legais",null,5.5999999999999999E-3,52.86]
["E","Acidente de Trabalho",null,8.0000000000000004E-4,7.55]
["F","Salário Maternidade",null,2.9999999999999997E-4,2.83]
["G","13º Salário",null,8.3299999999999999E-2,786.28]
["TOTAL - Grupo B:",null,null,{"$f":"SUM(D29:D35)","v":0.17269999999999999},{"$f":"SUM(E29:E35)","v":1630.13}]
[]
["4.3","GRUPO \"C\"",null,"%","Valor (R$)"]
["A","Aviso Prévio Indenizado",null,4.3999999999999997E-2,{"$f":"D39*$E$12","v":415.32}]
["B","Aviso Prévio Trabalhado",null,1E-3,{"$f":"D40*$E$12","v":9.44}]
["C","Férias Indenizada",null,2.9700000000000001E-2,{"$f":"D41*$E$12","v":280.33999999999997}]
["D","Indenização Adicional",null,3.7000000000000002E-3,{"$f":"D42*$E$12","v":34.92}]
["C","Indenização (rescisões sem justa causa) - Multa FGTS + 10% LC nº 110/01",null,2.8299999999999999E-2,{"$f":"D43*$E$12","v":267.13}]
["TOTAL - Grupo C:",null,null,{"$f":"SUM(D39:D43)","v":0.1067},{"$f":"SUM(E39:E43)","v":1007.15},null,null,null," "]
[]
["GRUPO \"D\""]
["4.4","GRUPO \"D\"",null,"%","Valor (R$)"]
["A","Incidência do grupo \"A\" sobre o grupo \"B\"",null,6.5299999999999997E-2,{"$f":"D48*$E$12","v":616.37}]
["B","Reincidência de Grupo A sobre Aviso Prévio Trabalhado e Reincidência do FGTS sobre Aviso Prévio Indenizado",null,3.8999999999999998E-3,{"$f":"D49*$E$12","v":36.81}]
["TOTAL - Grupo D:",null,null,{"$f":"SUM(D48:D49)","v":6.9199999999999998E-2},{"$f":"SUM(E48:E48)","v":616.37}]
[]
[]
[4,"(QUADRO-RESUMO) MÓDULO 4: ENCARGOS SOCIAIS E TRABALHISTAS",null,"%","Valor (R$)"]
["4.1","GRUPO \"A\"",null,{"$f":"D26","v":0.378},{"$f":"E26","v":3567.98}]
["4.2","GRUPO \"B\"",null,{"$f":"D36","v":0.17269999999999999},{"$f":"E36","v":1630.13}]
["4.3","GRUPO \"C\"",null,{"$f":"D44","v":0.1067},{"$f":"E44","v":1007.15}]
["4.4","GRUPO \"D\"",null,{"$f":"D50","v":6.9199999999999998E-2},{"$f":"E50","v":616.37}]
["TOTAL - Encargos Sociais e Trabalhistas:",null,null,{"$f":"SUM(D54:D57)","v":0.72660000000000002},{"$f":"SUM(E54:E57)","v":6821.63}]

{"sheet":"Insumos","index":4,"n_rows":32,"n_cols":9,"rows_kept":32,"cut":false,"hidden":false,"merged":[[0,0,0,8],[5,1,5,5],[11,1,11,5],[4,0,4,1],[25,1,25,8],[1,0,1,8]]}
["Cotações de Preços de Insumos"]
["Referência: Cotação de preços em maio de 2021"]
[]
[]
["Materiais e equipamentos para os postos de vigilância armada:",null,"Cotação 1","Cotação 2","Cotação 3","Mediana (R$)","Consumo anual","Consumo Mensal","Custo Mensal"]
[1,"Uniforme",{"$nulls":6},{"$f":"SUM(I7:I11)","v":48.48}]
["1.1","Camisa",70.63,78.98,110,{"$f":"MEDIAN(C7:E7)","v":78.98},2,{"$f":"G7/12","v":0.17},{"$f":"H7*F7","v":13.43}]
["1.2","camisa Interna (malha)",34.94,35.99,24,34.9,2,{"$f":"G8/12","v":0.17},{"$f":"H8*F8","v":5.93}]
["1.3","Calça",69.48,108,99,{"$f":"MEDIAN(C9:E9)","v":99},2,{"$f":"G9/12","v":0.17},{"$f":"H9*F9","v":16.829999999999998}]
["1.4","Par de botas (coturnos)",182,78.900000000000006,75.25,89.9,1,{"$f":"G10/12","v":0.08},{"$f":"H10*F10","v":7.19}]
["1.5","Boné",32.85,29.99,22,29.99,2,{"$f":"G11/12","v":0.17},{"$f":"H11*F11","v":5.0999999999999996}]
[2,"Armas, materiais e equipamentos, inclusive de proteção individual (EPI):",{"$nulls":5},{"$f":"G12/12","v":0},{"$f":"SUM(I13:I32)","v":32.409999999999997}]
["2.1","2.1. Apito de metal, com cordão trançado",11.42,11.42,9.99,11.42,{"$f":"1/2","v":0.5},{"$f":"G13/12","v":0.04},{"$f":"H13*F13","v":0.46}]
["2.2","2.2. Livro de Ocorrências",11.9,13.41,22,13.41,{"$f":"(12/3)/4","v":1},0.08,1.07]
["2.3","2.3. Revólver calibre 38 com, no mínimo, seis tiros e cano de três polegadas",3999,3277.5,3870,3870,{"$f":"(1/5)/4","v":0.05},0,0]
["2.4","2.4. Jet-Loader (carregador rápido) compatível com armamento",52.93,56.9,50,52.93,{"$f":"1/5/4","v":0.05},0,0]
["2.5","2.5. Porta Jet-Loader (carregador rápido) compatível com armamento",38.25,45,40.950000000000003,40.950000000000003,{"$f":"(1/2)","v":0.5},0.04,1.64]
["2.6","2.6. Coldre",37.9,59.8,81.900000000000006,59.8,{"$f":"1/2","v":0.5},0.04,2.39]
["2.7","2.7. Porta Tonfa",15.3,18,19.899999999999999,18,{"$f":"1/2","v":0.5},0.04,0.72]
["2.8","2.8. Cinto Operacional adequado ao armamento e equipamentos fornecidos",126,94.05,39.9,94.05,{"$f":"1/2","v":0.5},0.04,3.76]
["2.9","2.9. Tonfa em fibra",37,50.31,29,37,{"$f":"(1/5)","v":0.2},0.02,0.74]
["2.10","2.10. Munições de calibre 38 (10 unidades)",58.65,80,67,67,{"$f":"(1/2)/4","v":0.13},0.01,0.67]
["2.11","2.11. Colete Balístico Nível II, conforme Portaria 191 M.T.E",509,279,359.9,359.9,{"$f":"1/2","v":0.5},0.04,14.4]
["2.12","2.12. Lanterna portátil com 02 (duas) pilhas",59,79,36.9,59,{"$f":"1/2","v":0.5},0.04,2.36]
["2.13","2.13. Pilhas pequenas para lanternas (2 unidades)",6.9,4.3499999999999996,5.9,5.9,2,0.17,1]
["2.14","2.14. Sistema de comunicação digital"]
["2.15","2.15. Rádio retransmissor (base fixa)     ",871.74,640,800,800,{"$f":"(1/5)/4","v":0.05},4.0000000000000001E-3,3.2]
["2.16","2.16. Rádio retransmissor (base móvel)   ",457.4,399.9,399.88,399.9,0,0,0]
["2.17","2.17. Rádio retransmissor (portátil)          ",174.6,178.48,223.85,178.48,0,0,0]
["2.18","2.18. Capacete.",61.93,56.43,28,56.43]
["2.19","2.19. Joelheira.",69,69.900000000000006,58,69]
["2.20","2.20. Cotoveleira.",18.37,16.89,24.9,18.37]