{"text_format":"2","workbook":"xlsx","n_sheets":9,"sheets":["PFP1","PFP2.1_FatorKa","PFP2.2_FatoKb","PFP3_FatorKc","DQC","CT_OS","CT_RAM","CT_CV","Formulário modelo da proposta"],"not_rendered":{"charts":0,"images":0,"macros":0,"external_links":0,"defined_names":5,"comments":0,"pivot_tables":0},"unopened":[],"bounds":{"document_bytes":16777216,"sheet_cells":100000,"run_cost":"one","rows_first":2000,"rows_last":500,"rows_between":2000,"halvings":0,"cell_chars":16384,"cell_head_chars":4096},"cells_cut":0,"cells_raw":0,"read":"whole","date_system":"1900"}

{"sheet":"PFP1","index":0,"n_rows":42,"n_cols":9,"rows_kept":42,"cut":false,"hidden":false,"merged":[[36,0,36,8],[0,0,1,6],[4,3,4,6],[0,7,0,8],[1,7,1,8],[4,7,4,8],[2,0,2,8],[3,0,3,8],[4,0,4,2],[28,0,28,4],[28,5,28,8],[27,0,27,4],[27,5,27,8],[5,0,5,2],[5,7,5,8],[5,3,5,6],[40,0,40,8],[37,0,37,8],[39,0,39,8],[41,0,41,8],[29,0,29,4],[30,7,30,8],[29,5,29,8],[30,0,30,4],[31,0,31,6],[31,7,31,8],[32,0,32,4],[33,0,33,6],[33,7,33,8],[38,0,38,8],[34,0,34,8],[35,0,35,8]]}
["PROPOSTA FINANCEIRA DO PROJETO",{"$nulls":6},"CODIGO:"]
[{"$nulls":7},"PFP-1"]
["NOME DA EMPRESA:"]
["TECHNE Engenheiros Consultores Ltda."]
["PROJETO:",null,null,"CONTRATANTE:",null,null,null,"EDITAL:"]
["CONTRATAÇÃO DE SERVIÇOS DE APOIO TÉCNICO, APOIO À FISCALIZAÇÃO, SUPERVISÃO TÉCNICA E CAPACITAÇÃO TÉCNICA, VISANDO A IMPLANTAÇÃO E ACOMPANHAMENTO DE AÇÕES DE DESENVOLVIMENTO REGIONAL NA ÁREA DE ATUAÇÃO DA CODEVASF NOS ESTADOS DO AMAPÁ, BAHIA, CEARÁ, GOIÁS, MARANHÃO, MATO GROSSO, MINAS GERAIS, PARÁ, PARAÍBA, PERNAMBUCO, PIAUÍ, RIO GRANDE DO NORTE, TOCANTINS E NO DISTRITO FEDERAL.",null,null,"CODEVASF (SEDE)"]
["Cod.","Categoria / Insumo","Uni","Qde","CUD","PU","FatorK","CT","PT"]
["MO",{"$f":"DQC!B6","v":"Mão de Obra com Vínculo"},{"$nulls":5},{"$f":"SUM(H9:H14)","v":3410499.8400000003},{"$f":"SUM(I9:I14)","v":8054237.1600000011}]
["P1",{"$f":"DQC!B7","v":"Profissional Pleno - Coordenador"},"mês",{"$f":"DQC!D7","v":12},{"$f":"DQC!E7","v":13887.45},{"$f":"ROUND(E9*G9,2)","v":32796.6},{"$f":"PFP2.1_FatorKa!$E$37","v":2.3616000000000001},{"$f":"ROUND(D9*E9,2)","v":166649.4},{"$f":"ROUND(F9*D9,2)","v":393559.2}]
["P2",{"$f":"DQC!B8","v":"Profissional Médio"},"mês",{"$f":"DQC!D8","v":12},{"$f":"DQC!E8","v":6417.36},{"$f":"ROUND(E10*G10,2)","v":15155.24},{"$f":"PFP2.1_FatorKa!$E$37","v":2.3616000000000001},{"$f":"ROUND(D10*E10,2)","v":77008.320000000007},{"$f":"ROUND(F10*D10,2)","v":181862.88}]
["P3",{"$f":"DQC!B9","v":"Profissional Júnior  - Técnico de campo"},"mês",{"$f":"DQC!D9","v":240},{"$f":"DQC!E9","v":9350},22080.959999999999,{"$f":"PFP2.1_FatorKa!$E$37","v":2.3616000000000001},2244000,5299430.4000000004]
["P3",{"$f":"DQC!B10","v":"Profissional júnior - Geral"},"mês",{"$f":"DQC!D10","v":36},{"$f":"DQC!E10","v":6231.17},14715.53,{"$f":"PFP2.1_FatorKa!$E$37","v":2.3616000000000001},224322.12,529759.07999999996]
["T1",{"$f":"DQC!B11","v":"Técnico Pleno - Técnico de Campo "},"mês",{"$f":"DQC!D11","v":228},{"$f":"DQC!E11","v":2910.5},6873.44,{"$f":"PFP2.1_FatorKa!$E$37","v":2.3616000000000001},663594,1567144.32]
["T1",{"$f":"DQC!B12","v":"Técnico Pleno - Técnico Geral "},"mês",{"$f":"DQC!D12","v":12},{"$f":"DQC!E12","v":2910.5},6873.44,{"$f":"PFP2.1_FatorKa!$E$37","v":2.3616000000000001},34926,82481.279999999999]
[]
["MO",{"$f":"DQC!B13","v":"Mão de Obra sem Vínculo (HORISTA)"},{"$nulls":5},{"$f":"SUM(H17)","v":37262.400000000001},{"$f":"SUM(I17:K17)","v":107010.4}]
["P2",{"$f":"DQC!B14","v":"Profissional Médio - horas de capacitação e treinamento"},"Horas",{"$f":"DQC!D14","v":560},{"$f":"DQC!E14","v":66.540000000000006},{"$f":"ROUND(E17*G17,2)","v":191.09},{"$f":"PFP2.2_FatoKb!E40","v":2.8717999999999999},{"$f":"ROUND(D17*E17,2)","v":37262.400000000001},{"$f":"ROUND(F17*D17,2)","v":107010.4}]
[]
["DPV",{"$f":"DQC!B15","v":"Diárias, Passagens e Veículos"},{"$nulls":5},{"$f":"SUM(H20:H23)","v":2052280.56},{"$f":"SUM(I20:I23)","v":2577259.84}]
["D1",{"$f":"DQC!B16","v":"Diárias"},"dia",{"$f":"DQC!D16","v":1872},{"$f":"DQC!E16","v":239},{"$f":"ROUND(E20*G20,2)","v":300.14},{"$f":"PFP3_FatorKc!$E$19","v":1.2558},{"$f":"ROUND(D20*E20,2)","v":447408},{"$f":"ROUND(F20*D20,2)","v":561862.07999999996}]
["P1",{"$f":"DQC!B17","v":"Passagens Aéreas (ida e volta) - Brasília -área de atuação da Codevasf"},"un",{"$f":"DQC!D17","v":16},{"$f":"DQC!E17","v":1253.1600000000001},{"$f":"ROUND(E21*G21,2)","v":1573.72},{"$f":"PFP3_FatorKc!$E$19","v":1.2558},{"$f":"ROUND(D21*E21,2)","v":20050.560000000001},{"$f":"ROUND(F21*D21,2)","v":25179.52}]
["V1",{"$f":"DQC!B18","v":"Saveiro Robust 1.6 Total Flex 8V ou similar"},"mês",{"$f":"DQC!D18","v":180},{"$f":"DQC!E18","v":3311.9},4159.08,{"$f":"PFP3_FatorKc!$E$19","v":1.2558},596142,748634.4]
["V2",{"$f":"DQC!B19","v":"Hilux CS 4x4 2.8 TDI Diesel Mec. ou similar"},"mês",{"$f":"DQC!D19","v":168},{"$f":"DQC!E19","v":5885},7390.38,{"$f":"PFP3_FatorKc!$E$19","v":1.2558},988680,1241583.8400000001]
["EM",{"$f":"DQC!B20","v":"Equipamentos e Materiais"},{"$nulls":5},{"$f":"SUM(H25:H27)","v":86853.6},{"$f":"SUM(I25:I27)","v":109070.39999999999}]
["EM1",{"$f":"DQC!B21","v":"Notebook tela 14”, HD 1TB, memória RAM de 8GB "},"un",{"$f":"DQC!D21","v":480},{"$f":"DQC!E21","v":120.46},{"$f":"ROUND(E25*G25,2)","v":151.27000000000001},{"$f":"PFP3_FatorKc!$E$19","v":1.2558},{"$f":"ROUND(D25*E25,2)","v":57820.800000000003},{"$f":"ROUND(F25*D25,2)","v":72609.600000000006}]
["EM3","Modem ","un",{"$f":"DQC!D22","v":240},{"$f":"DQC!E22","v":18.64},{"$f":"ROUND(E26*G26,2)","v":23.41},{"$f":"PFP3_FatorKc!$E$19","v":1.2558},{"$f":"ROUND(D26*E26,2)","v":4473.6000000000004},{"$f":"ROUND(F26*D26,2)","v":5618.4}]
["EM4","Internet Móvel","un",{"$f":"DQC!D23","v":240},{"$f":"DQC!E23","v":102.33},128.51,{"$f":"PFP3_FatorKc!$E$19","v":1.2558},24559.200000000001,30842.400000000001]
["TOTAL DOS CUSTOS DIRETOS",{"$nulls":4},{"$f":"H8+H16+H19+H24","v":5586896.4000000004}]
["TOTAL DOS ENCARGOS E DESPESAS DIVERSAS",{"$nulls":4},{"$f":"F30-F28","v":5260681.4000000022}]
["TOTAL DA PROPOSTA",{"$nulls":4},{"$f":"I8+I16+I19+I24","v":10847577.800000003}]
["NOME DO INFORMANTE:",{"$nulls":6},"QUALIFICAÇÃO"]
[{"$nulls":7},"Diretor Executivo"]
["ASSINATURA:",{"$nulls":6},"DATA:"]
[{"$nulls":7},"2021-11-29"]
["OBSERVAÇÃO:"]
["Un - unidade de medição do insumo;"]
["Qde - Quantidade do Insumo (não pode ocorrer alteração pela Licitante)"]
["CUD - Custo Unitário Direto do Insumo (sem encargos, taxas e impostos, valor não pode ser maior que o Orçado pela Codevasf)"]
["CT - Custo Total (sem encargos, taxas e impostos) - CT = Qde x CUD"]
["FatorK - Taxa de Ressarcimento de Despesas e Encargos (detalhar composição nas Planilhas \"FCON2.1\", \"FCON2.2\", \"FCON3\")"]
["PU - Preço Unitário (incluído encargos, taxas e impostos) - PU = CUD x FatorK"]
["PT - Preço Total (incluído encargos, taxas e impostos) - PT = Qde x PU"]

{"sheet":"PFP2.1_FatorKa","index":1,"n_rows":46,"n_cols":6,"rows_kept":46,"cut":false,"hidden":false,"merged":[[45,0,45,5],[44,0,44,5],[43,0,43,5],[42,0,42,5],[25,1,25,3],[30,1,30,3],[31,1,31,3],[40,0,40,3],[29,1,29,3],[26,1,26,3],[27,1,27,3],[28,1,28,3],[38,4,38,5],[37,4,37,5],[34,1,34,3],[32,1,32,3],[8,1,8,3],[18,1,18,3],[19,1,19,3],[9,1,9,3],[14,1,14,3],[15,1,15,3],[16,1,16,3],[17,1,17,3],[10,1,10,3],[11,1,11,3],[12,1,12,3],[13,1,13,3],[0,0,1,4],[2,0,2,5],[5,0,5,1],[5,2,5,4],[6,0,7,3],[6,4,6,5],[4,2,4,4],[3,0,3,5],[33,1,33,3],[35,1,35,3],[36,1,36,3],[20,1,20,3],[21,1,21,3],[22,1,22,3],[23,1,23,3],[24,1,24,3]]}
["DETALHAMENTO DOS ENCARGOS SOCIAIS: Ka",{"$nulls":4},"CODIGO:"]
[{"$nulls":5},"PFP-2.1"]
["NOME DA EMPRESA:"]
[{"$f":"'PFP1'!A4:I4","v":"TECHNE Engenheiros Consultores Ltda."}]
["PROJETO:",null,"CONTRATANTE:",null,null,"EDITAL:"]
["CONTRATAÇÃO DE SERVIÇOS DE APOIO TÉCNICO, APOIO À FISCALIZAÇÃO, SUPERVISÃO TÉCNICA E CAPACITAÇÃO TÉCNICA, VISANDO A IMPLANTAÇÃO E ACOMPANHAMENTO DE AÇÕES DE DESENVOLVIMENTO REGIONAL NA ÁREA DE ATUAÇÃO DA CODEVASF NOS ESTADOS DO AMAPÁ, BAHIA, CEARÁ, GOIÁS, MARANHÃO, MATO GROSSO, MINAS GERAIS, PARÁ, PARAÍBA, PERNAMBUCO, PIAUÍ, RIO GRANDE DO NORTE, TOCANTINS E NO DISTRITO FEDERAL.",null,"CODEVASF (SEDE)"]
["DISCRIMINAÇÃO",null,null,null,"VALORES"]
[{"$nulls":4},"%","R$"]
["A","ENCARGOS SOCIAIS BÁSICOS",null,null,{"$f":"ROUND(SUM(E10:E18),4)","v":0.378},{"$f":"E9*'PFP1'!$H$8","v":1289168.93952}]
["A1","Seconci",null,null,0.01,{"$f":"E10*'PFP1'!$H$8","v":34104.998400000004}]
["A2","INSS",null,null,0.2,{"$f":"E11*'PFP1'!$H$8","v":682099.96800000011}]
["A3","FGTS",null,null,0.08,{"$f":"E12*'PFP1'!$H$8","v":272839.98720000003}]
["A4","Incra",null,null,2E-3,{"$f":"E13*'PFP1'!$H$8","v":6820.9996800000008}]
["A5","Salário Educação ",null,null,2.5000000000000001E-2,{"$f":"E14*'PFP1'!$H$8","v":85262.496000000014}]
["A6","Sebrae",null,null,6.0000000000000001E-3,{"$f":"E15*'PFP1'!$H$8","v":20462.999040000002}]
["A7","Seguro contra acidente",null,null,0.03,{"$f":"E16*'PFP1'!$H$8","v":102314.9952}]
["A8","Senai",null,null,0.01,{"$f":"E17*'PFP1'!$H$8","v":34104.998400000004}]
["A9","Sesi",null,null,1.4999999999999999E-2,{"$f":"E18*'PFP1'!$H$8","v":51157.497600000002}]
["B"," ENCARGOS SOCIAIS QUE RECEBEM INCIDÊNCIA DE \"A\"",null,null,{"$f":"ROUND(SUM(E20:E26),4)","v":0.2036},{"$f":"E19*'PFP1'!$H$8","v":694377.76742400008}]
["B1","13º Salário  ",null,null,8.3299999999999999E-2,{"$f":"E20*'PFP1'!$H$8","v":284094.63667200005}]
["B2","Auxilio Enfermidade",null,null,6.7000000000000002E-3,{"$f":"E21*'PFP1'!$H$8","v":22850.348928000003}]
["B3","Licença Paternidade",null,null,5.9999999999999995E-4,{"$f":"E22*'PFP1'!$H$8","v":2046.299904}]
["B4","Faltas Justificadas",null,null,5.5999999999999999E-3,{"$f":"E23*'PFP1'!$H$8","v":19098.799104000002}]
["B5","Auxílio Acidente de Trabalho",null,null,8.0000000000000004E-4,{"$f":"E24*'PFP1'!$H$8","v":2728.3998720000004}]
["B6","Férias Gozadas",null,null,0.10630000000000001,{"$f":"E25*'PFP1'!$H$8","v":362536.13299200003}]
["B7","Salário Maternidade",null,null,2.9999999999999997E-4,{"$f":"E26*'PFP1'!$H$8","v":1023.149952}]
["C"," ENCARGOS SOCIAIS QUE NÃO RECEBEM INCIDÊNCIA DE \"A\"",null,null,{"$f":"ROUND(SUM(E28:E32),4)","v":6.9099999999999995E-2},{"$f":"E27*'PFP1'!$H$8","v":235665.538944}]
["C1","Aviso Prévio Indenizado",null,null,3.2399999999999998E-2,{"$f":"E28*'PFP1'!$H$8","v":110500.194816}]
["C2","Aviso Prévio Trabalhado",null,null,8.0000000000000004E-4,{"$f":"E29*'PFP1'!$H$8","v":2728.3998720000004}]
["C3","Férias Indenizadas",null,null,3.5999999999999999E-3,{"$f":"E30*'PFP1'!$H$8","v":12277.799424000001}]
["C4","Depósito Rescisão Sem Justa Causa",null,null,2.9600000000000001E-2,{"$f":"E31*'PFP1'!$H$8","v":100950.79526400001}]
["C5","Indenização Adicional",null,null,2.7000000000000001E-3,{"$f":"E32*'PFP1'!$H$8","v":9208.3495680000015}]
["D"," REINCIDÊNCIAS",null,null,{"$f":"ROUND(SUM(E34:E35),4)","v":7.9899999999999999E-2},{"$f":"E33*'PFP1'!$H$8","v":272498.93721600005}]
["D1","Reincidência de \"A\" sobre \"B\"",null,null,7.6999999999999999E-2,{"$f":"E34*'PFP1'!$H$8","v":262608.48768000002}]
["D2","Reincidência de \"A\" sobre Aviso Prévio Trabalhado e reincidência do FGTS sobre aviso prévio indenizado",null,null,{"$f":"(E29*E9)+(E28*E12)","v":2.8944000000000001E-3},{"$f":"E35*'PFP1'!$H$8","v":9871.3507368960018}]
["K1","ENCARGOS SOCIAIS",null,null,{"$f":"ROUND(E9+E19+E27+E33,4)","v":0.73060000000000003},{"$f":"E36*'PFP1'!$H$8","v":2491711.1831040005}]
["Ka","TAXA DE RESSARCIMENTO DE DESPESAS E ENCARGOS SOBRE M.O.",null,null,{"$f":"ROUND((1+E36+PFP3_FatorKc!E15)*(1+PFP3_FatorKc!E14)*(1+PFP3_FatorKc!E10),4)","v":2.3616000000000001}]
["NOME DO INFORMANTE:",null,null,null,"QUALIFICAÇÃO"]
[{"$nulls":4},{"$f":"'PFP1'!H32","v":"Diretor Executivo"}]
["ASSINATURA:",null,null,null,"DATA:"]
[{"$nulls":4},{"$f":"'PFP1'!H34","v":"2021-11-29"}]
["OBSERVAÇÃO:"]
["1 - DISCRIMINAR OS ENCARGOS SOCIAIS COM SEUS RESPECTIVOS PERCENTUAS TOTALIZANDO OS MESMOS. "]
["2 - APLICAR O  % TOTAL P/ CALCULAR OS E. SOCIAIS INCIDENTES NA MÃO-DE-OBRA COM VÍNCULO PERMANENTE"]
["Ka - Taxa de Ressarcimento de Despesas e Encargos sobre a Mão de Obra COM VINCULO (incide apenas no Insumo Codigo M.O.)"]
["Ka = (1 + K1 + K2) x (1 + K3) x (1 + K4)"]

{"sheet":"PFP2.2_FatoKb","index":2,"n_rows":49,"n_cols":6,"rows_kept":49,"cut":false,"hidden":false,"merged":[[47,0,47,5],[48,0,48,5],[19,1,19,3],[20,1,20,3],[21,1,21,3],[22,1,22,3],[23,1,23,3],[24,1,24,3],[25,1,25,3],[39,1,39,3],[40,4,40,5],[41,4,41,5],[43,0,43,3],[45,0,45,5],[46,0,46,5],[33,1,33,3],[34,1,34,3],[35,1,35,3],[36,1,36,3],[37,1,37,3],[38,1,38,3],[28,1,28,3],[29,1,29,3],[30,1,30,3],[31,1,31,3],[32,1,32,3],[18,1,18,3],[12,1,12,3],[13,1,13,3],[14,1,14,3],[15,1,15,3],[16,1,16,3],[17,1,17,3],[11,1,11,3],[0,0,1,4],[2,0,2,5],[3,0,3,5],[4,2,4,4],[5,0,5,1],[5,2,5,4],[6,0,7,3],[6,4,6,5],[8,1,8,3],[9,1,9,3],[10,1,10,3]]}
["DETALHAMENTO DOS ENCARGOS SOCIAIS: Ka",{"$nulls":4},"CODIGO:"]
[{"$nulls":5},"PFP-2.3"]
["NOME DA EMPRESA:"]
[{"$f":"'PFP1'!A4:I4","v":"TECHNE Engenheiros Consultores Ltda."}]
["PROJETO:",null,"CONTRATANTE:",null,null,"EDITAL:"]
["CONTRATAÇÃO DE SERVIÇOS DE APOIO TÉCNICO, APOIO À FISCALIZAÇÃO, SUPERVISÃO TÉCNICA E CAPACITAÇÃO TÉCNICA, VISANDO A IMPLANTAÇÃO E ACOMPANHAMENTO DE AÇÕES DE DESENVOLVIMENTO REGIONAL NA ÁREA DE ATUAÇÃO DA CODEVASF NOS ESTADOS DO AMAPÁ, BAHIA, CEARÁ, GOIÁS, MARANHÃO, MATO GROSSO, MINAS GERAIS, PARÁ, PARAÍBA, PERNAMBUCO, PIAUÍ, RIO GRANDE DO NORTE, TOCANTINS E NO DISTRITO FEDERAL.",null,"CODEVASF (SEDE)"]
["DISCRIMINAÇÃO",null,null,null,"VALORES"]
[{"$nulls":4},"%","R$"]
["A","ENCARGOS SOCIAIS BÁSICOS",null,null,{"$f":"ROUND(SUM(E10:E18),4)","v":0.378},{"$f":"E9*'PFP1'!$H$17","v":14085.1872}]
["A1","Seconci",null,null,0.01,{"$f":"E10*'PFP1'!$H$17","v":372.62400000000002}]
["A2","INSS",null,null,0.2,{"$f":"E11*'PFP1'!$H$17","v":7452.4800000000005}]
["A3","FGTS",null,null,0.08,{"$f":"E12*'PFP1'!$H$17","v":2980.9920000000002}]
["A4","Incra",null,null,2E-3,{"$f":"E13*'PFP1'!$H$17","v":74.524799999999999}]
["A5","Salário Educação ",null,null,2.5000000000000001E-2,{"$f":"E14*'PFP1'!$H$17","v":931.56000000000006}]
["A6","Sebrae",null,null,6.0000000000000001E-3,{"$f":"E15*'PFP1'!$H$17","v":223.57440000000003}]
["A7","Seguro contra acidente",null,null,0.03,{"$f":"E16*'PFP1'!$H$17","v":1117.8720000000001}]
["A8","Senai",null,null,0.01,{"$f":"E17*'PFP1'!$H$17","v":372.62400000000002}]
["A9","Sesi",null,null,1.4999999999999999E-2,{"$f":"E18*'PFP1'!$H$17","v":558.93600000000004}]
["B"," ENCARGOS SOCIAIS QUE RECEBEM INCIDÊNCIA DE \"A\"",null,null,{"$f":"ROUND(SUM(E20:E29),4)","v":0.48420000000000002},{"$f":"E19*'PFP1'!$H$17","v":18042.454080000003}]
["B1","Repouso Semanal Remunerado",null,null,0.17749999999999999,{"$f":"E20*'PFP1'!$H$17","v":6614.076}]
["B2","Feriados",null,null,3.4099999999999998E-2,{"$f":"E21*'PFP1'!$H$17","v":1270.6478400000001}]
["B3","Auxílio Enfermidade",null,null,8.6E-3,{"$f":"E22*'PFP1'!$H$17","v":320.45663999999999}]
["B4","13º Salário",null,null,0.1062,{"$f":"E23*'PFP1'!$H$17","v":3957.2668800000001}]
["B5","Licença Patrnidade",null,null,6.9999999999999999E-4,{"$f":"E24*'PFP1'!$H$17","v":26.083680000000001}]
["B6","Faltas Justificadas",null,null,7.1000000000000004E-3,{"$f":"E25*'PFP1'!$H$17","v":264.56304}]
[null,"Dias de Chuva",null,null,1.3100000000000001E-2,{"$f":"E26*'PFP1'!$H$17","v":488.13744000000003}]
[null,"Auxílio Acidente de Trabalho",null,null,1.1000000000000001E-3,{"$f":"E27*'PFP1'!$H$17","v":40.988640000000004}]
[null,"Férias Gozadas",null,null,0.13550000000000001,{"$f":"E28*'PFP1'!$H$17","v":5049.0552000000007}]
["B7","Saário Maternidade",null,null,2.9999999999999997E-4,{"$f":"E29*'PFP1'!$H$17","v":11.17872}]
["C"," ENCARGOS SOCIAIS QUE NÃO RECEBEM INCIDÊNCIA DE \"A\"",null,null,{"$f":"ROUND(SUM(E31:E35),4)","v":8.7999999999999995E-2},{"$f":"E30*'PFP1'!$H$17","v":3279.0911999999998}]
["C1","Aviso Prévio Indenizado",null,null,4.1200000000000001E-2,{"$f":"E31*'PFP1'!$H$17","v":1535.2108800000001}]
["C2","Aviso Prévio Trabalhado",null,null,1E-3,{"$f":"E32*'PFP1'!$H$17","v":37.2624}]
["C3","Férias Indenizadas",null,null,4.5999999999999999E-3,{"$f":"E33*'PFP1'!$H$17","v":171.40703999999999}]
["C4","Depósito Rescisão Sem Justa Causa",null,null,3.7699999999999997E-2,{"$f":"E34*'PFP1'!$H$17","v":1404.7924800000001}]
["C5","Indenização Adicional",null,null,3.5000000000000001E-3,{"$f":"E35*'PFP1'!$H$17","v":130.41840000000002}]
["D"," REINCIDÊNCIAS",null,null,{"$f":"ROUND(SUM(E37:E38),4)","v":0.1867},{"$f":"E36*'PFP1'!$H$17","v":6956.8900800000001}]
["D1","Reincidência de \"A\" sobre \"B\"",null,null,0.183,{"$f":"E37*'PFP1'!$H$17","v":6819.0191999999997}]
["D2","Reincidência de \"A\" sobre Aviso Prévio Trabalhado e reincidência do FGTS sobre aviso prévio indenizado",null,null,3.7000000000000002E-3,{"$f":"E38*'PFP1'!$H$17","v":137.87088}]
["K1","ENCARGOS SOCIAIS",null,null,{"$f":"ROUND(E9+E19+E30+E36,4)","v":1.1369},{"$f":"E39*'PFP1'!$H$17","v":42363.622560000003}]
["Ka","TAXA DE RESSARCIMENTO DE DESPESAS E ENCARGOS SOBRE M.O.",null,null,{"$f":"ROUND((1+E39+PFP3_FatorKc!E15)*(1+PFP3_FatorKc!E14)*(1+PFP3_FatorKc!E10),4)","v":2.8717999999999999}]
["NOME DO INFORMANTE:",null,null,null,"QUALIFICAÇÃO"]
[{"$nulls":4},{"$f":"'PFP1'!H32","v":"Diretor Executivo"}]
["ASSINATURA:",null,null,null,"DATA:"]
[{"$nulls":4},{"$f":"'PFP1'!H34","v":"2021-11-29"}]
["OBSERVAÇÃO:"]
["1 - DISCRIMINAR OS ENCARGOS SOCIAIS COM SEUS RESPECTIVOS PERCENTUAS TOTALIZANDO OS MESMOS. "]
["2 - APLICAR O  % TOTAL P/ CALCULAR OS E. SOCIAIS INCIDENTES NA MÃO-DE-OBRA COM VÍNCULO PERMANENTE"]
["Ka - Taxa de Ressarcimento de Despesas e Encargos sobre a Mão de Obra COM VINCULO (incide apenas no Insumo Codigo M.O.)"]
["Ka = (1 + K1 + K2) x (1 + K3) x (1 + K4)"]

{"sheet":"PFP3_FatorKc","index":3,"n_rows":37,"n_cols":9,"rows_kept":37,"cut":false,"hidden":false,"merged":[[6,3,6,5],[6,0,7,2],[34,0,34,5],[14,1,14,3],[13,1,13,3],[10,1,10,2],[11,1,11,2],[12,1,12,2],[8,0,9,0],[8,1,9,2],[27,0,27,5],[0,0,1,4],[2,0,2,5],[5,0,5,1],[5,2,5,4],[4,2,4,4],[3,0,3,5],[35,0,35,5],[36,0,36,5],[18,1,18,3],[15,1,15,3],[16,1,16,3],[17,1,17,3],[23,0,23,5],[28,0,28,5],[29,0,29,5],[24,0,24,5],[25,0,25,5],[26,0,26,5],[30,0,30,5],[31,0,31,5],[32,0,32,5],[33,0,33,5]]}
["DESPESAS FISCAIS E CUSTOS DIVERSOS: Kc",{"$nulls":4},"CODIGO:"]
[{"$nulls":5},"PFP-3"]
["NOME DA EMPRESA:"]
[{"$f":"'PFP1'!$A$4:$I$4","v":"TECHNE Engenheiros Consultores Ltda."}]
["PROJETO:",null,"CONTRATANTE:",null,null,"EDITAL:"]
["CONTRATAÇÃO DE SERVIÇOS DE APOIO TÉCNICO, APOIO À FISCALIZAÇÃO, SUPERVISÃO TÉCNICA E CAPACITAÇÃO TÉCNICA, VISANDO A IMPLANTAÇÃO E ACOMPANHAMENTO DE AÇÕES DE DESENVOLVIMENTO REGIONAL NA ÁREA DE ATUAÇÃO DA CODEVASF NOS ESTADOS DO AMAPÁ, BAHIA, CEARÁ, GOIÁS, MARANHÃO, MATO GROSSO, MINAS GERAIS, PARÁ, PARAÍBA, PERNAMBUCO, PIAUÍ, RIO GRANDE DO NORTE, TOCANTINS E NO DISTRITO FEDERAL.",null,"CODEVASF (SEDE)",null,null,{"$f":"'PFP1'!$H$6","v":0},null,"referencia orgao"]
["DISCRIMINAÇÃO 1",null,null,"VALORES"]
[null,null,null,"% preço","% custo","R$",null,"% preço"]
["K4","DESPESAS FISCAIS",null,"K' (%)2","K (%)3",null,null,"K' (%)2"]
[null,null,null,{"$f":"ROUND(D11+D12+D13,4)","v":0.124},{"$f":"ROUND(E11+E12+E13,4)","v":0.1416},{"$f":"E10*SUM('PFP1'!$H$8*(1+PFP2.1_FatorKa!$E$36)+'PFP1'!$H$16*(1+PFP2.2_FatoKb!$E$39)+'PFP1'!$H$17+'PFP1'!$H$23+PFP3_FatorKc!$F$15+PFP3_FatorKc!$F$14)","v":1171583.8847231078},null,{"$f":"ROUND(H11+H12+H13,4)","v":0}]
[1,"ISS",null,0.05,{"$f":"ROUND((1/(1-$D$10))*D11,4)","v":5.7099999999999998E-2},{"$f":"E11*SUM('PFP1'!$H$8*(1+PFP2.1_FatorKa!$E$36)+'PFP1'!$H$16*(1+PFP2.2_FatoKb!$E$39)+'PFP1'!$H$17+'PFP1'!$H$23+PFP3_FatorKc!$F$15+PFP3_FatorKc!$F$14)","v":472439.54673509503}]
[2,"PIS - aliquota efetiva com percentual-desconto de 20%",null,{"$f":"ROUND(1.65%*0.8,4)","v":1.32E-2},{"$f":"ROUND((1/(1-$D$10))*D12,4)","v":1.5100000000000001E-2},{"$f":"E12*SUM('PFP1'!$H$8*(1+PFP2.1_FatorKa!$E$36)+'PFP1'!$H$16*(1+PFP2.2_FatoKb!$E$39)+'PFP1'!$H$17+'PFP1'!$H$23+PFP3_FatorKc!$F$15+PFP3_FatorKc!$F$14)","v":124935.85211383425}]
[3,"COFINS - aliquota efetiva com percentual-desconto de 20%",null,{"$f":"ROUND(7.6%*0.8,4)","v":6.08E-2},{"$f":"ROUND((1/(1-$D$10))*D13,4)","v":6.9400000000000003E-2},{"$f":"E13*SUM('PFP1'!$H$8*(1+PFP2.1_FatorKa!$E$36)+'PFP1'!$H$16*(1+PFP2.2_FatoKb!$E$39)+'PFP1'!$H$17+'PFP1'!$H$23+PFP3_FatorKc!$F$15+PFP3_FatorKc!$F$14)","v":574208.48587417859}]
["K3","REMUNERAÇÃO DA EMPRESA (LUCRO)",null,null,0.1,{"$f":"E14*SUM('PFP1'!$H$8*(1+PFP2.1_FatorKa!$E$36)+'PFP1'!$H$16*(1+PFP2.2_FatoKb!$E$36)+'PFP1'!$H$17+'PFP1'!$H$23+PFP3_FatorKc!$F$15)","v":748953.70531840005}]
["K2","CUSTOS DA ADMINISTRAÇÃO CENTRAL",null,null,{"$f":"ROUND(SUM(E16:E18),4)","v":0.15},{"$f":"ROUND(E15*('PFP1'!$H$8+'PFP1'!$H$16),2)","v":517164.34},null,null,0.15]
[4,"Custos da administração central da empresa (diretoria, pessoal técnico de apoio e pessoal administrativo não diretamente vinculado à prestação dos serviços)",null,null,0.1,{"$f":"ROUND(E16*('PFP1'!$H$8+'PFP1'!$H$16),2)","v":344776.22},null,null,0.1]
[5,"Outras despesas que afetam o custo de produção como treinamento, biblioteca, programa de qualidade, programa de benefícios, auditoria interna e externa",null,null,0.03,{"$f":"ROUND(E17*('PFP1'!$H$8+'PFP1'!$H$16),2)","v":103432.87},null,null,0.03]
[6,"Despesas fixas e variaveis com patrimônio, aluguéis, comunicação, manutenção e transporte não diretamente relacionados com o custo direto dos serviços",null,null,0.02,{"$f":"ROUND(E18*('PFP1'!$H$8+'PFP1'!$H$16),2)","v":68955.240000000005},null,null,0.02]
["Kc","TAXA RESSARCIMENTO DE DESPESAS SOBRE CUSTOS DIVERSOS",null,null,{"$f":"ROUND((1+E14)*(1+E10),4)","v":1.2558},null,null,null,1.1946000000000001]
["NOME DO INFORMANTE:",null,null,null,"QUALIFICAÇÃO:"]
[{"$f":"'PFP1'!$A$32:$G$32","v":0},null,null,null,{"$f":"'PFP1'!$H$32","v":"Diretor Executivo"}]
["ASSINATURA:",null,null,null,"DATA:"]
[{"$nulls":4},{"$f":"'PFP1'!$H$34","v":"2021-11-29"}]
["Observação:"]
["1 - RELACIONAR OS CUSTOS DE ADMINISTRAÇÃO COM RESPECTIVOS PERCENTUAIS INCIDENTES NA MÃO -DE-OBRA"]
["1 - DISCRIMINAR OS TRIBUTOS QUE INCIDEM SOBRE OS CUSTOS DA PRESTAÇÃO DOS SERVIÇOS"]
["2 - K4 = INDICAR % DE CADA TRIBUTO E A SOMA DOS MESMOS (ex: ISS 5% + PIS 1,65% + COFINS 7,6% = 14,25%)"]
["3 - PIS e COFINS, Regime de Incidencia Acumulativa (0,65% e 3,00% - sem percentual de desconto) ou em Regime de Incidencia Não Acumulativa (1,65% e 7,60% - aplicável percentual de desconto) de acordo com a forma de apuração do lucro no IRPJ. APRESENTAR COMPROVANTES de aproveitamento de créditos tributários dos últimos 12 meses em caso de aplicação de \"percentual de desconto\"."]
["4 - AS DESPESAS FISCAIS (K4) INCIDEM SOBRE O TOTAL DA FATURA E NÃO SOBRE OS CUSTOS INCORRIDOS, "]
["     DEVENDO SER CALCULADO O K4' APLICANDO-SE A SEGUINTE FÓRMULA:"]
["     K4' = { [ 1 / ( 1 - K4) ] - 1 } x 100"]
[{"$f":"CONCATENATE(\"     K4' = { [ 1 / ( 1 - \",D10,\" ) ] - 1 } x 100\")","v":"     K4' = { [ 1 / ( 1 - 0,124 ) ] - 1 } x 100"}]
["Kc - Taxa de Ressarcimento de Despesas sobre Custos Diversos (incide sobre os Insumos Codigo DP e EQ)"]
["Kc = (1 + K3) x (1 + K4)"]
["K2 - Incide sobre o Custo Total (CT) da Mão de Obra (MO)"]
["K3 - Incide sobre o Custo Total (CT) Mão de Obra com encargos (MO x Ka ou Kb), demais Custos (DP e EQ), e Custos da Administração Central (K2)"]
["K4 -  Incide sobre o Custo Total (CT) Mão de Obra com encargos (MO x Ka ou Kb), demais Custos (DP e EQ), e Custos da Administração Central (K2) e Lucro (K3)"]

{"sheet":"DQC","index":4,"n_rows":38,"n_cols":33,"rows_kept":38,"cut":false,"hidden":false,"merged":[[27,0,27,6],[27,7,27,8],[2,0,3,26],[23,0,23,4],[23,5,23,8],[24,0,24,4],[24,5,24,8],[0,0,1,25],[37,0,37,8],[32,0,32,8],[33,0,33,8],[34,0,34,8],[35,0,35,8],[36,0,36,8],[28,0,28,4],[29,0,29,6],[29,7,29,8],[30,0,30,8],[31,0,31,8],[25,0,25,4],[25,5,25,8],[26,0,26,4],[26,7,26,8]]}
["DETALHAMENTO DO QUANTITATIVOS CONTRATADOS",{"$nulls":25},"CODIGO:"]
[{"$nulls":26},"DQC"]
["INSUMOS POR ESTADO/PRODUTO"]
[]
["Cod.","Categoria / Insumo","Uni","Qde","CUD","PU","FatorK","CT","PT","SEDE- CODEVASF","1º/SR","2º/SR","3º/SR","4º/SR","5º/SR","6º/SR","7º/SR","8º/SR","9º/SR","10º/SR","PA","MT","PR/EAP","PR/ECE","PR/ERN","PR/EPB","Total"]
["MO","Mão de Obra com Vínculo",{"$nulls":5},{"$f":"SUM(H7:H12)","v":3410499.8400000003},{"$f":"SUM(I7:I12)","v":8054237.1600000011},{"$f":"(J7+J8+J9+J10+J12+J11)/12","v":15},{"$f":"(K7+K8+K9+K10+K12+K11)/12","v":3},0,2,0,0,2,3,{"$f":"(R7+R8+R9+R10+R12+R11)/12","v":2},4,2,2,0,2,3,3,2,{"$f":"SUM(J6:Z6)","v":45}]
["P1","Profissional Pleno - Coordenador","mês",{"$f":"AA7","v":12},13887.45,{"$f":"ROUND(E7*G7,2)","v":32796.6},{"$f":"PFP2.1_FatorKa!$E$37","v":2.3616000000000001},{"$f":"ROUND(D7*E7,2)","v":166649.4},{"$f":"ROUND(F7*D7,2)","v":393559.2},12,{"$nulls":16},{"$f":"SUM(J7:Z7)","v":12}]
["P2","Profissional Médio","mês",{"$f":"AA8","v":12},6417.36,{"$f":"ROUND(E8*G8,2)","v":15155.24},{"$f":"PFP2.1_FatorKa!$E$37","v":2.3616000000000001},{"$f":"ROUND(D8*E8,2)","v":77008.320000000007},{"$f":"ROUND(F8*D8,2)","v":181862.88},12,{"$nulls":16},12,null,"Total","Superior","Técnico"]
["P3","Profissional Júnior  - Técnico de campo","mês",240,9350,22080.959999999999,{"$f":"PFP2.1_FatorKa!$E$37","v":2.3616000000000001},2244000,{"$f":"ROUND(F9*D9,2)","v":5299430.4000000004},48,12,null,12,null,null,12,24,12,24,12,12,null,12,24,24,12,240,null,{"$f":"AD9+AE9","v":29},{"$f":"AA19/12","v":14},{"$f":"AA18/12","v":15},"Veículos",{"$f":"AA9/12","v":20}]
["P3","Profissional júnior - Geral","mês",{"$f":"AA10","v":36},6231.17,14715.53,{"$f":"PFP2.1_FatorKa!$E$37","v":2.3616000000000001},224322.12,{"$f":"ROUND(F10*D10,2)","v":529759.07999999996},36,{"$nulls":16},36,null,{"$f":"AD10+AE10","v":{"$error":"#REF!"}},{"$f":"(AA7+AA8+AA9+AA10+#REF!)/12","v":{"$error":"#REF!"}},{"$f":"(AA11+AA12+#REF!)/12","v":{"$error":"#REF!"}},"Profissionais",{"$f":"AA10/12","v":3}]
["T1","Técnico Pleno - Técnico de Campo ","mês",228,2910.5,6873.44,{"$f":"PFP2.1_FatorKa!$E$37","v":2.3616000000000001},663594,{"$f":"ROUND(F11*D11,2)","v":1567144.32},60,24,null,12,null,null,12,12,12,24,12,12,null,12,12,12,12,228,{"$nulls":5},19]
["T1","Técnico Pleno - Técnico Geral ","mês",12,2910.5,6873.44,{"$f":"PFP2.1_FatorKa!$E$37","v":2.3616000000000001},34926,{"$f":"ROUND(F12*D12,2)","v":82481.279999999999},12,{"$nulls":16},12]
["MO","Mão de Obra sem Vínculo (HORISTA)",{"$nulls":5},{"$f":"H14","v":37262.400000000001},{"$f":"I14","v":107010.4},{"$f":"J14","v":560},{"$nulls":16},{"$f":"SUM(J13:Z13)","v":560}]
["P2","Profissional Médio - horas de capacitação e treinamento","hora",{"$f":"AA14","v":560},66.540000000000006,{"$f":"ROUND(E14*G14,2)","v":191.09},{"$f":"PFP2.2_FatoKb!E40","v":2.8717999999999999},{"$f":"D14*E14","v":37262.400000000001},{"$f":"ROUND(F14*D14,2)","v":107010.4},{"$f":"40*14","v":560},{"$nulls":16},{"$f":"SUM(J14:Z14)","v":560}]
["DPV","Diárias, Passagens e Veículos",{"$nulls":5},{"$f":"SUM(H16:H19)","v":2052280.56},{"$f":"SUM(I16:I19)","v":2577259.84}]
["D1","Diárias","dia",{"$f":"AA16","v":1872},239,{"$f":"ROUND(E16*G16,2)","v":300.14},{"$f":"PFP3_FatorKc!$E$19","v":1.2558},{"$f":"ROUND(D16*E16,2)","v":447408},{"$f":"ROUND(F16*D16,2)","v":561862.07999999996},{"$f":"(J9+J11)*4","v":432},{"$f":"(K9+K11)*4","v":144},{"$f":"(L9+L11)*4","v":0},96,0,0,96,144,96,192,96,96,0,96,144,144,96,{"$f":"SUM(J16:Z16)","v":1872}]
["P1","Passagens Aéreas (ida e volta) - Brasília -área de atuação da Codevasf","un",{"$f":"AA17","v":16},1253.1600000000001,{"$f":"ROUND(E17*G17,2)","v":1573.72},{"$f":"PFP3_FatorKc!$E$19","v":1.2558},{"$f":"ROUND(D17*E17,2)","v":20050.560000000001},{"$f":"ROUND(F17*D17,2)","v":25179.52},16,{"$nulls":16},{"$f":"SUM(J17:Z17)","v":16}]
["V1","Saveiro Robust 1.6 Total Flex 8V ou similar","mês",{"$f":"AA18","v":180},3311.9,4159.08,{"$f":"PFP3_FatorKc!$E$19","v":1.2558},{"$f":"ROUND(D18*E18,2)","v":596142},{"$f":"ROUND(F18*D18,2)","v":748634.4},12,12,null,12,null,null,12,12,12,24,12,12,12,12,12,12,12,180]
["V2","Hilux CS 4x4 2.8 TDI Diesel Mec. ou similar","mês",{"$f":"AA19","v":168},{"$f":"5000+800+85","v":5885},7390.38,{"$f":"PFP3_FatorKc!$E$19","v":1.2558},{"$f":"ROUND(D19*E19,2)","v":988680},{"$f":"ROUND(F19*D19,2)","v":1241583.8400000001},12,{"$f":"K9","v":12},{"$f":"L9","v":0},12,0,0,12,12,12,12,12,12,0,12,12,24,12,{"$f":"SUM(J19:Z19)","v":168}]
["EM","Equipamentos e Materiais",{"$nulls":5},{"$f":"SUM(H21:H23)","v":86853.6},{"$f":"SUM(I21:I23)","v":109070.39999999999}]
["EM1","Notebook tela 14”, HD 1TB, memória RAM de 8GB ","un",{"$f":"AA21*12","v":480},120.46,{"$f":"ROUND(E21*G21,2)","v":151.27000000000001},{"$f":"PFP3_FatorKc!$E$19","v":1.2558},{"$f":"ROUND(D21*E21,2)","v":57820.800000000003},{"$f":"ROUND(F21*D21,2)","v":72609.600000000006},{"$f":"(J7+J9+J11)/12","v":10},{"$f":"(K9+K12++K11)/12","v":3},{"$f":"(L9+L12++L11)/12","v":0},2,0,0,2,3,2,4,2,2,0,2,3,3,2,{"$f":"SUM(J21:Z21)","v":40}]
["EM3","Modem ","mês",{"$f":"(AA22*12)/2","v":240},18.64,23.41,{"$f":"PFP3_FatorKc!$E$19","v":1.2558},{"$f":"ROUND(D22*E22,2)","v":4473.6000000000004},{"$f":"ROUND(F22*D22,2)","v":5618.4},{"$f":"J21","v":10},3,0,2,0,0,2,3,2,4,2,2,0,2,3,3,2,{"$f":"SUM(J22:Z22)","v":40}]
["EM4","Internet Móvel","mês",{"$f":"(AA23*12)/2","v":240},102.33,128.51,{"$f":"PFP3_FatorKc!$E$19","v":1.2558},24559.200000000001,30842.400000000001,{"$f":"J21","v":10},3,0,2,0,0,2,3,2,4,2,2,0,2,3,3,2,{"$f":"SUM(J23:Z23)","v":40}]
["TOTAL DOS CUSTOS DIRETOS",{"$nulls":4},{"$f":"H6+H13+H15+H20","v":5586896.4000000004}]
["TOTAL DOS ENCARGOS E DESPESAS DIVERSAS",{"$nulls":4},{"$f":"F26-F24","v":5260681.4000000022}]
["TOTAL DA PROPOSTA",{"$nulls":4},{"$f":"I6+I13+I15+I20","v":10847577.800000003}]
["NOME DO INFORMANTE:",{"$nulls":6},"QUALIFICAÇÃO:"]
[{"$f":"'PFP1'!$A$32:$G$32","v":0},{"$nulls":6},{"$f":"'PFP1'!$H$32:$I$32","v":"Diretor Executivo"}]
["ASSINATURA:",{"$nulls":6},"DATA:"]
[{"$nulls":7},{"$f":"'PFP1'!$H$34:$I$34","v":"2021-11-29"}]
["OBSERVAÇÃO:"]
["Uni - unidade de medição do insumo"]
["Qde - Quantidade do Insumo (não pode ocorrer alteração pela Licitante)"]
["CUD - Custo Unitário Direto do Insumo (sem encargos, taxas e impostos, valor não pode ser maior que o Orçado pela Codevasf)"]
["CT - Custo Total (sem encargos, taxas e impostos) - CT = Qde x CUD"]
["FatorK - Taxa de Ressarcimento de Despesas e Encargos (detalhar composição nas Planilhas \"FCON2.1\", \"FCON2.2\", \"FCON3\")"]
["PU - Preço Unitário (incluído encargos, taxas e impostos) - PU = CUD x FatorK"]
["PT - Preço Total (incluído encargos, taxas e impostos) - PT = Qde x PU"]

{"sheet":"CT_OS","index":5,"n_rows":51,"n_cols":9,"rows_kept":51,"cut":false,"hidden":false,"merged":[[24,0,24,8],[27,0,27,8],[33,0,33,8],[0,0,1,6],[0,7,0,8],[1,7,1,8],[2,0,2,6],[3,0,3,6],[3,7,3,8],[4,0,4,2],[4,3,4,6],[4,7,4,8],[5,0,5,2],[5,3,5,6],[5,7,5,8],[6,1,6,2],[6,3,6,4],[6,5,6,6],[6,7,6,8],[7,1,7,2],[7,3,7,4],[7,5,7,6],[7,7,7,8],[8,1,8,2],[8,3,8,4],[8,5,8,6],[8,7,8,8],[9,1,9,2],[9,3,9,4],[9,5,9,6],[9,7,9,8],[10,1,10,2],[10,3,10,4],[10,5,10,6],[10,7,10,8],[11,1,11,2],[11,3,11,4],[11,5,11,6],[11,7,11,8],[12,1,12,2],[12,3,12,4],[12,5,12,6],[12,7,12,8],[13,1,13,2],[13,3,13,4],[13,5,13,6],[13,7,13,8],[14,1,14,2],[14,3,14,4],[14,5,14,6],[14,7,14,8],[15,1,15,2],[15,3,15,4],[15,5,15,6],[15,7,15,8],[42,0,42,6],[42,7,42,8],[36,0,36,4],[36,5,36,8],[37,0,37,4],[37,5,37,8],[38,0,38,4],[38,5,38,8],[39,0,39,4],[39,7,39,8],[40,0,40,6],[40,7,40,8],[41,0,41,4],[49,0,49,8],[50,0,50,8],[43,0,43,8],[44,0,44,8],[45,0,45,8],[46,0,46,8],[47,0,47,8],[48,0,48,8]]}
["",{"$nulls":6},"CODIGO:"]
[{"$nulls":7},"O.S."]
["NOME DA EMPRESA:",{"$nulls":6},"N° O.S.:"]
[]
["PROJETO:",null,null,"CONTRATANTE:",null,null,null,"CONTRATO:"]
["CONTRATAÇÃO DE SERVIÇOS DE APOIO TÉCNICO, APOIO À FISCALIZAÇÃO, SUPERVISÃO TÉCNICA E CAPACITAÇÃO TÉCNICA, VISANDO A IMPLANTAÇÃO E ACOMPANHAMENTO DE AÇÕES DE DESENVOLVIMENTO REGIONAL NA ÁREA DE ATUAÇÃO DA CODEVASF NOS ESTADOS DO AMAPÁ, BAHIA, CEARÁ, GOIÁS, MARANHÃO, MATO GROSSO, MINAS GERAIS, PARÁ, PARAÍBA, PERNAMBUCO, PIAUÍ, RIO GRANDE DO NORTE, TOCANTINS E NO DISTRITO FEDERAL.",null,null,"CODEVASF (SEDE)"]
["Cod.","Produtos/Atividades",null,"Tipo",null,"Prazo",null,"Obs"]
{"$rows_empty":9}
["Cod.","Categoria / Insumo","Uni","Qde","CUD","PU","FatorK","CT","PT"]
[{"$f":"DQC!A6","v":"MO"},{"$f":"DQC!B6","v":"Mão de Obra com Vínculo"},{"$nulls":5},{"$f":"SUM(H19:H24)","v":0},{"$f":"SUM(I19:I24)","v":0}]
[{"$f":"DQC!A7","v":"P1"},{"$f":"DQC!B7","v":"Profissional Pleno - Coordenador"},{"$f":"DQC!C7","v":"mês"}]
[{"$f":"DQC!A8","v":"P2"},{"$f":"DQC!B8","v":"Profissional Médio"},{"$f":"DQC!C8","v":"mês"}]
[{"$f":"DQC!A9","v":"P3"},{"$f":"DQC!B9","v":"Profissional Júnior  - Técnico de campo"},{"$f":"DQC!C9","v":"mês"}]
[{"$f":"DQC!A10","v":"P3"},{"$f":"DQC!B10","v":"Profissional júnior - Geral"},{"$f":"DQC!C10","v":"mês"}]
[{"$f":"DQC!A11","v":"T1"},{"$f":"DQC!B11","v":"Técnico Pleno - Técnico de Campo "},{"$f":"DQC!C11","v":"mês"}]
[{"$f":"DQC!A12","v":"T1"},{"$f":"DQC!B12","v":"Técnico Pleno - Técnico Geral "},{"$f":"DQC!C12","v":"mês"}]
[]
["MO",{"$f":"'PFP1'!B16","v":"Mão de Obra sem Vínculo (HORISTA)"},{"$nulls":5},{"$f":"SUM(H27)","v":0},{"$f":"SUM(I27)","v":0}]
[{"$f":"'PFP1'!A17","v":"P2"},{"$f":"'PFP1'!B17","v":"Profissional Médio - horas de capacitação e treinamento"},{"$f":"'PFP1'!C17","v":"Horas"}]
[]
[{"$f":"'PFP1'!A19","v":"DPV"},{"$f":"'PFP1'!B19","v":"Diárias, Passagens e Veículos"},{"$nulls":5},{"$f":"SUM(H30:H33)","v":0},{"$f":"SUM(I30:I33)","v":0}]
[{"$f":"'PFP1'!A20","v":"D1"},{"$f":"'PFP1'!B20","v":"Diárias"},{"$f":"'PFP1'!C20","v":"dia"}]
[{"$f":"'PFP1'!A21","v":"P1"},{"$f":"'PFP1'!B21","v":"Passagens Aéreas (ida e volta) - Brasília -área de atuação da Codevasf"},{"$f":"'PFP1'!C21","v":"un"}]
[{"$f":"'PFP1'!A22","v":"V1"},{"$f":"'PFP1'!B22","v":"Saveiro Robust 1.6 Total Flex 8V ou similar"},{"$f":"'PFP1'!C22","v":"mês"}]
[{"$f":"'PFP1'!A23","v":"V2"},{"$f":"'PFP1'!B23","v":"Hilux CS 4x4 2.8 TDI Diesel Mec. ou similar"},{"$f":"'PFP1'!C23","v":"mês"}]
[]
[{"$f":"'PFP1'!A24","v":"EM"},{"$f":"'PFP1'!B24","v":"Equipamentos e Materiais"},{"$nulls":5},{"$f":"SUM(H36:H36)","v":0},{"$f":"SUM(I36:I36)","v":0}]
[{"$f":"'PFP1'!A25","v":"EM1"},{"$f":"'PFP1'!B25","v":"Notebook tela 14”, HD 1TB, memória RAM de 8GB "},"un"]
["TOTAL DOS CUSTOS DIRETOS",{"$nulls":4},{"$f":"H18+H26+H29+H35","v":0}]
["TOTAL DOS ENCARGOS E DESPESAS DIVERSAS",{"$nulls":4},{"$f":"F39-F37","v":0}]
["TOTAL DA PROPOSTA",{"$nulls":4},{"$f":"I18+I26+I29+I35","v":0}]
["NOME DO INFORMANTE:",{"$nulls":6},"QUALIFICAÇÃO"]
[]
["ASSINATURA:",{"$nulls":6},"DATA:"]
[]
["OBSERVAÇÃO:"]
["Un - unidade de medição do insumo;"]
["Qde - Quantidade do Insumo (não pode ocorrer alteração pela Licitante)"]
["CUD - Custo Unitário Direto do Insumo (sem encargos, taxas e impostos, valor não pode ser maior que o Orçado pela Codevasf)"]
["CT - Custo Total (sem encargos, taxas e impostos) - CT = Qde x CUD"]
["FatorK - Taxa de Ressarcimento de Despesas e Encargos (detalhar composição nas Planilhas \"FCON2.1\", \"FCON2.2\", \"FCON3\")"]
["PU - Preço Unitário (incluído encargos, taxas e impostos) - PU = CUD x FatorK"]
["PT - Preço Total (incluído encargos, taxas e impostos) - PT = Qde x PU"]

{"sheet":"CT_RAM","index":6,"n_rows":41,"n_cols":8,"rows_kept":41,"cut":false,"hidden":false,"merged":[[4,0,4,2],[4,3,4,6],[4,7,4,8],[5,0,5,2],[5,3,5,6],[5,7,5,8],[0,0,1,6],[0,7,0,8],[1,7,1,8],[2,0,2,6],[3,0,3,6],[3,7,3,8],[8,1,8,2],[8,3,8,4],[8,5,8,6],[8,7,8,8],[9,1,9,2],[9,3,9,4],[9,5,9,6],[9,7,9,8],[6,1,6,2],[6,3,6,4],[6,5,6,6],[6,7,6,8],[7,1,7,2],[7,3,7,4],[7,5,7,6],[7,7,7,8],[12,1,12,2],[12,3,12,4],[12,5,12,6],[12,7,12,8],[13,1,13,2],[13,3,13,4],[13,5,13,6],[13,7,13,8],[10,1,10,2],[10,3,10,4],[10,5,10,6],[10,7,10,8],[11,1,11,2],[11,3,11,4],[11,5,11,6],[11,7,11,8],[16,1,16,2],[16,3,16,4],[16,5,16,6],[16,7,16,8],[17,1,17,2],[17,3,17,4],[17,5,17,6],[17,7,17,8],[14,1,14,2],[14,3,14,4],[14,5,14,6],[14,7,14,8],[15,1,15,2],[15,3,15,4],[15,5,15,6],[15,7,15,8],[20,1,20,2],[20,3,20,4],[20,5,20,6],[20,7,20,8],[21,1,21,2],[21,3,21,4],[21,5,21,6],[21,7,21,8],[18,1,18,2],[18,3,18,4],[18,5,18,6],[18,7,18,8],[19,1,19,2],[19,3,19,4],[19,5,19,6],[19,7,19,8],[25,1,25,2],[25,3,25,4],[25,5,25,6],[25,7,25,8],[26,1,26,2],[26,3,26,4],[26,5,26,6],[26,7,26,8],[22,1,22,2],[22,3,22,4],[22,5,22,6],[22,7,22,8],[24,1,24,2],[24,3,24,4],[24,5,24,6],[24,7,24,8],[23,1,23,2],[23,3,23,4],[23,5,23,6],[23,7,23,8],[29,0,29,4],[29,5,29,8],[30,0,30,4],[31,0,31,4],[32,0,32,4],[33,0,33,4],[27,1,27,2],[27,3,27,4],[27,5,27,6],[27,7,27,8],[28,1,28,2],[28,3,28,4],[28,5,28,6],[28,7,28,8],[30,5,30,6],[31,5,31,6],[32,5,32,6],[33,5,33,6],[30,7,30,8],[31,7,31,8],[32,7,32,8],[33,7,33,8],[41,0,43,8],[37,0,37,6],[37,7,37,8],[38,0,38,4],[39,0,39,4],[39,7,39,8],[40,0,40,8],[34,0,34,4],[34,5,34,8],[35,0,35,4],[35,5,35,8],[36,0,36,4],[36,7,36,8]]}
["RELATÓRIO DE ACOMPANHAMENTO E MEDIÇÃO",{"$nulls":6},"CODIGO:"]
[{"$nulls":7},"RAM"]
["NOME DA EMPRESA:",{"$nulls":6},"N° RAM:"]
[]
["PROJETO:",null,null,"CONTRATANTE:",null,null,null,"CONTRATO:"]
["CONTRATAÇÃO DE SERVIÇOS DE APOIO TÉCNICO, APOIO À FISCALIZAÇÃO, SUPERVISÃO TÉCNICA E CAPACITAÇÃO TÉCNICA, VISANDO A IMPLANTAÇÃO E ACOMPANHAMENTO DE AÇÕES DE DESENVOLVIMENTO REGIONAL NA ÁREA DE ATUAÇÃO DA CODEVASF NOS ESTADOS DO AMAPÁ, BAHIA, CEARÁ, GOIÁS, MARANHÃO, MATO GROSSO, MINAS GERAIS, PARÁ, PARAÍBA, PERNAMBUCO, PIAUÍ, RIO GRANDE DO NORTE, TOCANTINS E NO DISTRITO FEDERAL.",null,null,"CODEVASF (SEDE)"]
["Cod.","Produtos Demandados",null,"Tipo",null,"Prazo",null,"Obs"]
{"$rows_empty":8}
["Cod.","Produtos Executados",null,"Tipo",null,"Prazo",null,"Obs"]
{"$rows_empty":8}
["Cod.","Infrações Constatadas",null,"Tipo",null,"Sanção",null,"Valor"]
[]
[]
[]
[]
["N° de Atividades Demandadas"]
["N° de Atividades Entregues"]
["Grau de Execução das Atividades Programadas (GEAP)"]
["Fator de Ajuste no Pagamento"]
["Multas e descontos"]
["TOTAL DA ORDEM DE SERVIÇO"]
["TOTAL DA ORDEM DE PAGAMENTO"]
["FISCAL:",{"$nulls":6},"SETOR:"]
[]
["ASSINATURA:",{"$nulls":6},"DATA:"]
[]
["OBSERVAÇÕES:"]

{"sheet":"CT_CV","index":7,"n_rows":50,"n_cols":8,"rows_kept":50,"cut":false,"hidden":false,"merged":[[7,0,7,7],[0,0,1,5],[0,6,0,7],[1,6,1,7],[2,0,2,7],[3,0,3,7],[4,0,4,2],[4,3,4,5],[4,6,4,7],[5,0,5,2],[5,3,5,5],[5,6,5,7],[6,0,6,1],[6,2,6,7],[8,2,8,3],[8,4,8,5],[8,6,8,7],[9,0,9,1],[9,2,9,3],[9,4,9,5],[9,6,9,7],[10,0,10,7],[11,0,11,1],[11,2,11,3],[11,4,11,5],[12,0,12,1],[12,2,12,3],[12,4,12,5],[13,0,13,1],[13,2,13,3],[13,4,13,5],[14,0,14,1],[14,2,14,3],[14,4,14,5],[15,0,15,1],[15,2,15,3],[15,4,15,5],[16,0,16,1],[16,2,16,3],[16,4,16,5],[28,1,28,7],[17,1,17,7],[18,1,18,7],[19,1,19,7],[20,1,20,7],[21,1,21,7],[22,1,22,7],[23,1,23,7],[24,1,24,7],[25,1,25,7],[26,1,26,7],[27,1,27,7],[39,0,39,5],[39,6,39,7],[29,1,29,7],[30,1,30,7],[31,1,31,7],[32,1,32,7],[33,1,33,7],[34,1,34,7],[35,1,35,7],[36,1,36,7],[37,4,37,7],[38,0,38,3],[38,4,38,7],[46,0,46,7],[47,0,47,7],[48,0,48,7],[49,0,49,7],[40,0,40,5],[40,6,40,7],[42,6,42,7],[43,0,43,7],[44,0,44,7],[45,0,45,7]]}
["FICHA CURRICULAR DA EQUIPE TÉCNICA",{"$nulls":5},"CODIGO:"]
[{"$nulls":6},"CV"]
["NOME DA EMPRESA:"]
[]
["PROJETO:",null,null,"CONTRATANTE:",null,null,"EDITAL:"]
["CONTRATAÇÃO DE SERVIÇOS DE APOIO TÉCNICO, APOIO À FISCALIZAÇÃO, SUPERVISÃO TÉCNICA E CAPACITAÇÃO TÉCNICA, VISANDO A IMPLANTAÇÃO E ACOMPANHAMENTO DE AÇÕES DE DESENVOLVIMENTO REGIONAL NA ÁREA DE ATUAÇÃO DA CODEVASF NOS ESTADOS DO AMAPÁ, BAHIA, CEARÁ, GOIÁS, MARANHÃO, MATO GROSSO, MINAS GERAIS, PARÁ, PARAÍBA, PERNAMBUCO, PIAUÍ, RIO GRANDE DO NORTE, TOCANTINS E NO DISTRITO FEDERAL.",null,null,"CODEVASF (SEDE)"]
["NOME DO PROFISSIONAL:"]
[]
["ATUAÇÃO NO PROJETO:",null,"FORMAÇÃO PRINCIPAL:",null," NASCIMENTO:",null,"NACIONALIDADE:"]
[]
["FORMAÇÃO"]
["ESCOLARIDADE",null,"ENTIDADE",null,"CIDADE",null,"DURAÇÃO","ANO CONCL."]
["Técnico (título)",null,"Escola",null,"Cidade",null,"X anos","AAAA"]
["Superior (título)",null,"Universidade",null,"Cidade",null,"X anos","AAAA"]
["Especialização (título)",null,"Universidade",null,"Cidade",null,"X anos","AAAA"]
["Mestrado (título)",null,"Universidade",null,"Cidade",null,"X anos","AAAA"]
["Doutorado (título)",null,"Universidade",null,"Cidade",null,"X anos","AAAA"]
["PERIODO","CAPACIDADE TÉCNICA - EXPERIÊNCIA PROFISSIONAL"]
["(MM/AA a MM/AA)","(Empresa, cargo ou função, cidade)"]
[]
[]
[]
[]
[]
["CAT","CAPACIDADE TÉCNICA - SERVIÇO OU OBRA"]
["(nº da ART ou CAT)","(Objeto resumido, quantificação, contratante, cidade)"]
[]
[]
[]
[]
[]
["ANO","CAPACIDADE TECNOLÓGICA - CERTIFICADO"]
["(AAAA)","(Nome do curso, empresa de treinamento, carga horaria em hs, cidade)"]
[]
[]
[]
[]
["CONCORDO EM PARTICIPAR DESTE OBJETO (ASSINATURA):",null,null,null,"Nº DO REGISTRO PROFISSIONAL:"]
[]
["NOME DO INFORMANTE:",{"$nulls":5},"QUALIFICAÇÃO"]
[]
["ASSINATURA:",{"$nulls":5},"DATA:"]
[]
["OBSERVAÇÃO:"]
["1 – PREENCHER UMA FICHA PARA CADA PROFISSIONAL DA EQUIPE CHAVE (ESPECIALISTAS) E COMPLEMENTAR (ANALISTAS)"]
["2 – JUNTAR COMPROVANTES DE ESCOLARIDADE"]
["3 – JUNTAR OS COMPROVANTES DA EXP. PROFISSIONAL, CERTIFICADOS PELA UNIDADE PROFISSIONAL COMPETENTE"]
["4 – JUNTAR OS COMPROVANTES DE CAPACIDADE TECNICA, RELATIVO AOS CAT DE SERVIÇOS SIMILARES OU CORRELATOS, CONFORME, ITEM 10."]
["5 – JUNTAR OS COMPROVANTES DE CAPACIDADE TECNOLOGICA, CONFORME ITEM 10."]
["6 – ITENS EM VERMELHO SÃO APENAS INSTRUÇÃO DE PREENCHIMENTO E DEVEM SER APAGADOS."]

{"sheet":"Formulário modelo da proposta","index":8,"n_rows":42,"n_cols":9,"rows_kept":42,"cut":false,"hidden":false,"merged":[[37,0,37,8],[38,0,38,8],[39,0,39,8],[40,0,40,8],[41,0,41,8],[36,0,36,8],[29,0,29,4],[29,5,29,8],[30,0,30,4],[30,7,30,8],[31,0,31,6],[31,7,31,8],[32,0,32,4],[33,0,33,6],[33,7,33,8],[34,0,34,8],[35,0,35,8],[28,0,28,4],[28,5,28,8],[0,0,1,6],[0,7,0,8],[1,7,1,8],[2,0,2,8],[3,0,3,8],[4,0,4,2],[4,3,4,6],[4,7,4,8],[5,0,5,2],[5,3,5,6],[5,7,5,8],[27,0,27,4],[27,5,27,8]]}
["PROPOSTA FINANCEIRA DO PROJETO",{"$nulls":6},"CODIGO:"]
[{"$nulls":7},"PFP-1"]
["NOME DA EMPRESA:"]
["TECHNE Engenheiros Consultores Ltda."]
["PROJETO:",null,null,"CONTRATANTE:",null,null,null,"EDITAL:"]
["CONTRATAÇÃO DE SERVIÇOS DE APOIO TÉCNICO, APOIO À FISCALIZAÇÃO, SUPERVISÃO TÉCNICA E CAPACITAÇÃO TÉCNICA, VISANDO A IMPLANTAÇÃO E ACOMPANHAMENTO DE AÇÕES DE DESENVOLVIMENTO REGIONAL NA ÁREA DE ATUAÇÃO DA CODEVASF NOS ESTADOS DO AMAPÁ, BAHIA, CEARÁ, GOIÁS, MARANHÃO, MATO GROSSO, MINAS GERAIS, PARÁ, PARAÍBA, PERNAMBUCO, PIAUÍ, RIO GRANDE DO NORTE, TOCANTINS E NO DISTRITO FEDERAL.",null,null,"CODEVASF (SEDE)"]
["Cod.","Categoria / Insumo","Uni","Qde","CUD","PU","FatorK","CT","PT"]
["MO","Mão de Obra com Vínculo",{"$nulls":5},{"$f":"SUM(H9:H14)","v":0},{"$f":"SUM(I9:I14)","v":0}]
["P1","Profissional Pleno - Coordenador","mês",12,0,{"$f":"ROUND(E9*G9,2)","v":0},{"$f":"PFP2.1_FatorKa!$E$37","v":2.3616000000000001},{"$f":"ROUND(D9*E9,2)","v":0},{"$f":"ROUND(F9*D9,2)","v":0}]
["P2","Profissional Médio","mês",12,0,{"$f":"ROUND(E10*G10,2)","v":0},{"$f":"PFP2.1_FatorKa!$E$37","v":2.3616000000000001},{"$f":"ROUND(D10*E10,2)","v":0},{"$f":"ROUND(F10*D10,2)","v":0}]
["P3","Profissional Júnior  - Técnico de campo","mês",216,0,0,{"$f":"PFP2.1_FatorKa!$E$37","v":2.3616000000000001},0,0]
["P3","Profissional júnior - Geral","mês",36,0,0,{"$f":"PFP2.1_FatorKa!$E$37","v":2.3616000000000001},0,0]
["T1","Técnico Pleno - Técnico de Campo ","mês",180,0,0,{"$f":"PFP2.1_FatorKa!$E$37","v":2.3616000000000001},0,0]
["T1","Técnico Pleno - Técnico Geral ","mês",12,0,0,{"$f":"PFP2.1_FatorKa!$E$37","v":2.3616000000000001},0,0]
[]
["MO","Mão de Obra sem Vínculo (HORISTA)",{"$nulls":5},{"$f":"SUM(H17)","v":0},{"$f":"SUM(I17:K17)","v":0}]
["P2","Profissional Médio - horas de capacitação e treinamento","Horas",{"$f":"DQC!D14","v":560},0,{"$f":"ROUND(E17*G17,2)","v":0},{"$f":"PFP2.2_FatoKb!E40","v":2.8717999999999999},{"$f":"ROUND(D17*E17,2)","v":0},{"$f":"ROUND(F17*D17,2)","v":0}]
[]
["DPV","Diárias, Passagens e Veículos",{"$nulls":5},{"$f":"SUM(H20:H23)","v":0},{"$f":"SUM(I20:I23)","v":0}]
["D1","Diárias","dia",{"$f":"DQC!D16","v":1872},0,{"$f":"ROUND(E20*G20,2)","v":0},{"$f":"PFP3_FatorKc!$E$19","v":1.2558},{"$f":"ROUND(D20*E20,2)","v":0},{"$f":"ROUND(F20*D20,2)","v":0}]
["P1","Passagens Aéreas (ida e volta) - Brasília -área de atuação da Codevasf","un",{"$f":"DQC!D17","v":16},0,{"$f":"ROUND(E21*G21,2)","v":0},{"$f":"PFP3_FatorKc!$E$19","v":1.2558},{"$f":"ROUND(D21*E21,2)","v":0},{"$f":"ROUND(F21*D21,2)","v":0}]
["V1","Saveiro Robust 1.6 Total Flex 8V ou similar","mês",{"$f":"DQC!D18","v":180},0,0,{"$f":"PFP3_FatorKc!$E$19","v":1.2558},0,0]
["V2","Hilux CS 4x4 2.8 TDI Diesel Mec. ou similar","mês",{"$f":"DQC!D19","v":168},0,0,{"$f":"PFP3_FatorKc!$E$19","v":1.2558},0,0]
["EM","Equipamentos e Materiais",{"$nulls":5},{"$f":"SUM(H25:H27)","v":0},{"$f":"SUM(I25:I27)","v":0}]
["EM1","Notebook tela 14”, HD 1TB, memória RAM de 8GB ","un",{"$f":"DQC!D21","v":480},0,{"$f":"ROUND(E25*G25,2)","v":0},{"$f":"PFP3_FatorKc!$E$19","v":1.2558},{"$f":"ROUND(D25*E25,2)","v":0},{"$f":"ROUND(F25*D25,2)","v":0}]
["EM3","Modem ","un",{"$f":"DQC!D22","v":240},0,{"$f":"ROUND(E26*G26,2)","v":0},{"$f":"PFP3_FatorKc!$E$19","v":1.2558},{"$f":"ROUND(D26*E26,2)","v":0},{"$f":"ROUND(F26*D26,2)","v":0}]
["EM4","Internet Móvel","un",{"$f":"DQC!D23","v":240},0,0,{"$f":"PFP3_FatorKc!$E$19","v":1.2558},0,0]
["TOTAL DOS CUSTOS DIRETOS",{"$nulls":4},{"$f":"H8+H16+H19+H24","v":0}]
["TOTAL DOS ENCARGOS E DESPESAS DIVERSAS",{"$nulls":4},{"$f":"F30-F28","v":0}]
["TOTAL DA PROPOSTA",{"$nulls":4},{"$f":"I8+I16+I19+I24","v":0}]
["NOME DO INFORMANTE:",{"$nulls":6},"QUALIFICAÇÃO"]
[{"$nulls":7},"Diretor Executivo"]
["ASSINATURA:",{"$nulls":6},"DATA:"]
[{"$nulls":7},"2021-11-29"]
["OBSERVAÇÃO:"]
["Un - unidade de medição do insumo;"]
["Qde - Quantidade do Insumo (não pode ocorrer alteração pela Licitante)"]
["CUD - Custo Unitário Direto do Insumo (sem encargos, taxas e impostos, valor não pode ser maior que o Orçado pela Codevasf)"]
["CT - Custo Total (sem encargos, taxas e impostos) - CT = Qde x CUD"]
["FatorK - Taxa de Ressarcimento de Despesas e Encargos (detalhar composição nas Planilhas \"FCON2.1\", \"FCON2.2\", \"FCON3\")"]
["PU - Preço Unitário (incluído encargos, taxas e impostos) - PU = CUD x FatorK"]
["PT - Preço Total (incluído encargos, taxas e impostos) - PT = Qde x PU"]